BEGIN:VCALENDAR
VERSION:2.0
PRODID:-//Notorious Jazz - ECPv6.15.17//NONSGML v1.0//EN
CALSCALE:GREGORIAN
METHOD:PUBLISH
X-WR-CALNAME:Notorious Jazz
X-ORIGINAL-URL:https://notoriousjazz.com
X-WR-CALDESC:Events for Notorious Jazz
REFRESH-INTERVAL;VALUE=DURATION:PT1H
X-Robots-Tag:noindex
X-PUBLISHED-TTL:PT1H
BEGIN:VTIMEZONE
TZID:America/New_York
BEGIN:DAYLIGHT
TZOFFSETFROM:-0500
TZOFFSETTO:-0400
TZNAME:EDT
DTSTART:20230312T070000
END:DAYLIGHT
BEGIN:STANDARD
TZOFFSETFROM:-0400
TZOFFSETTO:-0500
TZNAME:EST
DTSTART:20231105T060000
END:STANDARD
BEGIN:DAYLIGHT
TZOFFSETFROM:-0500
TZOFFSETTO:-0400
TZNAME:EDT
DTSTART:20240310T070000
END:DAYLIGHT
BEGIN:STANDARD
TZOFFSETFROM:-0400
TZOFFSETTO:-0500
TZNAME:EST
DTSTART:20241103T060000
END:STANDARD
BEGIN:DAYLIGHT
TZOFFSETFROM:-0500
TZOFFSETTO:-0400
TZNAME:EDT
DTSTART:20250309T070000
END:DAYLIGHT
BEGIN:STANDARD
TZOFFSETFROM:-0400
TZOFFSETTO:-0500
TZNAME:EST
DTSTART:20251102T060000
END:STANDARD
END:VTIMEZONE
BEGIN:VEVENT
DTSTART;TZID=America/New_York:20240120T223000
DTEND;TZID=America/New_York:20240120T235900
DTSTAMP:20260423T044941
CREATED:20240104T214921Z
LAST-MODIFIED:20240104T214921Z
UID:38564-1705789800-1705795140@notoriousjazz.com
SUMMARY:NICK COLLINS SEXTET
DESCRIPTION:Drummer and bandleader Nick Collins is proud to present his sextet at the Blue LLama Jazz Club\, featuring a fun variety of high-energy modern\, classic\, and original jazz. With deep roots in Ann Arbor\, Nick lived and played music in New York City from 1998 to 2004\, and returned to his hometown in 2004 to start a family. This dynamic sextet features internationally renowned locals Dwight Adams on trumpet\, Tim Haldeman on tenor saxophone\, Rick Roe on piano\, and Jeff Pedraz on bass. Over the years Nick has played with other local legends such as Randy Napoleon\, Josef Deas\, Vincent Chandler\, Glenn Tucker\, Dan Bennett\, and Justin Walter. \nThere is no cover and reservations are not required for this show.
URL:https://notoriousjazz.com/event/nick-collins-sextet
LOCATION:The Blue Llama\, 314 S Main Street\, Ann Arbor\, MI\, 48104\, United States
CATEGORIES:Club
END:VEVENT
END:VCALENDAR