BEGIN:VCALENDAR
VERSION:2.0
PRODID:-//Notorious Jazz - ECPv6.15.17//NONSGML v1.0//EN
CALSCALE:GREGORIAN
METHOD:PUBLISH
X-WR-CALNAME:Notorious Jazz
X-ORIGINAL-URL:https://notoriousjazz.com
X-WR-CALDESC:Events for Notorious Jazz
REFRESH-INTERVAL;VALUE=DURATION:PT1H
X-Robots-Tag:noindex
X-PUBLISHED-TTL:PT1H
BEGIN:VTIMEZONE
TZID:America/New_York
BEGIN:DAYLIGHT
TZOFFSETFROM:-0500
TZOFFSETTO:-0400
TZNAME:EDT
DTSTART:20230312T070000
END:DAYLIGHT
BEGIN:STANDARD
TZOFFSETFROM:-0400
TZOFFSETTO:-0500
TZNAME:EST
DTSTART:20231105T060000
END:STANDARD
BEGIN:DAYLIGHT
TZOFFSETFROM:-0500
TZOFFSETTO:-0400
TZNAME:EDT
DTSTART:20240310T070000
END:DAYLIGHT
BEGIN:STANDARD
TZOFFSETFROM:-0400
TZOFFSETTO:-0500
TZNAME:EST
DTSTART:20241103T060000
END:STANDARD
BEGIN:DAYLIGHT
TZOFFSETFROM:-0500
TZOFFSETTO:-0400
TZNAME:EDT
DTSTART:20250309T070000
END:DAYLIGHT
BEGIN:STANDARD
TZOFFSETFROM:-0400
TZOFFSETTO:-0500
TZNAME:EST
DTSTART:20251102T060000
END:STANDARD
END:VTIMEZONE
BEGIN:VEVENT
DTSTART;TZID=America/New_York:20240816T170000
DTEND;TZID=America/New_York:20240818T230000
DTSTAMP:20260422T155623
CREATED:20240704T213740Z
LAST-MODIFIED:20240704T213740Z
UID:41529-1723827600-1724022000@notoriousjazz.com
SUMMARY:THE BAYLOR PROJECT
DESCRIPTION:The Baylor Project: A husband. A wife. An astonishing debut… featuring Jean Baylor and Marcus Baylor highly anticipated collaboration is steeped in the heart and soul of Jazz. As the children of Pastors\, Marcus and Jean’s musical roots were planted deep within the church\, and it was there that the road was paved for the influence of gospel\, blues\, soul\, and jazz to make it’s mark. Their debut CD “The Journey”\, released on their own label\, Be A Light\, topped the Billboard Jazz Chart at number 8\, solidifying The Baylor Project as an undeniable force. They nabbed a 2024 GRAMMY® nomination for Best Jazz Performance for their live performance of “Vulnerable” featuring Adam Blackstone & Russell Ferrante. As you listen to “The Baylor Project\,” you will be taken on an eclectic musical journey that showcases as much versatility as it does virtuosity. \nFriday 8/16  ~ 7:00 pm w/Live Stream | 9:30 pm\nSaturday 8/17 ~ 6:00 pm w/Live Stream | 8:30 pm\nSunday 8/18 ~ 5:00 pm w/Live Stream | 7:30 pm
URL:https://notoriousjazz.com/event/the-baylor-project-3
LOCATION:Keystone Korner Baltimore\, 1350 Lancaster Street\, Baltimore\, MD\, 21231\, United States
CATEGORIES:Club
ATTACH;FMTTYPE=image/png:https://notoriousjazz.com/wp-content/uploads/2024/07/THE-BAYLOR-PROJECT.png
END:VEVENT
END:VCALENDAR