BEGIN:VCALENDAR
VERSION:2.0
PRODID:-//Notorious Jazz - ECPv6.15.17//NONSGML v1.0//EN
CALSCALE:GREGORIAN
METHOD:PUBLISH
X-ORIGINAL-URL:https://notoriousjazz.com
X-WR-CALDESC:Events for Notorious Jazz
REFRESH-INTERVAL;VALUE=DURATION:PT1H
X-Robots-Tag:noindex
X-PUBLISHED-TTL:PT1H
BEGIN:VTIMEZONE
TZID:America/New_York
BEGIN:DAYLIGHT
TZOFFSETFROM:-0500
TZOFFSETTO:-0400
TZNAME:EDT
DTSTART:20230312T070000
END:DAYLIGHT
BEGIN:STANDARD
TZOFFSETFROM:-0400
TZOFFSETTO:-0500
TZNAME:EST
DTSTART:20231105T060000
END:STANDARD
BEGIN:DAYLIGHT
TZOFFSETFROM:-0500
TZOFFSETTO:-0400
TZNAME:EDT
DTSTART:20240310T070000
END:DAYLIGHT
BEGIN:STANDARD
TZOFFSETFROM:-0400
TZOFFSETTO:-0500
TZNAME:EST
DTSTART:20241103T060000
END:STANDARD
BEGIN:DAYLIGHT
TZOFFSETFROM:-0500
TZOFFSETTO:-0400
TZNAME:EDT
DTSTART:20250309T070000
END:DAYLIGHT
BEGIN:STANDARD
TZOFFSETFROM:-0400
TZOFFSETTO:-0500
TZNAME:EST
DTSTART:20251102T060000
END:STANDARD
END:VTIMEZONE
BEGIN:VEVENT
DTSTART;TZID=America/New_York:20241108T190000
DTEND;TZID=America/New_York:20241108T210000
DTSTAMP:20260422T094722
CREATED:20241103T170429Z
LAST-MODIFIED:20241103T171758Z
UID:43255-1731092400-1731099600@notoriousjazz.com
SUMMARY:RON SAVAGE
DESCRIPTION:The Ron Savage Berklee Trio features two of Berklee’s stalwart and renowned \n\nfaculty performers in award-winning composer Consuelo Candelaria-Barry and\nlegendary acoustic bassist Ron Mahdi. The trio has performed locally and\ninternationally for years including Taiwan\, Capo Verde\, Umbria Jazz and many\nmore. Their music focuses on mixing expressive originals and music from the\nAfrican diaspora. Their performance at the Nash will feature the one and only tenor saxophonist Bill Pierce.\n\n\nDrummer Ron Savage currently serves as the inaugural Vice President and Executive Director of Berklee College of Music.\n\nThe Band: Ron Savage~drums | Consuelo Candelaria-Barry~piano | Ron Mahdi~bass | Bill Pierce~saxophone\n\n\nTickets: $49.00 | 1/2 Price Student tickets are available in the Tables & Banquettes sections. Use code “student” at checkout\, (25 & Under with valid ID)
URL:https://notoriousjazz.com/event/ron-savage
LOCATION:The Nash\, 110 E. Roosevelt Street\, Phoenix\, AZ\, 85004\, United States
CATEGORIES:Club
ATTACH;FMTTYPE=image/jpeg:https://notoriousjazz.com/wp-content/uploads/2024/11/RON-SAVAGE.jpeg
END:VEVENT
END:VCALENDAR