BEGIN:VCALENDAR
VERSION:2.0
PRODID:-//Notorious Jazz - ECPv6.15.17//NONSGML v1.0//EN
CALSCALE:GREGORIAN
METHOD:PUBLISH
X-ORIGINAL-URL:https://notoriousjazz.com
X-WR-CALDESC:Events for Notorious Jazz
REFRESH-INTERVAL;VALUE=DURATION:PT1H
X-Robots-Tag:noindex
X-PUBLISHED-TTL:PT1H
BEGIN:VTIMEZONE
TZID:America/Los_Angeles
BEGIN:DAYLIGHT
TZOFFSETFROM:-0800
TZOFFSETTO:-0700
TZNAME:PDT
DTSTART:20240310T100000
END:DAYLIGHT
BEGIN:STANDARD
TZOFFSETFROM:-0700
TZOFFSETTO:-0800
TZNAME:PST
DTSTART:20241103T090000
END:STANDARD
BEGIN:DAYLIGHT
TZOFFSETFROM:-0800
TZOFFSETTO:-0700
TZNAME:PDT
DTSTART:20250309T100000
END:DAYLIGHT
BEGIN:STANDARD
TZOFFSETFROM:-0700
TZOFFSETTO:-0800
TZNAME:PST
DTSTART:20251102T090000
END:STANDARD
BEGIN:DAYLIGHT
TZOFFSETFROM:-0800
TZOFFSETTO:-0700
TZNAME:PDT
DTSTART:20260308T100000
END:DAYLIGHT
BEGIN:STANDARD
TZOFFSETFROM:-0700
TZOFFSETTO:-0800
TZNAME:PST
DTSTART:20261101T090000
END:STANDARD
END:VTIMEZONE
BEGIN:VEVENT
DTSTART;TZID=America/Los_Angeles:20251204T210000
DTEND;TZID=America/Los_Angeles:20251206T233000
DTSTAMP:20260421T123511
CREATED:20251201T032636Z
LAST-MODIFIED:20251201T032636Z
UID:48189-1764882000-1765063800@notoriousjazz.com
SUMMARY:DAVE WECKL QUARTET
DESCRIPTION:Dave Weckl\, the St. Louis\, Missouri native is a jazz fusion drummer and the leader of the Dave Weckl Band. He was inducted into the Modern Drummer Hall of Fame in 2000. \nHe was with the Chick Corea Elektric Band from 1985 to 1991. During this time he performed on many albums and also appeared with Corea’s Akoustic Band. He said he “augmented his work with Corea by continuing his session work and appearing often with the GRP All-Star Big Band”. \nThe Band:\nDave Weckl ~ Drums\nOz Noy ~ Guitar\nChrissi Poland ~ Vocals\nJimmy Haslip ~ Bass \nTickets:\n$75.00 1st Set ~ Inside Seating\n$70.00 2nd Set Inside Seating\n$20.00 Patio Seating The PATIO is a “LIVE VIDEO CONCERT”\nyou are NOT inside the Club \n$4.25 Processing fee on all tickets
URL:https://notoriousjazz.com/event/dave-weckl-quartet
LOCATION:The Baked Potato\, 3787 Cahuenga Boulevard\, Studio City\, CA\, 91604\, United States
CATEGORIES:Club
ATTACH;FMTTYPE=image/png:https://notoriousjazz.com/wp-content/uploads/2025/11/DAVE-WECKL-@-BAKED-POTATO.png
END:VEVENT
END:VCALENDAR