BEGIN:VCALENDAR
VERSION:2.0
PRODID:-//Notorious Jazz - ECPv6.15.17//NONSGML v1.0//EN
CALSCALE:GREGORIAN
METHOD:PUBLISH
X-WR-CALNAME:Notorious Jazz
X-ORIGINAL-URL:https://notoriousjazz.com
X-WR-CALDESC:Events for Notorious Jazz
REFRESH-INTERVAL;VALUE=DURATION:PT1H
X-Robots-Tag:noindex
X-PUBLISHED-TTL:PT1H
BEGIN:VTIMEZONE
TZID:America/New_York
BEGIN:DAYLIGHT
TZOFFSETFROM:-0500
TZOFFSETTO:-0400
TZNAME:EDT
DTSTART:20210314T070000
END:DAYLIGHT
BEGIN:STANDARD
TZOFFSETFROM:-0400
TZOFFSETTO:-0500
TZNAME:EST
DTSTART:20211107T060000
END:STANDARD
BEGIN:DAYLIGHT
TZOFFSETFROM:-0500
TZOFFSETTO:-0400
TZNAME:EDT
DTSTART:20220313T070000
END:DAYLIGHT
BEGIN:STANDARD
TZOFFSETFROM:-0400
TZOFFSETTO:-0500
TZNAME:EST
DTSTART:20221106T060000
END:STANDARD
BEGIN:DAYLIGHT
TZOFFSETFROM:-0500
TZOFFSETTO:-0400
TZNAME:EDT
DTSTART:20230312T070000
END:DAYLIGHT
BEGIN:STANDARD
TZOFFSETFROM:-0400
TZOFFSETTO:-0500
TZNAME:EST
DTSTART:20231105T060000
END:STANDARD
END:VTIMEZONE
BEGIN:VEVENT
DTSTART;TZID=America/New_York:20221122T183000
DTEND;TZID=America/New_York:20221122T210000
DTSTAMP:20260422T041844
CREATED:20221103T033516Z
LAST-MODIFIED:20221103T034341Z
UID:32478-1669141800-1669150800@notoriousjazz.com
SUMMARY:THE JAZZ CORNER ENSEMBLE
DESCRIPTION:Fat Tuesdays ~ A Swingin’ Celebration of New Orleans & Beyond ~ \nThe Jazz Corner Ensemble features pianist ERIC JONES\, bassist DAVE MASTELLER and percussionist CHRIS RUSSELL with rotating special guests including saxophonist DEAN ST. HILLAIRE\, trumpeter JAMES BERRY and more…. Tuesday nights at The Jazz Corner honor the legacy of our iconic owner\, Bob Masteller.
URL:https://notoriousjazz.com/event/the-jazz-corner-ensemble
LOCATION:IA
CATEGORIES:Club
ATTACH;FMTTYPE=image/jpeg:https://notoriousjazz.com/wp-content/uploads/2022/11/JAZZ-CORNER-ENSEMBLE.jpg
END:VEVENT
END:VCALENDAR