BEGIN:VCALENDAR
VERSION:2.0
PRODID:-//Notorious Jazz - ECPv6.15.17//NONSGML v1.0//EN
CALSCALE:GREGORIAN
METHOD:PUBLISH
X-WR-CALNAME:Notorious Jazz
X-ORIGINAL-URL:https://notoriousjazz.com
X-WR-CALDESC:Events for Notorious Jazz
REFRESH-INTERVAL;VALUE=DURATION:PT1H
X-Robots-Tag:noindex
X-PUBLISHED-TTL:PT1H
BEGIN:VTIMEZONE
TZID:America/New_York
BEGIN:DAYLIGHT
TZOFFSETFROM:-0500
TZOFFSETTO:-0400
TZNAME:EDT
DTSTART:20220313T070000
END:DAYLIGHT
BEGIN:STANDARD
TZOFFSETFROM:-0400
TZOFFSETTO:-0500
TZNAME:EST
DTSTART:20221106T060000
END:STANDARD
BEGIN:DAYLIGHT
TZOFFSETFROM:-0500
TZOFFSETTO:-0400
TZNAME:EDT
DTSTART:20230312T070000
END:DAYLIGHT
BEGIN:STANDARD
TZOFFSETFROM:-0400
TZOFFSETTO:-0500
TZNAME:EST
DTSTART:20231105T060000
END:STANDARD
BEGIN:DAYLIGHT
TZOFFSETFROM:-0500
TZOFFSETTO:-0400
TZNAME:EDT
DTSTART:20240310T070000
END:DAYLIGHT
BEGIN:STANDARD
TZOFFSETFROM:-0400
TZOFFSETTO:-0500
TZNAME:EST
DTSTART:20241103T060000
END:STANDARD
END:VTIMEZONE
BEGIN:VEVENT
DTSTART;TZID=America/New_York:20230214T193000
DTEND;TZID=America/New_York:20230214T230000
DTSTAMP:20260421T232004
CREATED:20230128T215006Z
LAST-MODIFIED:20230128T221023Z
UID:33898-1676403000-1676415600@notoriousjazz.com
SUMMARY:PARKER HOUSE BAND
DESCRIPTION:The Band: Ryan Davis~piano\, Ben Triesch~bass\, Jeremy Bruch~drums\, and Kris Kimura~woodwinds and vocals\, with a special sweetheart appearance by vocalist Jennifer Johnson. \nFall in love with the Parker House Band! Our Funny Valentine Show is a live jazz playlist of love songs for the ages.  We’ll serenade and romance you all night\, whether it’s your first date or your 50th\, a friend date\, a much-deserved date with yourself\, or a rare kid-free evening out on the town for a couple of starry-eyed parents. \nThe show will also be available via livestream at parkerjazzclub.com/livestream\, generously sponsored by local nonprofit Texas Jazz Society. \nOnline donations are welcome—all proceeds benefit Texas Jazz Society’s mission to keep jazz alive and thriving in Texas. \nShowtimes: 7:30pm and 9:30pm
URL:https://notoriousjazz.com/event/parker-house-band
LOCATION:Parker Jazz Club\, 117 W 4th St #107b\, Austin\, TX\, 78701\, United States
CATEGORIES:Club
ATTACH;FMTTYPE=image/jpeg:https://notoriousjazz.com/wp-content/uploads/2023/01/PARKER-HOUSE-BAND.jpg
END:VEVENT
END:VCALENDAR