BEGIN:VCALENDAR
VERSION:2.0
PRODID:-//Notorious Jazz - ECPv6.15.17//NONSGML v1.0//EN
CALSCALE:GREGORIAN
METHOD:PUBLISH
X-ORIGINAL-URL:https://notoriousjazz.com
X-WR-CALDESC:Events for Notorious Jazz
REFRESH-INTERVAL;VALUE=DURATION:PT1H
X-Robots-Tag:noindex
X-PUBLISHED-TTL:PT1H
BEGIN:VTIMEZONE
TZID:America/New_York
BEGIN:DAYLIGHT
TZOFFSETFROM:-0500
TZOFFSETTO:-0400
TZNAME:EDT
DTSTART:20220313T070000
END:DAYLIGHT
BEGIN:STANDARD
TZOFFSETFROM:-0400
TZOFFSETTO:-0500
TZNAME:EST
DTSTART:20221106T060000
END:STANDARD
BEGIN:DAYLIGHT
TZOFFSETFROM:-0500
TZOFFSETTO:-0400
TZNAME:EDT
DTSTART:20230312T070000
END:DAYLIGHT
BEGIN:STANDARD
TZOFFSETFROM:-0400
TZOFFSETTO:-0500
TZNAME:EST
DTSTART:20231105T060000
END:STANDARD
BEGIN:DAYLIGHT
TZOFFSETFROM:-0500
TZOFFSETTO:-0400
TZNAME:EDT
DTSTART:20240310T070000
END:DAYLIGHT
BEGIN:STANDARD
TZOFFSETFROM:-0400
TZOFFSETTO:-0500
TZNAME:EST
DTSTART:20241103T060000
END:STANDARD
END:VTIMEZONE
BEGIN:VTIMEZONE
TZID:America/Chicago
BEGIN:DAYLIGHT
TZOFFSETFROM:-0600
TZOFFSETTO:-0500
TZNAME:CDT
DTSTART:20220313T080000
END:DAYLIGHT
BEGIN:STANDARD
TZOFFSETFROM:-0500
TZOFFSETTO:-0600
TZNAME:CST
DTSTART:20221106T070000
END:STANDARD
BEGIN:DAYLIGHT
TZOFFSETFROM:-0600
TZOFFSETTO:-0500
TZNAME:CDT
DTSTART:20230312T080000
END:DAYLIGHT
BEGIN:STANDARD
TZOFFSETFROM:-0500
TZOFFSETTO:-0600
TZNAME:CST
DTSTART:20231105T070000
END:STANDARD
BEGIN:DAYLIGHT
TZOFFSETFROM:-0600
TZOFFSETTO:-0500
TZNAME:CDT
DTSTART:20240310T080000
END:DAYLIGHT
BEGIN:STANDARD
TZOFFSETFROM:-0500
TZOFFSETTO:-0600
TZNAME:CST
DTSTART:20241103T070000
END:STANDARD
END:VTIMEZONE
BEGIN:VEVENT
DTSTART;TZID=America/New_York:20230307T183000
DTEND;TZID=America/New_York:20230307T203000
DTSTAMP:20260421T213403
CREATED:20230305T003301Z
LAST-MODIFIED:20230305T003301Z
UID:34355-1678213800-1678221000@notoriousjazz.com
SUMMARY:GYS LADYBIRDS RISING
DESCRIPTION:GYS Ladybirds Rising 2023: Woman’s History Month Special Show ” Lady In Satin” tribute \nYaala Ballin (v) | Chris Byars (conductor) | Zaid Nasser (alto) | Avital Mazor (First Violin) | Daniel Zinn (Second Violin) | Jay Julio (viola) | Helen Newby (cello) \nJon Erik Kellso (tp) | John Mosca (trombone) | Stefano Doglioni (clarinet) | Will Anderson (flute) | Vahagn Hayrapetyan (p) | Ari Roland (b) | Keith Balla (d)
URL:https://notoriousjazz.com/event/gys-ladybirds-rising
LOCATION:Ornithology Jazz Club\, 6 Suydam Street\, Brooklyn\, NY\, 11221\, United States
CATEGORIES:Club
ATTACH;FMTTYPE=image/png:https://notoriousjazz.com/wp-content/uploads/2023/03/ORNITHOLOGY.png
END:VEVENT
BEGIN:VEVENT
DTSTART;TZID=America/New_York:20230308T190000
DTEND;TZID=America/New_York:20230308T220000
DTSTAMP:20260421T213403
CREATED:20230304T004717Z
LAST-MODIFIED:20230304T004717Z
UID:34340-1678302000-1678312800@notoriousjazz.com
SUMMARY:DES MOINES BIG BAND
DESCRIPTION:The Des Moines Big Band\, a storied ensemble that goes back to the 1950s\, has played with some of the greatest names in jazz\, from legends like Clark Terry to some of the more local household names such as Scott Smith. Led by renowned trumpeter/arranger Dave Rezek\, this organization is in residence at Noce on Wednesday nights. \nThe band often invites high school & college groups in to play during the set break.
URL:https://notoriousjazz.com/event/des-moines-big-band
LOCATION:Noce\, 1326 Walnut St\, DSM\, IA\, Des Moines\, IA\, 50309 ​\, United States
CATEGORIES:Club
ATTACH;FMTTYPE=image/png:https://notoriousjazz.com/wp-content/uploads/2023/03/DES-MOINES-BIG-BAND.png
END:VEVENT
BEGIN:VEVENT
DTSTART;TZID=America/Chicago:20230318T200000
DTEND;TZID=America/Chicago:20230318T220000
DTSTAMP:20260421T213403
CREATED:20230308T033107Z
LAST-MODIFIED:20230308T033200Z
UID:34429-1679169600-1679176800@notoriousjazz.com
SUMMARY:ARTEMIS
DESCRIPTION:Jammin’ at the Gem is back by popular demand\, we are thrilled to present a full season of national Grammy-award winning headliners. This is a special year\, as we celebrate the 25th Anniversary since the American Jazz Museum opened its doors. Let’s celebrate and empower the community that helps keep jazz alive at 18th & Vine! \nAbout the artist: \nThe brainchild of pianist and composer Renee Rosnes\, Artemis is a powerful ensemble of modern masters. The multinational\, multigenerational band was founded in 2017 under the banner of International Women’s Day. Artemis’ performance at the 2018 Newport Jazz Festival was so dynamic\, Blue Note Records President Don Was signed the group to the label. Artemis has played on iconic stages like Carnegie Hall\, the Kennedy Center for the Performing Arts\, SFJAZZ\, and Chicago Orchestra Hall. Each member of the band is a virtuoso player\, composer and bandleader and the group’s repertoire reflects each individual’s sound. From original music to mind-bending arrangements of eclectic material\, Artemis performs with power\, passion\, and high-wire intensity. \nThe group: pianist & music director Renee Rosnes\, clarinetist Anat Cohen\, tenor saxophonist Melissa Aldana\, trumpeter Ingrid Jensen\, bassist Noriko Ueda\, drummer Allison Miller\, and vocalist Cécile McLorin Salvant.
URL:https://notoriousjazz.com/event/artemis
LOCATION:Gem Theater\, 1615 E 18th St\, Kansas City\, MO\, 64108\, United States
CATEGORIES:Concert
ATTACH;FMTTYPE=image/jpeg:https://notoriousjazz.com/wp-content/uploads/2023/03/ARTEMIS.jpg
END:VEVENT
END:VCALENDAR