BEGIN:VCALENDAR
VERSION:2.0
PRODID:-//Notorious Jazz - ECPv6.15.17//NONSGML v1.0//EN
CALSCALE:GREGORIAN
METHOD:PUBLISH
X-ORIGINAL-URL:https://notoriousjazz.com
X-WR-CALDESC:Events for Notorious Jazz
REFRESH-INTERVAL;VALUE=DURATION:PT1H
X-Robots-Tag:noindex
X-PUBLISHED-TTL:PT1H
BEGIN:VTIMEZONE
TZID:America/New_York
BEGIN:DAYLIGHT
TZOFFSETFROM:-0500
TZOFFSETTO:-0400
TZNAME:EDT
DTSTART:20230312T070000
END:DAYLIGHT
BEGIN:STANDARD
TZOFFSETFROM:-0400
TZOFFSETTO:-0500
TZNAME:EST
DTSTART:20231105T060000
END:STANDARD
BEGIN:DAYLIGHT
TZOFFSETFROM:-0500
TZOFFSETTO:-0400
TZNAME:EDT
DTSTART:20240310T070000
END:DAYLIGHT
BEGIN:STANDARD
TZOFFSETFROM:-0400
TZOFFSETTO:-0500
TZNAME:EST
DTSTART:20241103T060000
END:STANDARD
BEGIN:DAYLIGHT
TZOFFSETFROM:-0500
TZOFFSETTO:-0400
TZNAME:EDT
DTSTART:20250309T070000
END:DAYLIGHT
BEGIN:STANDARD
TZOFFSETFROM:-0400
TZOFFSETTO:-0500
TZNAME:EST
DTSTART:20251102T060000
END:STANDARD
END:VTIMEZONE
BEGIN:VEVENT
DTSTART;TZID=America/New_York:20240215T183000
DTEND;TZID=America/New_York:20240215T214500
DTSTAMP:20260421T041645
CREATED:20240104T191248Z
LAST-MODIFIED:20240107T165437Z
UID:38562-1708021800-1708033500@notoriousjazz.com
SUMMARY:THE EASTSIDE JAZZ COLLECTIVE
DESCRIPTION:The Eastside Jazz Collective is a 5-piece group with vocals based in Southeast Michigan who have performed at venues including Aretha’s Jazz Cafe\, the Ann Arbor Art Fair\, the Dexter Summer Concert Series and the Library at the Detroit Club. They play classic jazz and swing featuring songs made popular by Ella Fitzgerald\, Frank Sinatra and Billie Holiday along with some contemporary tunes. \nTHE BAND: \nChris Mike- Saxophone \nAdrienne Pisoni- Vocals \nBrian Rose- Keys \nMike Shriver- Bass \nMike Williams- Drums
URL:https://notoriousjazz.com/event/the-eastside-jazz-collective
LOCATION:The Blue Llama\, 314 S Main Street\, Ann Arbor\, MI\, 48104\, United States
CATEGORIES:Club
ATTACH;FMTTYPE=image/png:https://notoriousjazz.com/wp-content/uploads/2024/01/ADRIENNE-PISONI-EASTSIDE-JAZZ-COLLECTIVE.png
END:VEVENT
END:VCALENDAR