BEGIN:VCALENDAR
VERSION:2.0
PRODID:-//Notorious Jazz - ECPv6.15.17//NONSGML v1.0//EN
CALSCALE:GREGORIAN
METHOD:PUBLISH
X-ORIGINAL-URL:https://notoriousjazz.com
X-WR-CALDESC:Events for Notorious Jazz
REFRESH-INTERVAL;VALUE=DURATION:PT1H
X-Robots-Tag:noindex
X-PUBLISHED-TTL:PT1H
BEGIN:VTIMEZONE
TZID:America/Chicago
BEGIN:DAYLIGHT
TZOFFSETFROM:-0600
TZOFFSETTO:-0500
TZNAME:CDT
DTSTART:20220313T080000
END:DAYLIGHT
BEGIN:STANDARD
TZOFFSETFROM:-0500
TZOFFSETTO:-0600
TZNAME:CST
DTSTART:20221106T070000
END:STANDARD
BEGIN:DAYLIGHT
TZOFFSETFROM:-0600
TZOFFSETTO:-0500
TZNAME:CDT
DTSTART:20230312T080000
END:DAYLIGHT
BEGIN:STANDARD
TZOFFSETFROM:-0500
TZOFFSETTO:-0600
TZNAME:CST
DTSTART:20231105T070000
END:STANDARD
BEGIN:DAYLIGHT
TZOFFSETFROM:-0600
TZOFFSETTO:-0500
TZNAME:CDT
DTSTART:20240310T080000
END:DAYLIGHT
BEGIN:STANDARD
TZOFFSETFROM:-0500
TZOFFSETTO:-0600
TZNAME:CST
DTSTART:20241103T070000
END:STANDARD
END:VTIMEZONE
BEGIN:VEVENT
DTSTART;TZID=America/Chicago:20230318T200000
DTEND;TZID=America/Chicago:20230318T220000
DTSTAMP:20260421T232459
CREATED:20230308T033107Z
LAST-MODIFIED:20230308T033200Z
UID:34429-1679169600-1679176800@notoriousjazz.com
SUMMARY:ARTEMIS
DESCRIPTION:Jammin’ at the Gem is back by popular demand\, we are thrilled to present a full season of national Grammy-award winning headliners. This is a special year\, as we celebrate the 25th Anniversary since the American Jazz Museum opened its doors. Let’s celebrate and empower the community that helps keep jazz alive at 18th & Vine! \nAbout the artist: \nThe brainchild of pianist and composer Renee Rosnes\, Artemis is a powerful ensemble of modern masters. The multinational\, multigenerational band was founded in 2017 under the banner of International Women’s Day. Artemis’ performance at the 2018 Newport Jazz Festival was so dynamic\, Blue Note Records President Don Was signed the group to the label. Artemis has played on iconic stages like Carnegie Hall\, the Kennedy Center for the Performing Arts\, SFJAZZ\, and Chicago Orchestra Hall. Each member of the band is a virtuoso player\, composer and bandleader and the group’s repertoire reflects each individual’s sound. From original music to mind-bending arrangements of eclectic material\, Artemis performs with power\, passion\, and high-wire intensity. \nThe group: pianist & music director Renee Rosnes\, clarinetist Anat Cohen\, tenor saxophonist Melissa Aldana\, trumpeter Ingrid Jensen\, bassist Noriko Ueda\, drummer Allison Miller\, and vocalist Cécile McLorin Salvant.
URL:https://notoriousjazz.com/event/artemis
LOCATION:Gem Theater\, 1615 E 18th St\, Kansas City\, MO\, 64108\, United States
CATEGORIES:Concert
ATTACH;FMTTYPE=image/jpeg:https://notoriousjazz.com/wp-content/uploads/2023/03/ARTEMIS.jpg
END:VEVENT
END:VCALENDAR