BEGIN:VCALENDAR
VERSION:2.0
PRODID:-//Notorious Jazz - ECPv6.15.17//NONSGML v1.0//EN
CALSCALE:GREGORIAN
METHOD:PUBLISH
X-WR-CALNAME:Notorious Jazz
X-ORIGINAL-URL:https://notoriousjazz.com
X-WR-CALDESC:Events for Notorious Jazz
REFRESH-INTERVAL;VALUE=DURATION:PT1H
X-Robots-Tag:noindex
X-PUBLISHED-TTL:PT1H
BEGIN:VTIMEZONE
TZID:America/New_York
BEGIN:DAYLIGHT
TZOFFSETFROM:-0500
TZOFFSETTO:-0400
TZNAME:EDT
DTSTART:20220313T070000
END:DAYLIGHT
BEGIN:STANDARD
TZOFFSETFROM:-0400
TZOFFSETTO:-0500
TZNAME:EST
DTSTART:20221106T060000
END:STANDARD
BEGIN:DAYLIGHT
TZOFFSETFROM:-0500
TZOFFSETTO:-0400
TZNAME:EDT
DTSTART:20230312T070000
END:DAYLIGHT
BEGIN:STANDARD
TZOFFSETFROM:-0400
TZOFFSETTO:-0500
TZNAME:EST
DTSTART:20231105T060000
END:STANDARD
BEGIN:DAYLIGHT
TZOFFSETFROM:-0500
TZOFFSETTO:-0400
TZNAME:EDT
DTSTART:20240310T070000
END:DAYLIGHT
BEGIN:STANDARD
TZOFFSETFROM:-0400
TZOFFSETTO:-0500
TZNAME:EST
DTSTART:20241103T060000
END:STANDARD
END:VTIMEZONE
BEGIN:VEVENT
DTSTART;TZID=America/New_York:20230805T200000
DTEND;TZID=America/New_York:20230805T220000
DTSTAMP:20260421T145626
CREATED:20230722T152704Z
LAST-MODIFIED:20230723T125935Z
UID:36261-1691265600-1691272800@notoriousjazz.com
SUMMARY:BUENA VISTA ALL STARS
DESCRIPTION:Embark on a once-in-a-lifetime journey with Buena Vista All Stars\, descendants of the iconic Buena Vista Social Club. This extraordinary ensemble is bringing the vibrant spirit of Havana’s streets to the Arsht Center’s Knight Concert Hall\, delivering a mesmerizing blend of time-honored rhythms and narratives. \nThe lineup features unparalleled talent\, including Ibrahim Ferrer Jr.\, son of golden-voiced Ibrahim Ferrer\, who will appear in a sensational holographic projection. Grammy Award winner Juan De Marcos González\, lauded virtuoso Barbarito Torres\, piano prodigy Rubencito González and four-time Latin Grammy-nominated Danay Suárez join the ensemble\, conducted by esteemed musical director Demetrio Muñiz. \nJoin us for the inaugural performance of the Una Noche en La Habana Tour on August 5. Experience the enduring legacy of Cuba’s musical heritage\, artfully preserved and reimagined by Buena Vista All Stars. Secure your tickets now for an unforgettable celebration of Cuban music and culture.
URL:https://notoriousjazz.com/event/buena-vista-all-stars
LOCATION:Adrienne Arsht Center | Knight Concert Hall\, 1300 Biscayne Boulevard\, Miami\, FL\, 33132\, United States
CATEGORIES:Concert
ATTACH;FMTTYPE=image/jpeg:https://notoriousjazz.com/wp-content/uploads/2023/07/BUENA-VISTA-ALL-STARS.jpg
END:VEVENT
END:VCALENDAR