BEGIN:VCALENDAR
VERSION:2.0
PRODID:-//Notorious Jazz - ECPv6.15.17//NONSGML v1.0//EN
CALSCALE:GREGORIAN
METHOD:PUBLISH
X-ORIGINAL-URL:https://notoriousjazz.com
X-WR-CALDESC:Events for Notorious Jazz
REFRESH-INTERVAL;VALUE=DURATION:PT1H
X-Robots-Tag:noindex
X-PUBLISHED-TTL:PT1H
BEGIN:VTIMEZONE
TZID:Europe/Zurich
BEGIN:DAYLIGHT
TZOFFSETFROM:+0100
TZOFFSETTO:+0200
TZNAME:CEST
DTSTART:20210328T010000
END:DAYLIGHT
BEGIN:STANDARD
TZOFFSETFROM:+0200
TZOFFSETTO:+0100
TZNAME:CET
DTSTART:20211031T010000
END:STANDARD
BEGIN:DAYLIGHT
TZOFFSETFROM:+0100
TZOFFSETTO:+0200
TZNAME:CEST
DTSTART:20220327T010000
END:DAYLIGHT
BEGIN:STANDARD
TZOFFSETFROM:+0200
TZOFFSETTO:+0100
TZNAME:CET
DTSTART:20221030T010000
END:STANDARD
BEGIN:DAYLIGHT
TZOFFSETFROM:+0100
TZOFFSETTO:+0200
TZNAME:CEST
DTSTART:20230326T010000
END:DAYLIGHT
BEGIN:STANDARD
TZOFFSETFROM:+0200
TZOFFSETTO:+0100
TZNAME:CET
DTSTART:20231029T010000
END:STANDARD
END:VTIMEZONE
BEGIN:VTIMEZONE
TZID:Europe/Paris
BEGIN:DAYLIGHT
TZOFFSETFROM:+0100
TZOFFSETTO:+0200
TZNAME:CEST
DTSTART:20210328T010000
END:DAYLIGHT
BEGIN:STANDARD
TZOFFSETFROM:+0200
TZOFFSETTO:+0100
TZNAME:CET
DTSTART:20211031T010000
END:STANDARD
BEGIN:DAYLIGHT
TZOFFSETFROM:+0100
TZOFFSETTO:+0200
TZNAME:CEST
DTSTART:20220327T010000
END:DAYLIGHT
BEGIN:STANDARD
TZOFFSETFROM:+0200
TZOFFSETTO:+0100
TZNAME:CET
DTSTART:20221030T010000
END:STANDARD
BEGIN:DAYLIGHT
TZOFFSETFROM:+0100
TZOFFSETTO:+0200
TZNAME:CEST
DTSTART:20230326T010000
END:DAYLIGHT
BEGIN:STANDARD
TZOFFSETFROM:+0200
TZOFFSETTO:+0100
TZNAME:CET
DTSTART:20231029T010000
END:STANDARD
END:VTIMEZONE
BEGIN:VTIMEZONE
TZID:America/New_York
BEGIN:DAYLIGHT
TZOFFSETFROM:-0500
TZOFFSETTO:-0400
TZNAME:EDT
DTSTART:20210314T070000
END:DAYLIGHT
BEGIN:STANDARD
TZOFFSETFROM:-0400
TZOFFSETTO:-0500
TZNAME:EST
DTSTART:20211107T060000
END:STANDARD
BEGIN:DAYLIGHT
TZOFFSETFROM:-0500
TZOFFSETTO:-0400
TZNAME:EDT
DTSTART:20220313T070000
END:DAYLIGHT
BEGIN:STANDARD
TZOFFSETFROM:-0400
TZOFFSETTO:-0500
TZNAME:EST
DTSTART:20221106T060000
END:STANDARD
BEGIN:DAYLIGHT
TZOFFSETFROM:-0500
TZOFFSETTO:-0400
TZNAME:EDT
DTSTART:20230312T070000
END:DAYLIGHT
BEGIN:STANDARD
TZOFFSETFROM:-0400
TZOFFSETTO:-0500
TZNAME:EST
DTSTART:20231105T060000
END:STANDARD
END:VTIMEZONE
BEGIN:VEVENT
DTSTART;VALUE=DATE:20220708
DTEND;VALUE=DATE:20220710
DTSTAMP:20260422T170259
CREATED:20220707T001432Z
LAST-MODIFIED:20221012T182642Z
UID:30957-1657267200-1657353599@notoriousjazz.com
SUMMARY:NORTH SEA JAZZ FESTIVAL
DESCRIPTION:The Lineup: To give you an idea of who is performing. Check schedule on website for days\, times and locations. \nGregory Porter; Diana Ross; George Benson; Herbie Hancock; New Cool Collective; Ibrahim Maalouf; Daniel Lanois; Lizz Wright; Alicia Keys; Michael Kiwanuka; John Legend; Black Pumas; Erykah Badu; Diana Krall; Tom Misch; Dianne Reeves; Lianne La Havas; Alfa Mist; Avishai Cohen; Trombone Shorty; Jett Rebel; Cécile McLorin Salvant; Chic; Ravi Coltrane; Blake Mills; Metropole Orkest; Cory Wong; Jules Buckley; Pino Palladino; Robert Glasper; Jordan Rakei; Ron Carter; Bill Frisell; Gonzalo Rubalcaba; Hiromi; Fatoumata Diawara; BADBADNOTGOOD; Lisa Fischer; Dave Koz; Eliane Elias; Kojey Radical; Aymée Nuviola; Nate Smith; Rotterdam Philharmonic Orchestra; Nduduzo Makhathini; Anthony Joseph; Kris Davis; Kassa Overall; James Brandon Lewis; Ben van Gelder; Trondheim Jazz Orchestra; Brintex Collective; Peter Beets; Guy Salamon Group; Bokani Dyer Trio; Suzan Veneman Sextet; Vijay Iyer Trio; Secret Night Gang; Marcus King; Nate Smith + Kinfolk; Sam Gendel; SMANDEM.; Sun Mi Hong Quintet; Lucia Cadotsch; Wolfert Brederode. \nLocation Rotterdam Ahoy \nDuration: 3:00 pm ~ 12:00 am \nVenues: Nile\, Maas\, Congo Square\, Amazon\, Madeira\, Missouri\, Murrav\, Venisei\, Tigris\, CEntral Park Stage\, Hudson\, Darling\, Mississippi\, Codarts Talent Stage\, Mississippi Terrace \nTickets: Most categories are sold out.
URL:https://notoriousjazz.com/event/north-sea-jazz-festival
LOCATION:North Sea Jazz Festival\, Ahoyweg 10\,\, Rotterdam\, 3084 BA\, Netherlands
CATEGORIES:Festival
ATTACH;FMTTYPE=image/png:https://notoriousjazz.com/wp-content/uploads/2022/07/NORTH-SEA-JAZZ-FESTIVAL.png
END:VEVENT
BEGIN:VEVENT
DTSTART;VALUE=DATE:20220709
DTEND;VALUE=DATE:20220711
DTSTAMP:20260422T170259
CREATED:20220707T113608Z
LAST-MODIFIED:20221012T184136Z
UID:30961-1657353600-1657439999@notoriousjazz.com
SUMMARY:NORTH SEA JAZZ FESTIVAL
DESCRIPTION:The Lineup: To give you an idea of who is performing. Check schedule on website for days\, times and locations. \nRandal Corsen; Celano Badenhorst Baggiani; Eric Vloeimans / Frank Woeste Quartet; Dragonfruit; Han; Mudita Quartet; Sebastian Floris; Joris Teepe; Cardiff Uni Big Band; Dulfer! Total Response; John McLaughlin; Nala Sinephro; Abe Rounds; Michelle David & The True-tones; Emma-Jean Thackray; Christone “Kingfish” Ingram; Mark Lettieri; Aki Takase; Bennink; Roaring Cats; AM.OK; Christian McBride and Inside Straight; Michael Mayo; Malcom Jiyane Tree-O; Melanie Charles; Jazz Focus Big Band; El Xyz De Son Bent Braam; Lady Blackbird; The Fearless Flyers; Icp Orchestra; N∆BOU; Tems; GURLS; Marion Rampal; John Engels; Dem Djago Fam; Melody Gardot; Thundercat; Delvon Lamarr Organ Trio; Sabrina Claudio; Tiwa Savage; Jacob Collier; Julian Lage; Fay Claassen; Snoh Aalegra; Eric Gales; Makaya McCraven; Linda Oh; Brandee Younger; Theo Croker; Lionel Loueke; Louis Cole; Nubya Garcia; Tigran Hamasyan; Stacey Kent; Archie Shepp; Gustavo Santaolalla; Lous and the Yakuza; Ledisi; Moses Sumney; Neal Francis; Eliades Ochoa. \nLocation Rotterdam Ahoy \nDuration: 3:00 pm ~ 12:00 am \nVenues: Nile\, Maas\, Congo Square\, Amazon\, Madeira\, Missouri\, Murrav\, Venisei\, Tigris\, Central Park Stage\, Hudson\, Darling\, Mississippi\, Codarts Talent Stage\, Mississippi Terrace \nTickets: Most categories are sold out.
URL:https://notoriousjazz.com/event/north-sea-jazz-festival-2
LOCATION:North Sea Jazz Festival\, Ahoyweg 10\,\, Rotterdam\, 3084 BA\, Netherlands
CATEGORIES:Festival
ATTACH;FMTTYPE=image/png:https://notoriousjazz.com/wp-content/uploads/2022/07/NORTH-SEA-JAZZ-FESTIVAL.png
END:VEVENT
BEGIN:VEVENT
DTSTART;VALUE=DATE:20220710
DTEND;VALUE=DATE:20220712
DTSTAMP:20260422T170259
CREATED:20220707T114426Z
LAST-MODIFIED:20221012T183018Z
UID:30965-1657440000-1657526399@notoriousjazz.com
SUMMARY:NORTH SEA JAZZ FESTIVAL
DESCRIPTION:The Lineup: See online schedule for dates\, times and locations. \nYola; Jason Moran; Ambrose Akinmusire; James Francies; Tyshawn Sorey; John McLaughlin and the 4th Dimension; Petter Eldh; Reinier Baas; Maarten Hogenhuis; Avishai Cohen Quartet; Peter Somuah; Jany Mcpherson; Tineke Postma Freya Group; Martí Mitjavila Casals; Petter Eldh Koma Saxo; Jameszoo’s Blind Group; H.E.R.; Sofia Jernberg; Bastien Stil; Immanuel Wilkins; Echo Juliet; Cktrl; Benjamin Herman; Nationaal Jeugd Jazz Orkest; Eric Ineke & The Frans Elsen Factor; Gary Bartz; Nabou Claerhout; Philip Lassiter; Cubop City Big Band; Meneer Funkel; Maisha; Joe Dart; Cimafunk; Gaidaa; Blck Mamba; Steve Coleman and Five Elements; Ekdom’s Funky Music Trip; Aviv Noam Quartet; Gary Bartz & Maisha; Codarts Antwerp Cologne Big Band; Bnnyhunna; Joe Armon-Jones; BRUUT!; Linda Fredriksson; Marike van Dijk; Nona; Gino-Cochise; Beau Zwart; Alune Wade; Gretchen Parlato; Tijn Wybenga; Latanya Alberto; Ben LaMar Gay; Charles Lloyd & the Marvels; El Comite; Joel Culpepper; Gabriels; Zoë Modiga \nLocation Rotterdam Ahoy \nTime: 3:00 pm~12:00 am \nVenues: Nile\, Maas\, Congo Square\, Amazon\, Madeira\, Missouri\, Murrav\, Venisei\, Tigris\, Central Park Stage\, Hudson\, Darling\, Mississippi\, Codarts Talent Stage\, Mississippi Terrace \nTickets: Most categories are sold out. \n 
URL:https://notoriousjazz.com/event/north-sea-jazz-festival-3
LOCATION:North Sea Jazz Festival\, Ahoyweg 10\,\, Rotterdam\, 3084 BA\, Netherlands
CATEGORIES:Festival
ATTACH;FMTTYPE=image/png:https://notoriousjazz.com/wp-content/uploads/2022/07/NORTH-SEA-JAZZ-FESTIVAL.png
END:VEVENT
BEGIN:VEVENT
DTSTART;VALUE=DATE:20220729
DTEND;VALUE=DATE:20220731
DTSTAMP:20260422T170259
CREATED:20220706T215156Z
LAST-MODIFIED:20220706T221456Z
UID:30945-1659081600-1659153599@notoriousjazz.com
SUMMARY:NEWPORT JAZZ FESTIVAL
DESCRIPTION:The Lineup: \nNorah Jones\, McBride’s Newport Jawn\, Terence Blanchard\, BadBadNotGood\, Lettuce\, Nate Smith + Kinfolk\, Benevento/Russo Duo Acoustic\, Nicholas Payton Trio\, Pino Palladino~Blake Mills~Sam Gendel~Abe Rounds\,Shabaka Hutchings\, The Baylor Project\, Celisse\, Thana Alexa: Ona\, Carlos Henriquez’ Nonet: The South Bronx Story\, Theon Cross\, Dan Wilson\, The Mingus Big Band\, and Michela Marino Lerman \nArtists and Schedule Subject to Change. \nLocation: Fort Adams State Park \nGeneral Admission | All Tickets Are Digital \nSingle Day General Admission ~ $94.76 \nTwo Day General Admission ~ $185.40 \nThree Day and Student Tickets ~ Sold Out \nParking \nOne Day ~ Friday\, July 29th | Fort Adams State Park\, Newport ~ $25.75 \nTwo Day ~ FRiday/Saturday | Fort Adams State Park\, Newport ~ $49.44 \nFAQ \nPlease go to website and get all pertinent information about what you can/cannot bring \, tickets\, pricing\, parking\, etc.
URL:https://notoriousjazz.com/event/newport-jazz-festival
LOCATION:Newport Jazz Festival\, 80 Fort Adams Drive\, Newport\, RI\, 02840\, United States
CATEGORIES:Festival
ATTACH;FMTTYPE=image/jpeg:https://notoriousjazz.com/wp-content/uploads/2022/07/NEWPORT-JAZZ-FESTIVAL-POSTER.jpg
END:VEVENT
BEGIN:VEVENT
DTSTART;VALUE=DATE:20220730
DTEND;VALUE=DATE:20220801
DTSTAMP:20260422T170259
CREATED:20220706T215537Z
LAST-MODIFIED:20220706T220349Z
UID:30948-1659168000-1659239999@notoriousjazz.com
SUMMARY:NEWPORT JAZZ FESTIVAL
DESCRIPTION:The Lineup: \nThe Fearless Flyers\, Esperanza Spalding\, Cécile Mclorin Salvant\, Cory Wong\, Sons Of Kemet\, Jazzmeia Horn\, Jack DeJohnette Quartet\, Maria Schneider Orchestra\, Makaya McCraven\, Yussef Dayes\, Antonio Sanchez & Bad Hombre\, Joe Lovano ~ Trio Tapestry\, Sullivan Fortner\, Lady Blackbird\, Samara Joy\, Melanie Charles\, Giveton Gelin\, and Holly Bowling \nArtists and Schedule Subject to Change. \nLocation: Fort Adams State Park \nGeneral Admission | All Tickets Are Digital \nSingle Day General Admission ~ $94.76 \nTwo Day General Admission ~ $185.40 \nThree Day and Student Tickets ~ Sold Out \nParking \nOne Day ~ Friday\, July 29th | Fort Adams State Park\, Newport ~ $25.75 \nTwo Day ~ FRiday/Saturday | Fort Adams State Park\, Newport ~ $49.44 \nFAQ \nPlease go to website and get all pertinent information about what you can/cannot bring \, tickets\, pricing\, parking\, etc.
URL:https://notoriousjazz.com/event/newport-jazz-festival-2
LOCATION:Newport Jazz Festival\, 80 Fort Adams Drive\, Newport\, RI\, 02840\, United States
CATEGORIES:Festival
ATTACH;FMTTYPE=image/jpeg:https://notoriousjazz.com/wp-content/uploads/2022/07/NEWPORT-JAZZ-FESTIVAL-POSTER.jpg
END:VEVENT
BEGIN:VEVENT
DTSTART;VALUE=DATE:20220731
DTEND;VALUE=DATE:20220802
DTSTAMP:20260422T170259
CREATED:20220706T220050Z
LAST-MODIFIED:20220706T220311Z
UID:30950-1659254400-1659326399@notoriousjazz.com
SUMMARY:NEWPORT JAZZ FESTIVAL
DESCRIPTION:The Lineup: \nCelebrating George Wein\, Angélique Kidjo’s Remain In Light\, Digable Planets\, PJ Morton\, The Ron Carter Quatet\, Nubya Garcia\, Jazz Is Eead Presents\, Jason Moran Trio\, Mononeon\, The Soul Rebels\, Melissa Aldana\, The Nth Power with Jennifer Hartswick\, Vijay Iyer Trio\, Takuya Kuroda\, Tuba Skinny\, Sampa The Great\, Emmet Cohen Trio\, and Laufey \nArtists and Schedule Subject to Change. \nLocation: Fort Adams State Park \nGeneral Admission | All Tickets Are Digital \nSingle Day General Admission ~ $94.76 \nTwo Day General Admission ~ $185.40 \nThree Day and Student Tickets ~ Sold Out \nParking \nOne Day ~ Friday\, July 29th | Fort Adams State Park\, Newport ~ $25.75 \nTwo Day ~ FRiday/Saturday | Fort Adams State Park\, Newport ~ $49.44 \nFAQ \nPlease go to website and get all pertinent information about what you can/cannot bring \, tickets\, pricing\, parking\, etc.
URL:https://notoriousjazz.com/event/newport-jazz-festival-3
LOCATION:Newport Jazz Festival\, 80 Fort Adams Drive\, Newport\, RI\, 02840\, United States
CATEGORIES:Festival
ATTACH;FMTTYPE=image/jpeg:https://notoriousjazz.com/wp-content/uploads/2022/07/NEWPORT-JAZZ-FESTIVAL-POSTER.jpg
END:VEVENT
END:VCALENDAR