BEGIN:VCALENDAR
VERSION:2.0
PRODID:-//Notorious Jazz - ECPv6.15.17//NONSGML v1.0//EN
CALSCALE:GREGORIAN
METHOD:PUBLISH
X-WR-CALNAME:Notorious Jazz
X-ORIGINAL-URL:https://notoriousjazz.com
X-WR-CALDESC:Events for Notorious Jazz
REFRESH-INTERVAL;VALUE=DURATION:PT1H
X-Robots-Tag:noindex
X-PUBLISHED-TTL:PT1H
BEGIN:VTIMEZONE
TZID:America/Los_Angeles
BEGIN:DAYLIGHT
TZOFFSETFROM:-0800
TZOFFSETTO:-0700
TZNAME:PDT
DTSTART:20220313T100000
END:DAYLIGHT
BEGIN:STANDARD
TZOFFSETFROM:-0700
TZOFFSETTO:-0800
TZNAME:PST
DTSTART:20221106T090000
END:STANDARD
BEGIN:DAYLIGHT
TZOFFSETFROM:-0800
TZOFFSETTO:-0700
TZNAME:PDT
DTSTART:20230312T100000
END:DAYLIGHT
BEGIN:STANDARD
TZOFFSETFROM:-0700
TZOFFSETTO:-0800
TZNAME:PST
DTSTART:20231105T090000
END:STANDARD
BEGIN:DAYLIGHT
TZOFFSETFROM:-0800
TZOFFSETTO:-0700
TZNAME:PDT
DTSTART:20240310T100000
END:DAYLIGHT
BEGIN:STANDARD
TZOFFSETFROM:-0700
TZOFFSETTO:-0800
TZNAME:PST
DTSTART:20241103T090000
END:STANDARD
END:VTIMEZONE
BEGIN:VTIMEZONE
TZID:America/New_York
BEGIN:DAYLIGHT
TZOFFSETFROM:-0500
TZOFFSETTO:-0400
TZNAME:EDT
DTSTART:20220313T070000
END:DAYLIGHT
BEGIN:STANDARD
TZOFFSETFROM:-0400
TZOFFSETTO:-0500
TZNAME:EST
DTSTART:20221106T060000
END:STANDARD
BEGIN:DAYLIGHT
TZOFFSETFROM:-0500
TZOFFSETTO:-0400
TZNAME:EDT
DTSTART:20230312T070000
END:DAYLIGHT
BEGIN:STANDARD
TZOFFSETFROM:-0400
TZOFFSETTO:-0500
TZNAME:EST
DTSTART:20231105T060000
END:STANDARD
BEGIN:DAYLIGHT
TZOFFSETFROM:-0500
TZOFFSETTO:-0400
TZNAME:EDT
DTSTART:20240310T070000
END:DAYLIGHT
BEGIN:STANDARD
TZOFFSETFROM:-0400
TZOFFSETTO:-0500
TZNAME:EST
DTSTART:20241103T060000
END:STANDARD
END:VTIMEZONE
BEGIN:VEVENT
DTSTART;TZID=America/Los_Angeles:20231001T190000
DTEND;TZID=America/Los_Angeles:20231001T203000
DTSTAMP:20260421T144641
CREATED:20230714T140041Z
LAST-MODIFIED:20230714T140041Z
UID:36190-1696186800-1696192200@notoriousjazz.com
SUMMARY:MONTY ALEXANDER
DESCRIPTION:Nearly sixty years after he moved to the United States from Kingston\, Jamaica\, his hometown\, Grammy nominated pianist Monty Alexander is an American classic\, touring the world relentlessly with various projects\, delighting a global audience drawn to his vibrant personality and soulful message. A perennial favorite at Jazz festivals and venues worldwide and at the Montreux Jazz Festival where he has appeared 23 times since 1976\, his spirited conception is one informed by the timeless verities: endless melody-making\, effervescent grooves\, sophisticated voicings\, a romantic spirit\, and a consistent predisposition\, as Alexander accurately states\, “to build up the heat and kick up a storm.” In the course of any given performance\, Alexander applies those aesthetics to a repertoire spanning a broad range of jazz and Jamaican musical expressions—the American songbook and the blues\, gospel and bebop\, calypso and reggae. Documented on more than 75 recordings and cited as the fifth greatest jazz pianist ever in The Fifty Greatest Jazz Piano Players of All Time (Hal Leonard Publishing)\, the Jamaican government designated Alexander Commander in the Order of Distinction in 2000 and conferred on him the national honor of the Order of Jamaica in 2022 for “Sterling Contributions to the Promotions of Jamaican Music and the Jazz Genre Interpretations Globally”. In 2018 the University of The West Indies bestowed him with an honorary doctorate degree (DLitt) in recognition of his accomplishments. \nMonty’s latest album (released August 19\, 2022) is titled Love Notes and is his first recording featuring his vocals. The release of “Love Notes” will be accompanied by tour dates worldwide. Also in the works is “The Monty Alexander Movie\,” a documentary on Monty’s life and music. Directed by Academy Award-winning cinematographer Jefferson Miller\, and veteran filmmaker Arthur Gorson\, the project is currently in production in Jamaica\, the U.S. and Europe.
URL:https://notoriousjazz.com/event/monty-alexander-4
LOCATION:Yoshi’s\, 510 Embarcadero West\, Oakland\, CA\, 94607\, United States
CATEGORIES:Club
ATTACH;FMTTYPE=image/jpeg:https://notoriousjazz.com/wp-content/uploads/2023/07/MONTY-ALEXANDER.jpg
END:VEVENT
BEGIN:VEVENT
DTSTART;TZID=America/New_York:20231008T210000
DTEND;TZID=America/New_York:20231008T235900
DTSTAMP:20260421T144641
CREATED:20231008T145317Z
LAST-MODIFIED:20231008T145317Z
UID:37320-1696798800-1696809540@notoriousjazz.com
SUMMARY:JAZZ DIALOGUE OPEN JAM
DESCRIPTION:Grant Stewart (ts) \n\n\n\n\n\n\n\nTardo Hammer (p) \nIlya Lushtak (g) \nDavid Wong (b) \nPhil Stewart (d)
URL:https://notoriousjazz.com/event/jazz-dialogue-open-jam-2
LOCATION:Ornithology Jazz Club\, 6 Suydam Street\, Brooklyn\, NY\, 11221\, United States
CATEGORIES:Club
ATTACH;FMTTYPE=image/jpeg:https://notoriousjazz.com/wp-content/uploads/2023/10/GRANT-STEWART.jpg
END:VEVENT
BEGIN:VEVENT
DTSTART;TZID=America/Los_Angeles:20231009T180000
DTEND;TZID=America/Los_Angeles:20231009T213000
DTSTAMP:20260421T144641
CREATED:20231008T150927Z
LAST-MODIFIED:20231008T155154Z
UID:37323-1696874400-1696887000@notoriousjazz.com
SUMMARY:RANDY PORTER TRIO
DESCRIPTION:Randy Porter: Piano | Garrett Baxter: Bass | Charlie Doggett: Drums\n\nGrammy-nominated jazz pianist Randy Porter has a refined understanding of improvisation and the spontaneous communication between musicians. As a Steinway Artist\, Randy Porter draws from a rich palette of sonorities found within his imagination and the depths of the piano.\n\nLynn Darroch of The Oregonian states\, “Porter has built a reputation as a musician’s musician\, a knowledgeable\, inventive\, and sophisticated player with a remarkable sense of time and gorgeous keyboard facility…”\n\nTwo Show ~ 6:00pm & 8:00pm
URL:https://notoriousjazz.com/event/randy-porter-trio
LOCATION:The 1905\, 830 N Shaver Sreet\, Portland\, OR\, 97227\, United States
CATEGORIES:Club
ATTACH;FMTTYPE=image/jpeg:https://notoriousjazz.com/wp-content/uploads/2023/10/RANDY-PORTER.jpeg
END:VEVENT
BEGIN:VEVENT
DTSTART;TZID=America/New_York:20231013T200000
DTEND;TZID=America/New_York:20231013T220000
DTSTAMP:20260421T144641
CREATED:20230210T014520Z
LAST-MODIFIED:20230210T014809Z
UID:34113-1697227200-1697234400@notoriousjazz.com
SUMMARY:OSCAR PEÑAS
DESCRIPTION:Oscar PeñasGuitarist/composer Oscar Peñas is a Barcelona\, Spain native and a U.S. naturalized citizen. Leader of his ensembles\, Peñas first started taking guitar lessons at eight and got acquainted with jazz at seventeen years old. At twenty-one\, he left law school for his “mistress\,” music\, and at twenty-four\, he moved to Boston\, where he graduated from Berklee College of Music in 1999 and New England Conservatory of Music in 2007. Since then\, he has lived in NYC. \nPeñas’ innovative compositions\, whose training began with classical studies and later progressed to jazz\, have won the USA’s press and audiences’ attention\, attracting a wide variety of fans through its unique combination of different grooves over the American jazz base. He leads his band with harmonic imagination and authenticity\, writing his original compositions with minimalistic and sensitive musical strokes and exchanging spontaneous creativity with his bandmates. Though his early work was rooted in bebop\, he later developed a more personal style thanks to a few conversations with the latest pianist Cecil Taylor in 2008\, who advised him to embrace his cultural heritage. Subsequently\, Peñas’ began crossing jazz with Iberian\, South American\, and classical strains. \nHis precise finger-picking technique is not a flashy one. It gives his fellow band members space for improvisations and shows all its artistry work\, retaining considerable humility that remains no less impactful. \nFrequently\, he creates arrangements using the guitar\, resulting in a sonic mix that never sacrifices clarity for density or volume despite the added layers of complexity. His compositions are visual with a story tale and improvisation. Oscar’s clever musical experimentation is the essence of his style. His diverse use of different genres to express ideas beyond those in his writings creates extraordinary musical experiences through novelty and particular artistic excellence when performing with his band. Peñas’ intuition and ear drive him into an amalgam of melodies aiming for the innovative unexpected. \nOscar does not look for cohering to a single signature style\, sharing his five recordings with renowned American jazz masters Gil Goldstein\, Paquito D’Rivera\, Esperanza Spalding\, and Ron Carter. \nHe is using his uniqueness in writing his originals for non-traditional instrumentation in jazz. As an independent artist who self-produces all his work it is astonishing to see his access to the best venues in the U.S. to showcase his work. \nOscar’s newly released album\, “Almadraba\,” features legendary bassist Ron Carter\, is available to buy in L.P. and digital formats ONLY at CDBaby. The work is Peñas’ first arranged jazz-classical suite for a jazz quartet and string quartet (eight-piece ensemble). “Almadraba” premiered at BAM Next Wave Festival in 2018. \nSara CaswellViolinist Sara Caswell is from Bloomington\, Indiana\, USA. A Grammy Nominee\, jazz educator. Rooted in early exposure to various musical genres\, Sara’s technical facility intertwined with her gift for lyricism continues to attract growing attention to her artistry as a jazz soloist\, sideman\, and teacher. \nSara is currently faculty at Berklee College of Music and the Manhattan School of Music. She was raised in a musical family and began playing violin at age 5. A graduate of Indiana University\, which she attended under full scholarship as a Wells Scholar\, Sara received B.M. Degrees with High Distinction and an Artist Diploma in Violin Performance and Jazz Studies. In 2006 Sara completed her M.M. Degree in Jazz Violin at the Manhattan School of Music. \nSara has been performing with Oscar Peñas at different prestigious venues\, and she is part of Peñas’ album “Music of Departures and Returns” 2014. \nMotohito FukushimaBorn in Kobe\, Japan\, based in NYC\, six-string bass player\, composer\, and shamisen player Motohito Fukushima was given the Outstanding Performer Award before graduating Summa Cum Laude from Berklee College of Music. He studies Western Classical music\, Japanese traditional music\, and the African-inspired musical sensibilities of South American tunes in his jazz improvisations. Moto’s playing is a fantastic combination of finesse\, subtlety\, and power seen in his performances as a sideman with many other artists. \nMotohito has enjoyed playing with Oscar Peñas since 2011 at Peñas’ quartet\, and he is part of two of Peñas’ albums recordings\, “From Now On\,” 2011 and “Music of Departures and Returns\,” 2014. Fukushima is an endorsed bass player by: Aguilar Amplification. \nRichie BarshayRichie Barshay began drumming inside kitchen cabinets early and continues banging on things worldwide. Born in Connecticut\, he has led outreach projects across five continents as an American Musical Envoy with the U.S. State Department. Richie has recorded over 80 albums as a sideman and his two self-produced albums. Based in New York City and Northampton\, MA\, he is an AmSAT certified Alexander Technique teacher and maintained a private practice for performing artists and others to regain better mind-body coordination and ease of movement. \nBarshay and Oscar have been performing together since 2009. Richie is on both U.S. albums releases\, “From No On” and “Music of Departures and Returns.” Also\, on the coming out\, “Almadraba.” \nBAND MEMBERSOscar Penas – Leader\, Composer\, Electric GuitaristSara Caswell – ViolinistMotohito Fukushima – Electric BassRichie Barshay – Drums
URL:https://notoriousjazz.com/event/34113
LOCATION:Arts Garage\, 94 NE 2nd Avenue\, Delray Beach\, FL\, 33444\, United States
CATEGORIES:Concert
ATTACH;FMTTYPE=image/png:https://notoriousjazz.com/wp-content/uploads/2023/02/OSCAR-PENAS.png
END:VEVENT
BEGIN:VEVENT
DTSTART;TZID=America/Los_Angeles:20231020T193000
DTEND;TZID=America/Los_Angeles:20231020T213000
DTSTAMP:20260421T144641
CREATED:20230617T211305Z
LAST-MODIFIED:20230617T211319Z
UID:35748-1697830200-1697837400@notoriousjazz.com
SUMMARY:EL DEBARGE & AVERY*SUNSHINE
DESCRIPTION:El DeBarge  \nFive-time GRAMMY-nominee El DeBarge got his start as the lead singer of the family group DeBarge\, who were on par with The Jacksons in terms of sheer family talent\, releasing a string of chart-topping hits such as “Rhythm of the Night”\, “Stay With Me”\, “Time Will Reveal”\, “I Like It” and “All This Love”. Known for his unique high tenor register and strong falsetto\, DeBarge went solo\, collaborating with artists like Dionne Warwick\, Chanté Moore and Babyface. His comeback album “Second Chance” was nominated in three GRAMMY categories\, and in 2023 Rolling Stone Magazine ranked him 137 on its list of the 200 Greatest Singers of All Time. \nAvery*Sunshine \nSinger-songwriter and pianist Avery*Sunshine released her first self-titled album in 2010\, which was praised by the media including The Washington Post who called it “a radiant brand of soul”. She’s been a choral director for performances with artists like Michael Bublé\, David Foster\, and Anthony Hamilton. \nParking: $30.00 advanced purchase | $35.00 day of \nValet: $40.00 advanced purchase | $45.00 day of (if not sold out)
URL:https://notoriousjazz.com/event/el-debarge-averysunshine
LOCATION:Hyatt Regency Newport Beach\, 1107 Jamboree Road\, Newport Beach\, CA\, 92660\, United States
CATEGORIES:Concert
ATTACH;FMTTYPE=image/png:https://notoriousjazz.com/wp-content/uploads/2023/06/EL-DEBARGE-AVERYSUNSHINE.png
END:VEVENT
BEGIN:VEVENT
DTSTART;TZID=America/New_York:20231025T183000
DTEND;TZID=America/New_York:20231025T230000
DTSTAMP:20260421T144641
CREATED:20231022T200509Z
LAST-MODIFIED:20231022T200509Z
UID:37533-1698258600-1698274800@notoriousjazz.com
SUMMARY:QUIANA PARLER & THE LAVON STEVENS TRIO
DESCRIPTION:As lead vocalist\, lyricist\, and composer for internationally and critically acclaimed two-time Grammy Award-winning roots music group\, Ranky Tanky\, Quiana Parler spent weeks at #1 on several Billboard Jazz charts. Quiana has spent over 20 years as the most sought-after vocalist in the Lowcountry. Known locally for years prior\, she rose to national prominence after her success on the 2003 season of American Idol. Quiana has worked and collaborated with diverse artists and producers such as Clay Aiken\, Kelly Clarkson\, Ruben Studdard\, Bobby McFerrin\, Miranda Lambert\, David Foster\, Walter Afanasieff and many more. \nHer performances have been featured on national broadcasts like The View\, NBC’s TODAY\, Jimmy Kimmel Live!\, The Tonight Show\, The Tyra Banks Show\, and Saturday Night Live\, as well as the Academy of Country Music Awards and the American Music Awards. Lavon Stevens has traveled and performed all over the country including Aspen\, Colorado\, Atlanta\, Georgia and Orlando\, Florida. The resort vacation destination of Hilton Head Island\, South Carolina has been his home since 1981. He is one of the premier entertainers on Hilton Head Island. He is producing a variety of shows and recording projects including other R&B\, Jazz and Gospel artists. \nCover: $10.00 ~ $15.00
URL:https://notoriousjazz.com/event/quiana-parler-the-lavon-stevens-trio
LOCATION:The Jazz Corner\, 1000 William Hilton Parkway\, Hilton Head Island\, SC\, 29928\, United States
CATEGORIES:Club
ATTACH;FMTTYPE=image/jpeg:https://notoriousjazz.com/wp-content/uploads/2023/10/QUIANA-PARLER.jpeg
END:VEVENT
BEGIN:VEVENT
DTSTART;TZID=America/Los_Angeles:20231029T193000
DTEND;TZID=America/Los_Angeles:20231029T213000
DTSTAMP:20260421T144641
CREATED:20230617T212127Z
LAST-MODIFIED:20230617T214102Z
UID:35752-1698607800-1698615000@notoriousjazz.com
SUMMARY:PETER WHITE\, MINDI ABAIR\, VINCENT INGALA
DESCRIPTION:Over the years\, Peter White has maintained a reputation as one of the most versatile and prolific acoustic guitarists on the contemporary jazz landscape. Armed with an unparalleled combination of lyricism and energy\, he combines elements of jazz\, pop and classical guitar to create a sound that is singular and at the same time accessible to a broad audience. \nBorn in 1954 in Luton\, a small town north of London\, White and his family moved to nearby Letchworth shortly after he was born. As a child\, he learned to play several musical instruments\, including the clarinet\, trombone\, violin and piano. And of course\, like so many youngsters growing up during the heyday of the Beatles and the Rolling Stones\, he gravitated to the guitar. \nHe learned his first chords on an acoustic guitar\, then bought his first electric guitar in his early teens and studied the recordings of the reigning guitar gods of the day – Jimi Hendrix\, Eric Clapton and Jimmy Page. But his musical aspirations ultimately veered back in an acoustic direction following an accident that doomed his beloved electric guitar. The axe was destroyed in a fire\, one that White’s younger brother Danny – an aspiring pianist – accidentally started. \n“The funny thing is that Danny didn’t actually admit to setting that fire for at least twenty-five years\,” says White. “I had been kind of obsessed with the electric guitar at that point in my life\, so that episode kind of forced me to go back to playing the acoustic. In retrospect\, that’s a good thing.” \nIndeed\, White’s interests after the accident shifted more toward the music of acoustic artists like Crosby\, Stills and Nash\, James Taylor\, and Joni Mitchell. Plugged or unplugged\, he had decided by his late teens that music was his calling\, and his first professional gig was at a holiday resort in England when he was 19 years old. \nBarely a year later\, he was invited to join Al Stewart’s band as a keyboardist for a tour of England\, Scotland\, and the U.S. in 1975. In addition to opening for artists like Linda Ronstadt\, Billy Joel and Queen\, White worked with Stewart in the studio in the making of Year of the Cat\, which became a huge hit for Stewart in 1976. The tour and the album marked the beginning of a twenty-year association with Stewart. In that time\, the two musicians co-wrote numerous songs\, including Stewart’s 1978 hit\, “Time Passages.” \nBy the beginning of the ‘80s\, White and Stewart had relocated to Los Angeles\, formed a band called Shot in the Dark\, and established a music publishing company called Lobster Music. Around the same time\, Danny White – he of the burning guitar incident several years earlier – formed a group called Matt Bianco\, which included a talented Polish singer named Basia Trzetrzelewska. Danny White and Basia splintered off to launch the singer’s solo career with the 1987 debut album\, Time and Tide\, which featured Peter White on guitar. \nAfter fifteen years as a backup musician and a session player\, White launched his solo recording career with the 1990 release of Reveillez-Vous (French for “Wake up\,” a title chosen by White in honor of his French mother). The album included several unused songs that White had written for Stewart\, and it became a favorite among contemporary jazz radio stations. \nHe followed with three records on the Sindrome label – Excusez-Moi (1991)\, Promenade (1993) and Reflections (1994) – before signing with Columbia for the 1996 release of Caravan of Dreams. He maintained an ambitious release schedule through the ‘90s and beyond\, but also found time to appear on recordings by many of his friends\, including Dave Koz\, Rick Braun\, Richard Elliot\, Jeff Golub\, Lee Ritenour\, Kirk Whalum\, Boney James and many others. \nOn the road\, he has participated in numerous “Guitars and Saxes” tours with the aforementioned players\, and has established an annual “Peter White Christmas Tour” – the latter enterprise fueled by the success of his two highly regarded holiday albums\, Songs of the Season (1997) and A Peter White Christmas (2007). \nGood Day\, released in 2009 on Peak Records\, a division of Concord Music Group\, was White’s first collection of original songs in several years. “I just started going through my backlog of material – songs that I’d never finished\, some going as far back as ten or fifteen years – and I discovered that I had a lot of gems that I really wanted to show to the world\,” he says. “I wanted to record them in my own time and in my own way\, without any outside influence or interference.” \nWhite released Here We Go in 2012 on Heads Up International\, a division of Concord Music Group. The 11-song set\, produced by White and DC (George Benson\, Larry Carlton\, Bob James\, Patty Austin)\, featured several high-profile guest musicians\, including saxophonists David Sanborn and Kirk Whalum\, and pianist Philippe Saisse\, and included a range of original material written in the recent and distant past. “I wanted variety\,” says White. “I wanted songs that moved me\, in the hopes that they’ll move the listener as well. I’m on a journey\, and I want to bring with me anyone who’s willing to follow.” \nSmile\, released on October 7\, 2014\, is the final CD in White’s trilogy of albums consisting entirely of his own material. Co-produced with DC\, the recording features ten tracks – some were written recently\, some White wrote along the way with close friends and some were from the vault. Special guests include Mindi Abair (vocals)\, Rick Braun (horns)\, Euge Groove (soprano sax) and Philippe Saisse (keyboards\, piano and orchestra programming). White’s daughter\, Charlotte\, plays violin on one song. \nIn a career that spans nearly four decades\, over a dozen solo recordings and countless performances\, White insists that it’s the faces in the crowd and the fans that keep the experience fresh. “I’ll play a live show\, and someone will come to me afterward and say\, ‘Oh\, I loved this CD\,’ or ‘This song helped me through a bad time\,’” he explains. “Or I get emails from people saying\, ‘Oh\, I love the way you covered one of my favorite songs on your record back in 1994.’ The idea that someone can write me an email and tell me about something I did on a record that was released fifteen years ago – you can’t buy that. That’s priceless. That’s what keeps me going – the idea that people out there really care about what I do\, the idea that I’ve made a difference for someone.” \nParking: $30.00 advanced purchase | $35.00 day of \nValet: $40.00 advanced purchase | $45.00 day of (if not sold out)
URL:https://notoriousjazz.com/event/peter-white-mindi-abair-vincent-ingala
LOCATION:Hyatt Regency Newport Beach\, 1107 Jamboree Road\, Newport Beach\, CA\, 92660\, United States
CATEGORIES:Concert
ATTACH;FMTTYPE=image/png:https://notoriousjazz.com/wp-content/uploads/2023/06/PETER-WHITE-MINDI-ABAIR-VINCENT-INGALA.png
END:VEVENT
END:VCALENDAR