BEGIN:VCALENDAR
VERSION:2.0
PRODID:-//Notorious Jazz - ECPv6.15.17//NONSGML v1.0//EN
CALSCALE:GREGORIAN
METHOD:PUBLISH
X-WR-CALNAME:Notorious Jazz
X-ORIGINAL-URL:https://notoriousjazz.com
X-WR-CALDESC:Events for Notorious Jazz
REFRESH-INTERVAL;VALUE=DURATION:PT1H
X-Robots-Tag:noindex
X-PUBLISHED-TTL:PT1H
BEGIN:VTIMEZONE
TZID:America/New_York
BEGIN:DAYLIGHT
TZOFFSETFROM:-0500
TZOFFSETTO:-0400
TZNAME:EDT
DTSTART:20220313T070000
END:DAYLIGHT
BEGIN:STANDARD
TZOFFSETFROM:-0400
TZOFFSETTO:-0500
TZNAME:EST
DTSTART:20221106T060000
END:STANDARD
BEGIN:DAYLIGHT
TZOFFSETFROM:-0500
TZOFFSETTO:-0400
TZNAME:EDT
DTSTART:20230312T070000
END:DAYLIGHT
BEGIN:STANDARD
TZOFFSETFROM:-0400
TZOFFSETTO:-0500
TZNAME:EST
DTSTART:20231105T060000
END:STANDARD
BEGIN:DAYLIGHT
TZOFFSETFROM:-0500
TZOFFSETTO:-0400
TZNAME:EDT
DTSTART:20240310T070000
END:DAYLIGHT
BEGIN:STANDARD
TZOFFSETFROM:-0400
TZOFFSETTO:-0500
TZNAME:EST
DTSTART:20241103T060000
END:STANDARD
END:VTIMEZONE
BEGIN:VEVENT
DTSTART;TZID=America/New_York:20231103T200000
DTEND;TZID=America/New_York:20231103T220000
DTSTAMP:20260421T131906
CREATED:20230903T050014Z
LAST-MODIFIED:20230903T050014Z
UID:36907-1699041600-1699048800@notoriousjazz.com
SUMMARY:HENRY MANCINI 100TH BIRTHDAY CELEBRATION
DESCRIPTION:Starring Monica Mancini with special guests John Pizzarelli\, Shelly Berg\, Gregg Field and Frost School of Music’s Henry Mancini Institute \nFrom “Moon River” to “The Pink Panther Theme\,” “Baby Elephant Walk” and “Days of Wine and Roses\,” Henry Mancini composed some of the most beloved music of our time\, while revolutionizing the art of film scoring. \nThe Frost School of Music’s Henry Mancini Institute Orchestra will be joined onstage by Henry’s daughter\, two-time Grammy-nominated vocalist Monica Mancini\, and eight-time Grammy winner Gregg Field\, plus other surprise guest artists in a multimedia event to kick off the centenary celebration of Mancini’s birth.
URL:https://notoriousjazz.com/event/henry-mancini-100th-birthday-celebration
LOCATION:Adrienne Arsht Center | Knight Concert Hall\, 1300 Biscayne Boulevard\, Miami\, FL\, 33132\, United States
CATEGORIES:Concert
ATTACH;FMTTYPE=image/jpeg:https://notoriousjazz.com/wp-content/uploads/2023/09/HENRY-MANCINI.jpg
END:VEVENT
END:VCALENDAR