BEGIN:VCALENDAR
VERSION:2.0
PRODID:-//Notorious Jazz - ECPv6.15.17//NONSGML v1.0//EN
CALSCALE:GREGORIAN
METHOD:PUBLISH
X-ORIGINAL-URL:https://notoriousjazz.com
X-WR-CALDESC:Events for Notorious Jazz
REFRESH-INTERVAL;VALUE=DURATION:PT1H
X-Robots-Tag:noindex
X-PUBLISHED-TTL:PT1H
BEGIN:VTIMEZONE
TZID:America/New_York
BEGIN:DAYLIGHT
TZOFFSETFROM:-0500
TZOFFSETTO:-0400
TZNAME:EDT
DTSTART:20230312T070000
END:DAYLIGHT
BEGIN:STANDARD
TZOFFSETFROM:-0400
TZOFFSETTO:-0500
TZNAME:EST
DTSTART:20231105T060000
END:STANDARD
BEGIN:DAYLIGHT
TZOFFSETFROM:-0500
TZOFFSETTO:-0400
TZNAME:EDT
DTSTART:20240310T070000
END:DAYLIGHT
BEGIN:STANDARD
TZOFFSETFROM:-0400
TZOFFSETTO:-0500
TZNAME:EST
DTSTART:20241103T060000
END:STANDARD
BEGIN:DAYLIGHT
TZOFFSETFROM:-0500
TZOFFSETTO:-0400
TZNAME:EDT
DTSTART:20250309T070000
END:DAYLIGHT
BEGIN:STANDARD
TZOFFSETFROM:-0400
TZOFFSETTO:-0500
TZNAME:EST
DTSTART:20251102T060000
END:STANDARD
END:VTIMEZONE
BEGIN:VEVENT
DTSTART;TZID=America/New_York:20240406T200000
DTEND;TZID=America/New_York:20240406T230000
DTSTAMP:20260421T042021
CREATED:20240324T152006Z
LAST-MODIFIED:20240324T160133Z
UID:39917-1712433600-1712444400@notoriousjazz.com
SUMMARY:JIMMY OWENS
DESCRIPTION:Trumpeter Jimmy Owens is also a composer\, arranger\, lecturer\, and educator. Over the course of his on-going sixty year career he has played with  Sir Roland Hanna\, Ron Carter\, Billy Cobham\, Benny Golson\, Hubert Laws\, and Tom McIntosh\, Frank Wess\, Seldon Powell\, Barry Galbraith\, Bob Cranshaw\, Duke Ellington\, Lionel Hampton\, Charles Mingus\, Hank Crawford\, Dizzy Gillespie\, Count Basie\, and Herbie Mann\, among many others. Since 1969\, he has led his own group\, Jimmy Owens Plus.
URL:https://notoriousjazz.com/event/jimmy-owens
LOCATION:Sistas’ Place\, 456 Nostrand Avenue\, Brooklyn\, NY\, 11216\, United States
CATEGORIES:Club
ATTACH;FMTTYPE=image/jpeg:https://notoriousjazz.com/wp-content/uploads/2024/03/JIMMY-OWENS.jpg
END:VEVENT
BEGIN:VEVENT
DTSTART;TZID=America/New_York:20240425T190000
DTEND;TZID=America/New_York:20240425T210000
DTSTAMP:20260421T042021
CREATED:20240425T033707Z
LAST-MODIFIED:20240425T033707Z
UID:40479-1714071600-1714078800@notoriousjazz.com
SUMMARY:NNENNA FREELON
DESCRIPTION:Vocalist\, composer\, producer\, arranger and 7 time Grammy nominee Nnenna Freelon brings her talent to the Hayti Heritage Center on the campus of North Carolina Central University. \nShe is joined by her ensemble including bassist John Brown\, the NCCU Jazz Ensemble under the direction of Robert Trowers\, and the NCCU Vocal Jazz Ensemble directed by Dr. Lenora Helms Hammonds.
URL:https://notoriousjazz.com/event/nnenna-freelon
LOCATION:Hayti Hertigae Center\, 801 Fayetteville Street\, Durham\, NC\, 27705\, United States
CATEGORIES:Concert
ATTACH;FMTTYPE=image/jpeg:https://notoriousjazz.com/wp-content/uploads/2022/09/NNENA-FREELON.jpg
END:VEVENT
END:VCALENDAR