BEGIN:VCALENDAR
VERSION:2.0
PRODID:-//Notorious Jazz - ECPv6.15.17//NONSGML v1.0//EN
CALSCALE:GREGORIAN
METHOD:PUBLISH
X-ORIGINAL-URL:https://notoriousjazz.com
X-WR-CALDESC:Events for Notorious Jazz
REFRESH-INTERVAL;VALUE=DURATION:PT1H
X-Robots-Tag:noindex
X-PUBLISHED-TTL:PT1H
BEGIN:VTIMEZONE
TZID:America/New_York
BEGIN:DAYLIGHT
TZOFFSETFROM:-0500
TZOFFSETTO:-0400
TZNAME:EDT
DTSTART:20220313T070000
END:DAYLIGHT
BEGIN:STANDARD
TZOFFSETFROM:-0400
TZOFFSETTO:-0500
TZNAME:EST
DTSTART:20221106T060000
END:STANDARD
BEGIN:DAYLIGHT
TZOFFSETFROM:-0500
TZOFFSETTO:-0400
TZNAME:EDT
DTSTART:20230312T070000
END:DAYLIGHT
BEGIN:STANDARD
TZOFFSETFROM:-0400
TZOFFSETTO:-0500
TZNAME:EST
DTSTART:20231105T060000
END:STANDARD
BEGIN:DAYLIGHT
TZOFFSETFROM:-0500
TZOFFSETTO:-0400
TZNAME:EDT
DTSTART:20240310T070000
END:DAYLIGHT
BEGIN:STANDARD
TZOFFSETFROM:-0400
TZOFFSETTO:-0500
TZNAME:EST
DTSTART:20241103T060000
END:STANDARD
END:VTIMEZONE
BEGIN:VEVENT
DTSTART;TZID=America/New_York:20230909T150000
DTEND;TZID=America/New_York:20230909T213000
DTSTAMP:20260421T181156
CREATED:20230807T212254Z
LAST-MODIFIED:20230807T223249Z
UID:36564-1694271600-1694295000@notoriousjazz.com
SUMMARY:JACKSON STREET JAZZ WALK
DESCRIPTION:Admission By Donation For All Events \nLocation: Wonder Bar\, 1800 S Jackson Street\, Seattle 98144 \n\nGood Company featuring Butch Harrison | 5:00pm ~ 7:00pm | Jazz\, Blues\, Soul\nPritt & Itson: E. Pritt & Maureese Itson | 7:30pm ~ 9:30pm | Contemporary Jazz\, R&B\, Funk\n\nLocation: Cass Green Dolphin Room\, 500 30th Avenue S\, Seattle 98144 \n\nLine Dance with The Sliders | 3:00pm ~ 4:00pm\nKing Dre Trifecta | 4:30pm ~ 6:30pm | Jazz\, Funk\, Soul\, Instrumental Music\nFrank Salero: Tribute To Ray Charles ~ His Life In Music | 7:00pm ~ 9:00pm\n\nLocation: Cheeky Cafe\, 1700 S Jackson Street\, Seattle 98144 \n\nTina | 5:00pm ~ 6:15pm | Soulful Singer & Guitarist\nCharles Cunningham Jr. | 6:30 ~ 7:45pm | Solo Jazz Guitarist\n\nLocation: Jackson Apartments\, 2401 S Jackson Street\, Seattle 98144 \n\nThe Kelley Johnson Quartet | 500pm ~ 6:30pm | Vocal Jazz\nAlma Villegas | 7:00 ~ 8:30pm | Latin Jazz\n\nLocation: Pratt Fine Arts ~ Mural Stage\, 1902 South MainStreet\, Seattle 98144 \n\nComfort Food | 5:00pm ~ 6:15pm | Jazz\, Afro\, Latin\, Funk\, Reggae\nJoe Brazil Legacy Band ~ 6:30pm ~ 8:00pm | Music Commemorating Seattle Jazz Great Joe  Brazil\n\nLocation: Pratt Fine Arts ~ Court Stage\, 1700 S Jackson Street\, Seattle 98144 \n\nTodo Es | 5:00pm ~ 6:15pm | Brazilian & Cuban Vocal Jazz\nJovino Santos Neto Quarteto | 6:30pm ~ 8:00pm\n\nLocation: Jackson Street Pizza Lounge\, 2901 S Jackson Street\, Seattle 98144 \n\nThe Reggie Goines Quartet | 5:00pm ~ 6:30pm | Vocal Trumpeter\, Jazz\, Blues\, Soul\nThe Jay Mabin Trio | 7:00pm ~ 9:00pm | Harmonica Led Jazz\, Latin\, Blues\n\nLocation: Shewar~Ber Bar & Restaurant\, 1801 S Jackson Street\, Seattle 98144 \n\nMaureese Itson |  5:00pm ~ 6:30pm | Soulful Vocalist & Saxophonist\nThe Park Evans Trio | 7:00pm ~ 8:30pm | Guitarist\, Original Multi~Style Influenced Music
URL:https://notoriousjazz.com/event/good-company-pritt-itson
LOCATION:Jackson Street Jazz Walk\, S Jackson Street &\, Seattle\, WA\, United States
CATEGORIES:Festival
ATTACH;FMTTYPE=image/jpeg:https://notoriousjazz.com/wp-content/uploads/2023/08/JACKSON-STREET-.jpg
END:VEVENT
END:VCALENDAR