BEGIN:VCALENDAR
VERSION:2.0
PRODID:-//Notorious Jazz - ECPv6.15.17//NONSGML v1.0//EN
CALSCALE:GREGORIAN
METHOD:PUBLISH
X-WR-CALNAME:Notorious Jazz
X-ORIGINAL-URL:https://notoriousjazz.com
X-WR-CALDESC:Events for Notorious Jazz
REFRESH-INTERVAL;VALUE=DURATION:PT1H
X-Robots-Tag:noindex
X-PUBLISHED-TTL:PT1H
BEGIN:VTIMEZONE
TZID:America/New_York
BEGIN:DAYLIGHT
TZOFFSETFROM:-0500
TZOFFSETTO:-0400
TZNAME:EDT
DTSTART:20220313T070000
END:DAYLIGHT
BEGIN:STANDARD
TZOFFSETFROM:-0400
TZOFFSETTO:-0500
TZNAME:EST
DTSTART:20221106T060000
END:STANDARD
BEGIN:DAYLIGHT
TZOFFSETFROM:-0500
TZOFFSETTO:-0400
TZNAME:EDT
DTSTART:20230312T070000
END:DAYLIGHT
BEGIN:STANDARD
TZOFFSETFROM:-0400
TZOFFSETTO:-0500
TZNAME:EST
DTSTART:20231105T060000
END:STANDARD
BEGIN:DAYLIGHT
TZOFFSETFROM:-0500
TZOFFSETTO:-0400
TZNAME:EDT
DTSTART:20240310T070000
END:DAYLIGHT
BEGIN:STANDARD
TZOFFSETFROM:-0400
TZOFFSETTO:-0500
TZNAME:EST
DTSTART:20241103T060000
END:STANDARD
END:VTIMEZONE
BEGIN:VEVENT
DTSTART;TZID=America/New_York:20230929T180000
DTEND;TZID=America/New_York:20230929T200000
DTSTAMP:20260421T213804
CREATED:20230902T004657Z
LAST-MODIFIED:20230902T005518Z
UID:36884-1696010400-1696017600@notoriousjazz.com
SUMMARY:DEMETRIUS NABORS
DESCRIPTION:Pianist\, composer\, producer and arranger Demetrius “Krayon” Nabors is well known and in demand in the Detroit area and on the national contemporary jazz scene. He is a two-time Detroit Music Award Winner in the Outstanding Gospel/Christian Musician category. \nHis considerable talents caught the attention of numerous high-profile national artists\, including R&B singer KEM\, flutist Althea Rene\, guitarist Tim Bowman and trumpeter Willie Bradley.Demetrius’ productions for these artists have garnered Billboard chart successes: #1 for KEM’s single “Nobody” (2014)\, #2 for Willie Bradley’s “It’s On Now” (2020) and #5 for Althea Rene’s “Barbara Mae” (2019). In addition\, “Nobody” was nominated for the Best Traditional R&B Performance at the 57th Grammy Awards in 2014. Demetrius’ discography includes four critically acclaimed releases\, “The Journey Within Part I” (2011)\, “Christmas with Krayon” (2012)\, “The Journey Within Part II” (2014) and “Perseverance” (2021). His latest\, “Evolution” is set to be released in September of 2022 and was inspired by his graduate studies at the University of Michigan.
URL:https://notoriousjazz.com/event/demetrius-nabors
LOCATION:The Blue Llama\, 314 S Main Street\, Ann Arbor\, MI\, 48104\, United States
CATEGORIES:Club
ATTACH;FMTTYPE=image/jpeg:https://notoriousjazz.com/wp-content/uploads/2023/09/DEMETRIUS-NABORS.jpg
END:VEVENT
END:VCALENDAR