BEGIN:VCALENDAR
VERSION:2.0
PRODID:-//Notorious Jazz - ECPv6.15.17//NONSGML v1.0//EN
CALSCALE:GREGORIAN
METHOD:PUBLISH
X-ORIGINAL-URL:https://notoriousjazz.com
X-WR-CALDESC:Events for Notorious Jazz
REFRESH-INTERVAL;VALUE=DURATION:PT1H
X-Robots-Tag:noindex
X-PUBLISHED-TTL:PT1H
BEGIN:VTIMEZONE
TZID:America/Los_Angeles
BEGIN:DAYLIGHT
TZOFFSETFROM:-0800
TZOFFSETTO:-0700
TZNAME:PDT
DTSTART:20220313T100000
END:DAYLIGHT
BEGIN:STANDARD
TZOFFSETFROM:-0700
TZOFFSETTO:-0800
TZNAME:PST
DTSTART:20221106T090000
END:STANDARD
BEGIN:DAYLIGHT
TZOFFSETFROM:-0800
TZOFFSETTO:-0700
TZNAME:PDT
DTSTART:20230312T100000
END:DAYLIGHT
BEGIN:STANDARD
TZOFFSETFROM:-0700
TZOFFSETTO:-0800
TZNAME:PST
DTSTART:20231105T090000
END:STANDARD
BEGIN:DAYLIGHT
TZOFFSETFROM:-0800
TZOFFSETTO:-0700
TZNAME:PDT
DTSTART:20240310T100000
END:DAYLIGHT
BEGIN:STANDARD
TZOFFSETFROM:-0700
TZOFFSETTO:-0800
TZNAME:PST
DTSTART:20241103T090000
END:STANDARD
END:VTIMEZONE
BEGIN:VEVENT
DTSTART;TZID=America/Los_Angeles:20231001T190000
DTEND;TZID=America/Los_Angeles:20231001T203000
DTSTAMP:20260421T162420
CREATED:20230714T140041Z
LAST-MODIFIED:20230714T140041Z
UID:36190-1696186800-1696192200@notoriousjazz.com
SUMMARY:MONTY ALEXANDER
DESCRIPTION:Nearly sixty years after he moved to the United States from Kingston\, Jamaica\, his hometown\, Grammy nominated pianist Monty Alexander is an American classic\, touring the world relentlessly with various projects\, delighting a global audience drawn to his vibrant personality and soulful message. A perennial favorite at Jazz festivals and venues worldwide and at the Montreux Jazz Festival where he has appeared 23 times since 1976\, his spirited conception is one informed by the timeless verities: endless melody-making\, effervescent grooves\, sophisticated voicings\, a romantic spirit\, and a consistent predisposition\, as Alexander accurately states\, “to build up the heat and kick up a storm.” In the course of any given performance\, Alexander applies those aesthetics to a repertoire spanning a broad range of jazz and Jamaican musical expressions—the American songbook and the blues\, gospel and bebop\, calypso and reggae. Documented on more than 75 recordings and cited as the fifth greatest jazz pianist ever in The Fifty Greatest Jazz Piano Players of All Time (Hal Leonard Publishing)\, the Jamaican government designated Alexander Commander in the Order of Distinction in 2000 and conferred on him the national honor of the Order of Jamaica in 2022 for “Sterling Contributions to the Promotions of Jamaican Music and the Jazz Genre Interpretations Globally”. In 2018 the University of The West Indies bestowed him with an honorary doctorate degree (DLitt) in recognition of his accomplishments. \nMonty’s latest album (released August 19\, 2022) is titled Love Notes and is his first recording featuring his vocals. The release of “Love Notes” will be accompanied by tour dates worldwide. Also in the works is “The Monty Alexander Movie\,” a documentary on Monty’s life and music. Directed by Academy Award-winning cinematographer Jefferson Miller\, and veteran filmmaker Arthur Gorson\, the project is currently in production in Jamaica\, the U.S. and Europe.
URL:https://notoriousjazz.com/event/monty-alexander-4
LOCATION:Yoshi’s\, 510 Embarcadero West\, Oakland\, CA\, 94607\, United States
CATEGORIES:Club
ATTACH;FMTTYPE=image/jpeg:https://notoriousjazz.com/wp-content/uploads/2023/07/MONTY-ALEXANDER.jpg
END:VEVENT
END:VCALENDAR