BEGIN:VCALENDAR
VERSION:2.0
PRODID:-//Notorious Jazz - ECPv6.15.17//NONSGML v1.0//EN
CALSCALE:GREGORIAN
METHOD:PUBLISH
X-WR-CALNAME:Notorious Jazz
X-ORIGINAL-URL:https://notoriousjazz.com
X-WR-CALDESC:Events for Notorious Jazz
REFRESH-INTERVAL;VALUE=DURATION:PT1H
X-Robots-Tag:noindex
X-PUBLISHED-TTL:PT1H
BEGIN:VTIMEZONE
TZID:America/New_York
BEGIN:DAYLIGHT
TZOFFSETFROM:-0500
TZOFFSETTO:-0400
TZNAME:EDT
DTSTART:20230312T070000
END:DAYLIGHT
BEGIN:STANDARD
TZOFFSETFROM:-0400
TZOFFSETTO:-0500
TZNAME:EST
DTSTART:20231105T060000
END:STANDARD
BEGIN:DAYLIGHT
TZOFFSETFROM:-0500
TZOFFSETTO:-0400
TZNAME:EDT
DTSTART:20240310T070000
END:DAYLIGHT
BEGIN:STANDARD
TZOFFSETFROM:-0400
TZOFFSETTO:-0500
TZNAME:EST
DTSTART:20241103T060000
END:STANDARD
BEGIN:DAYLIGHT
TZOFFSETFROM:-0500
TZOFFSETTO:-0400
TZNAME:EDT
DTSTART:20250309T070000
END:DAYLIGHT
BEGIN:STANDARD
TZOFFSETFROM:-0400
TZOFFSETTO:-0500
TZNAME:EST
DTSTART:20251102T060000
END:STANDARD
END:VTIMEZONE
BEGIN:VEVENT
DTSTART;TZID=America/New_York:20240301T080000
DTEND;TZID=America/New_York:20240303T170000
DTSTAMP:20260421T083619
CREATED:20240121T045647Z
LAST-MODIFIED:20240127T214247Z
UID:38897-1709280000-1709485200@notoriousjazz.com
SUMMARY:MONTREUX JAZZ FESTIVAL MIAMI
DESCRIPTION:Thursday ~ February 29 | 3~Day VIP Holders Pre~Opening Reception Special Performance by ELEW \nFriday | March 1st ~ Jon Batiste & Friends with Cécile McLorin Salvant\, Israel Houghton\, Lia De Itamaracá\, Rogét Chahayed\, Justin Kauglin \nSaturday | March 2nd ~ Daniela Mercury\, Seu Jorge\, Cimafunk\, Adrian Cota & The Winston House Band \nSunday | March 3rd ~ Daryl Hall\, The Wailers\, Cory Henry\, Emily Estefan\, Mathis Picard \nLegendary Montreux Jam Session: $109 | Keeping with the tradition of the Montreux Jazz Festival in Switzerland\, we are offering nightly late night Jam Sessions after the headliners.   This is a seperate ticket exclusively for the late night Jam Sessions starting at 11pm.  Each night will feature the MJFM House Band with special guests and surprises.
URL:https://notoriousjazz.com/event/montreux-jazz-festival-miami
LOCATION:The Hangar | Regatta Harbour\, 3385 Pan American Drive\, Coconut Grove\, FL\, 33133\, United States
CATEGORIES:Festival
ATTACH;FMTTYPE=image/png:https://notoriousjazz.com/wp-content/uploads/2024/01/MONTREUX-MIAMI-LINEUP.png
END:VEVENT
END:VCALENDAR