BEGIN:VCALENDAR
VERSION:2.0
PRODID:-//Notorious Jazz - ECPv6.15.17//NONSGML v1.0//EN
CALSCALE:GREGORIAN
METHOD:PUBLISH
X-ORIGINAL-URL:https://notoriousjazz.com
X-WR-CALDESC:Events for Notorious Jazz
REFRESH-INTERVAL;VALUE=DURATION:PT1H
X-Robots-Tag:noindex
X-PUBLISHED-TTL:PT1H
BEGIN:VTIMEZONE
TZID:America/New_York
BEGIN:DAYLIGHT
TZOFFSETFROM:-0500
TZOFFSETTO:-0400
TZNAME:EDT
DTSTART:20230312T070000
END:DAYLIGHT
BEGIN:STANDARD
TZOFFSETFROM:-0400
TZOFFSETTO:-0500
TZNAME:EST
DTSTART:20231105T060000
END:STANDARD
BEGIN:DAYLIGHT
TZOFFSETFROM:-0500
TZOFFSETTO:-0400
TZNAME:EDT
DTSTART:20240310T070000
END:DAYLIGHT
BEGIN:STANDARD
TZOFFSETFROM:-0400
TZOFFSETTO:-0500
TZNAME:EST
DTSTART:20241103T060000
END:STANDARD
BEGIN:DAYLIGHT
TZOFFSETFROM:-0500
TZOFFSETTO:-0400
TZNAME:EDT
DTSTART:20250309T070000
END:DAYLIGHT
BEGIN:STANDARD
TZOFFSETFROM:-0400
TZOFFSETTO:-0500
TZNAME:EST
DTSTART:20251102T060000
END:STANDARD
END:VTIMEZONE
BEGIN:VEVENT
DTSTART;TZID=America/New_York:20240706T181500
DTEND;TZID=America/New_York:20240706T220000
DTSTAMP:20260421T041904
CREATED:20240629T200135Z
LAST-MODIFIED:20240629T200135Z
UID:41440-1720289700-1720303200@notoriousjazz.com
SUMMARY:ALTHEA RENÉ
DESCRIPTION:Born on December 25th in Detroit\, Michigan Althea René began her musical journey at the tender age of four. She studied classical music while attending Howard University. She gained musical inspiration from her father Dezie McCullers (one of Motown’s original Funk Brothers). She has since developed her own creative style. Some regard her as a “master of her craft” and one of the world’s most exciting solo improvisational flutists. The multi-platinum and Grammy-nominated saxophonist Najee playfully refers to her as the “Maceo of the flute”. \nWith a passionate mission to mentor women in the entertainment industry\, Althea René authored an autobiography entitled “Becoming Chocolate Barbie – a guide for professional women in the music business” in June 2018. The book was written in an interview format so that readers may easily use it as a reference resource. Women who aspire for a life in business can appreciate the insights she shares. \nAlthea René gained musical inspiration from her father Dezie McCullers (one of Motown’s original Funk Brothers). She has since developed her own creative style. Some regard her as a “master of her craft” and one of the world’s most exciting solo improvisational flautists. The multi-platinum and Grammy-nominated saxophonist Najee playfully refers to her as the “Maceo of the flute”.
URL:https://notoriousjazz.com/event/althea-rene
LOCATION:Middle C Jazz\, 300 South Brevard Street\, Charlotte\, NC\, 28202\, United States
CATEGORIES:Club
ATTACH;FMTTYPE=image/jpeg:https://notoriousjazz.com/wp-content/uploads/2024/06/ALTHEA-RENE.jpg
END:VEVENT
END:VCALENDAR