BEGIN:VCALENDAR
VERSION:2.0
PRODID:-//Notorious Jazz - ECPv6.15.17//NONSGML v1.0//EN
CALSCALE:GREGORIAN
METHOD:PUBLISH
X-WR-CALNAME:Notorious Jazz
X-ORIGINAL-URL:https://notoriousjazz.com
X-WR-CALDESC:Events for Notorious Jazz
REFRESH-INTERVAL;VALUE=DURATION:PT1H
X-Robots-Tag:noindex
X-PUBLISHED-TTL:PT1H
BEGIN:VTIMEZONE
TZID:America/New_York
BEGIN:DAYLIGHT
TZOFFSETFROM:-0500
TZOFFSETTO:-0400
TZNAME:EDT
DTSTART:20210314T070000
END:DAYLIGHT
BEGIN:STANDARD
TZOFFSETFROM:-0400
TZOFFSETTO:-0500
TZNAME:EST
DTSTART:20211107T060000
END:STANDARD
BEGIN:DAYLIGHT
TZOFFSETFROM:-0500
TZOFFSETTO:-0400
TZNAME:EDT
DTSTART:20220313T070000
END:DAYLIGHT
BEGIN:STANDARD
TZOFFSETFROM:-0400
TZOFFSETTO:-0500
TZNAME:EST
DTSTART:20221106T060000
END:STANDARD
BEGIN:DAYLIGHT
TZOFFSETFROM:-0500
TZOFFSETTO:-0400
TZNAME:EDT
DTSTART:20230312T070000
END:DAYLIGHT
BEGIN:STANDARD
TZOFFSETFROM:-0400
TZOFFSETTO:-0500
TZNAME:EST
DTSTART:20231105T060000
END:STANDARD
END:VTIMEZONE
BEGIN:VEVENT
DTSTART;TZID=America/New_York:20221126T200000
DTEND;TZID=America/New_York:20221126T220000
DTSTAMP:20260422T184952
CREATED:20221123T153147Z
LAST-MODIFIED:20221123T153147Z
UID:32807-1669492800-1669500000@notoriousjazz.com
SUMMARY:NESTOR TORRES
DESCRIPTION:n evening with world-class jazz flautist and Latin Grammy winner Nestor Torres and his ensemble\, performing Latin jazz\, pop and other genres. Nestor Torres is a Puerto Rican flautist. He studied at Berklee College of Music\, Mannes School of Music in NYC and later at the New England Conservatory of Music in Boston. His career includes collaborations with Herbie Hancock\, Tito Puente and Gloria Estefan\, to mention a few. He has released 18 CDs and has earned 4 Latin Grammy nominations\, 1 Latin Grammy Award\, and a Grammy nomination. His playing incorporates Latin jazz\, pop\, straight-ahead jazz and classical styles. One of his most notable albums\, Dances\, Prayers & Meditations for Peace\, is based on his improvised performances in various houses of worship near Ground Zero in the aftermath of the 9/11 terrorist attacks. He was commissioned to compose the album’s title track\, which he performed for the Dalai Lama during the spiritual leader’s visit to Miami.
URL:https://notoriousjazz.com/event/nestor-torres
LOCATION:Westchester Cultural Arts Center\, 7930 SW 40th Street\, Miami\, FL\, 33155\, United States
CATEGORIES:Concert
ATTACH;FMTTYPE=image/jpeg:https://notoriousjazz.com/wp-content/uploads/2022/11/NESTOR-TORRES.jpeg
END:VEVENT
END:VCALENDAR