BEGIN:VCALENDAR
VERSION:2.0
PRODID:-//Notorious Jazz - ECPv6.15.17//NONSGML v1.0//EN
CALSCALE:GREGORIAN
METHOD:PUBLISH
X-WR-CALNAME:Notorious Jazz
X-ORIGINAL-URL:https://notoriousjazz.com
X-WR-CALDESC:Events for Notorious Jazz
REFRESH-INTERVAL;VALUE=DURATION:PT1H
X-Robots-Tag:noindex
X-PUBLISHED-TTL:PT1H
BEGIN:VTIMEZONE
TZID:America/New_York
BEGIN:DAYLIGHT
TZOFFSETFROM:-0500
TZOFFSETTO:-0400
TZNAME:EDT
DTSTART:20220313T070000
END:DAYLIGHT
BEGIN:STANDARD
TZOFFSETFROM:-0400
TZOFFSETTO:-0500
TZNAME:EST
DTSTART:20221106T060000
END:STANDARD
BEGIN:DAYLIGHT
TZOFFSETFROM:-0500
TZOFFSETTO:-0400
TZNAME:EDT
DTSTART:20230312T070000
END:DAYLIGHT
BEGIN:STANDARD
TZOFFSETFROM:-0400
TZOFFSETTO:-0500
TZNAME:EST
DTSTART:20231105T060000
END:STANDARD
BEGIN:DAYLIGHT
TZOFFSETFROM:-0500
TZOFFSETTO:-0400
TZNAME:EDT
DTSTART:20240310T070000
END:DAYLIGHT
BEGIN:STANDARD
TZOFFSETFROM:-0400
TZOFFSETTO:-0500
TZNAME:EST
DTSTART:20241103T060000
END:STANDARD
END:VTIMEZONE
BEGIN:VEVENT
DTSTART;TZID=America/New_York:20230812T200000
DTEND;TZID=America/New_York:20230812T220000
DTSTAMP:20260422T005218
CREATED:20230808T182755Z
LAST-MODIFIED:20230808T191035Z
UID:36602-1691870400-1691877600@notoriousjazz.com
SUMMARY:ANDREA BRACHFELD QUARTET
DESCRIPTION:Andrea Brachfeld is an American jazz and Latin jazz flutist. She attended The High School of Music and Art and the Manhattan School of Music. She had her first professional performance at the age of 16. In 1974\, she received the Louis Armstrong Award for outstanding Jazz student. She studied with Hubert Laws\, Jimmy Heath\, George Coleman\, and Eddie Daniels. Her breakthrough came when she became flutist for the Latin band Charanga ’76. \nJoining her on the bandstand are Mamiko Watanabe\, Obasi Akoto & Alvester Garnett.
URL:https://notoriousjazz.com/event/andrea-brachfeld-quartet
LOCATION:Maureen’s Jazz Cellar\, 2 N Broadway\, Nyack\, NY\, 10960\, United States
CATEGORIES:Club
ATTACH;FMTTYPE=image/jpeg:https://notoriousjazz.com/wp-content/uploads/2023/08/ANDREA-BRACHFELD.jpg
END:VEVENT
END:VCALENDAR