BEGIN:VCALENDAR
VERSION:2.0
PRODID:-//Notorious Jazz - ECPv6.15.17//NONSGML v1.0//EN
CALSCALE:GREGORIAN
METHOD:PUBLISH
X-WR-CALNAME:Notorious Jazz
X-ORIGINAL-URL:https://notoriousjazz.com
X-WR-CALDESC:Events for Notorious Jazz
REFRESH-INTERVAL;VALUE=DURATION:PT1H
X-Robots-Tag:noindex
X-PUBLISHED-TTL:PT1H
BEGIN:VTIMEZONE
TZID:America/New_York
BEGIN:DAYLIGHT
TZOFFSETFROM:-0500
TZOFFSETTO:-0400
TZNAME:EDT
DTSTART:20210314T070000
END:DAYLIGHT
BEGIN:STANDARD
TZOFFSETFROM:-0400
TZOFFSETTO:-0500
TZNAME:EST
DTSTART:20211107T060000
END:STANDARD
BEGIN:DAYLIGHT
TZOFFSETFROM:-0500
TZOFFSETTO:-0400
TZNAME:EDT
DTSTART:20220313T070000
END:DAYLIGHT
BEGIN:STANDARD
TZOFFSETFROM:-0400
TZOFFSETTO:-0500
TZNAME:EST
DTSTART:20221106T060000
END:STANDARD
BEGIN:DAYLIGHT
TZOFFSETFROM:-0500
TZOFFSETTO:-0400
TZNAME:EDT
DTSTART:20230312T070000
END:DAYLIGHT
BEGIN:STANDARD
TZOFFSETFROM:-0400
TZOFFSETTO:-0500
TZNAME:EST
DTSTART:20231105T060000
END:STANDARD
END:VTIMEZONE
BEGIN:VEVENT
DTSTART;TZID=America/New_York:20220612T133000
DTEND;TZID=America/New_York:20220612T163000
DTSTAMP:20260423T061807
CREATED:20220626T053048Z
LAST-MODIFIED:20220628T030820Z
UID:30430-1655040600-1655051400@notoriousjazz.com
SUMMARY:JORGE GARCIA BAND
DESCRIPTION:Guitarist Jorge Garcia brings all the richness and melodic soul of Latin rhythms from his birthplace of Cuba. His intense passion for his instrument is immediately visible and colorfully audible through his unique original compositions\, impeccable solos and supportive\, rhythmic guitar. He has performed across the globe with the renowned and impressive talents of Tony Bennett\, Richie Cole\, Patti Page\, Andrea Bocelli\, Bucky Pizzarelli\, Joel Grey\, Enrique Iglesias\, Trini Lopez\, The Drifters\, and Bobby Riddell.
URL:https://notoriousjazz.com/event/jorge-garcia-bnd
LOCATION:Tavolino Della Notte\, 10181 W Sample Road\, Coral Springs\, FL\, 33065\, United States
CATEGORIES:Restaurant
ATTACH;FMTTYPE=image/jpeg:https://notoriousjazz.com/wp-content/uploads/2022/06/JORGE-GARCIA.jpg
END:VEVENT
END:VCALENDAR