BEGIN:VCALENDAR
VERSION:2.0
PRODID:-//Notorious Jazz - ECPv6.15.17//NONSGML v1.0//EN
CALSCALE:GREGORIAN
METHOD:PUBLISH
X-WR-CALNAME:Notorious Jazz
X-ORIGINAL-URL:https://notoriousjazz.com
X-WR-CALDESC:Events for Notorious Jazz
REFRESH-INTERVAL;VALUE=DURATION:PT1H
X-Robots-Tag:noindex
X-PUBLISHED-TTL:PT1H
BEGIN:VTIMEZONE
TZID:America/New_York
BEGIN:DAYLIGHT
TZOFFSETFROM:-0500
TZOFFSETTO:-0400
TZNAME:EDT
DTSTART:20230312T070000
END:DAYLIGHT
BEGIN:STANDARD
TZOFFSETFROM:-0400
TZOFFSETTO:-0500
TZNAME:EST
DTSTART:20231105T060000
END:STANDARD
BEGIN:DAYLIGHT
TZOFFSETFROM:-0500
TZOFFSETTO:-0400
TZNAME:EDT
DTSTART:20240310T070000
END:DAYLIGHT
BEGIN:STANDARD
TZOFFSETFROM:-0400
TZOFFSETTO:-0500
TZNAME:EST
DTSTART:20241103T060000
END:STANDARD
BEGIN:DAYLIGHT
TZOFFSETFROM:-0500
TZOFFSETTO:-0400
TZNAME:EDT
DTSTART:20250309T070000
END:DAYLIGHT
BEGIN:STANDARD
TZOFFSETFROM:-0400
TZOFFSETTO:-0500
TZNAME:EST
DTSTART:20251102T060000
END:STANDARD
END:VTIMEZONE
BEGIN:VEVENT
DTSTART;TZID=America/New_York:20240615T193000
DTEND;TZID=America/New_York:20240615T230000
DTSTAMP:20260421T095938
CREATED:20240614T170731Z
LAST-MODIFIED:20240614T171435Z
UID:41212-1718479800-1718492400@notoriousjazz.com
SUMMARY:KRANTZ CARLOCK LEFEBVRE
DESCRIPTION:KCL\, the iconic\, genre-bending powerhouse trio led by visionary guitaristWayne Krantz and featuring drummer Keith Carlock(Steely Dan\, Sting\, John Mayer) and bassist Tim Lefebvre (Tedeschi Trucks Band\,David Bowie)\, held a Thursday-night residency at NYC’s 55 Bar throughout the first decade of the new millenium. Cutting live recordings from the club and posting them online in the early days of the internet and touring only sporadically\, KCL developed a thoroughly original style of interactive group improvisation inspired in part by the great Miles Davis Quintet of the 60s\, but played out in spontaneously generated contexts of heavy funk\, rock and electronica instead of straight-ahead swing. \nAs other instrumental bands of the day dabbled in derivative fusion and retro-jazz\, KCL became an underground phenomenon\, cultivating an international following of devoted fans of every stripe looking for an alternative creative music that served the mind\, body and spirit. Relentlessly grooving\, always innovative\, never complacent -KCL made contemporary music that resonated beyond category.Other sideman obligations sidelined the band soon after their Abstract Logix release\, “Krantz Carlock Lefebvre\,” in 2010\, but their reputation continued to expand globally through fan circulation of the band’s many live videos and recordings. Now\, in 2020\, KCL re-ignites to tour with incendiary shows throughout the USA\, Europe and Asia.
URL:https://notoriousjazz.com/event/krantz-carlock-lefebvre
LOCATION:The Velvet Note\, 4075 Old Milton Parkway\, Alpharetta\, GA\, 30005\, United States
CATEGORIES:Club
ATTACH;FMTTYPE=image/jpeg:https://notoriousjazz.com/wp-content/uploads/2024/06/KCL.jpg
END:VEVENT
BEGIN:VEVENT
DTSTART;TZID=America/New_York:20240628T190000
DTEND;TZID=America/New_York:20240629T230000
DTSTAMP:20260421T095938
CREATED:20240614T091118Z
LAST-MODIFIED:20240614T091118Z
UID:41185-1719601200-1719702000@notoriousjazz.com
SUMMARY:JOHN PIZZARELLI
DESCRIPTION:World-renowned jazz guitarist and singer John Pizzarelli was called “Hip with a wink” by Town Country\, “madly creative” by The Los Angeles Times and “the genial genius of the guitar” by The Toronto Star. John remains one of the most acclaimed interpreters of classic and modern song and an influential advocate for the continuing evolution of the American standards songbook. AllAboutJazz.com gave his 2023 album Stage Screen 4 stars\, calling it “enduring music.”
URL:https://notoriousjazz.com/event/john-pizzarelli-3
LOCATION:Jazz Forum Arts\, 1 Dixon Lane\, Tarrytown\, NY\, 10591\, United States
CATEGORIES:Club
ATTACH;FMTTYPE=image/jpeg:https://notoriousjazz.com/wp-content/uploads/2024/06/JOHN-PIZZARELLI.jpg
END:VEVENT
END:VCALENDAR