BEGIN:VCALENDAR
VERSION:2.0
PRODID:-//Notorious Jazz - ECPv6.15.17//NONSGML v1.0//EN
CALSCALE:GREGORIAN
METHOD:PUBLISH
X-ORIGINAL-URL:https://notoriousjazz.com
X-WR-CALDESC:Events for Notorious Jazz
REFRESH-INTERVAL;VALUE=DURATION:PT1H
X-Robots-Tag:noindex
X-PUBLISHED-TTL:PT1H
BEGIN:VTIMEZONE
TZID:America/Chicago
BEGIN:DAYLIGHT
TZOFFSETFROM:-0600
TZOFFSETTO:-0500
TZNAME:CDT
DTSTART:20230312T080000
END:DAYLIGHT
BEGIN:STANDARD
TZOFFSETFROM:-0500
TZOFFSETTO:-0600
TZNAME:CST
DTSTART:20231105T070000
END:STANDARD
BEGIN:DAYLIGHT
TZOFFSETFROM:-0600
TZOFFSETTO:-0500
TZNAME:CDT
DTSTART:20240310T080000
END:DAYLIGHT
BEGIN:STANDARD
TZOFFSETFROM:-0500
TZOFFSETTO:-0600
TZNAME:CST
DTSTART:20241103T070000
END:STANDARD
BEGIN:DAYLIGHT
TZOFFSETFROM:-0600
TZOFFSETTO:-0500
TZNAME:CDT
DTSTART:20250309T080000
END:DAYLIGHT
BEGIN:STANDARD
TZOFFSETFROM:-0500
TZOFFSETTO:-0600
TZNAME:CST
DTSTART:20251102T070000
END:STANDARD
END:VTIMEZONE
BEGIN:VTIMEZONE
TZID:America/New_York
BEGIN:DAYLIGHT
TZOFFSETFROM:-0500
TZOFFSETTO:-0400
TZNAME:EDT
DTSTART:20230312T070000
END:DAYLIGHT
BEGIN:STANDARD
TZOFFSETFROM:-0400
TZOFFSETTO:-0500
TZNAME:EST
DTSTART:20231105T060000
END:STANDARD
BEGIN:DAYLIGHT
TZOFFSETFROM:-0500
TZOFFSETTO:-0400
TZNAME:EDT
DTSTART:20240310T070000
END:DAYLIGHT
BEGIN:STANDARD
TZOFFSETFROM:-0400
TZOFFSETTO:-0500
TZNAME:EST
DTSTART:20241103T060000
END:STANDARD
BEGIN:DAYLIGHT
TZOFFSETFROM:-0500
TZOFFSETTO:-0400
TZNAME:EDT
DTSTART:20250309T070000
END:DAYLIGHT
BEGIN:STANDARD
TZOFFSETFROM:-0400
TZOFFSETTO:-0500
TZNAME:EST
DTSTART:20251102T060000
END:STANDARD
END:VTIMEZONE
BEGIN:VTIMEZONE
TZID:America/Denver
BEGIN:DAYLIGHT
TZOFFSETFROM:-0700
TZOFFSETTO:-0600
TZNAME:MDT
DTSTART:20230312T090000
END:DAYLIGHT
BEGIN:STANDARD
TZOFFSETFROM:-0600
TZOFFSETTO:-0700
TZNAME:MST
DTSTART:20231105T080000
END:STANDARD
BEGIN:DAYLIGHT
TZOFFSETFROM:-0700
TZOFFSETTO:-0600
TZNAME:MDT
DTSTART:20240310T090000
END:DAYLIGHT
BEGIN:STANDARD
TZOFFSETFROM:-0600
TZOFFSETTO:-0700
TZNAME:MST
DTSTART:20241103T080000
END:STANDARD
BEGIN:DAYLIGHT
TZOFFSETFROM:-0700
TZOFFSETTO:-0600
TZNAME:MDT
DTSTART:20250309T090000
END:DAYLIGHT
BEGIN:STANDARD
TZOFFSETFROM:-0600
TZOFFSETTO:-0700
TZNAME:MST
DTSTART:20251102T080000
END:STANDARD
END:VTIMEZONE
BEGIN:VTIMEZONE
TZID:America/Los_Angeles
BEGIN:DAYLIGHT
TZOFFSETFROM:-0800
TZOFFSETTO:-0700
TZNAME:PDT
DTSTART:20230312T100000
END:DAYLIGHT
BEGIN:STANDARD
TZOFFSETFROM:-0700
TZOFFSETTO:-0800
TZNAME:PST
DTSTART:20231105T090000
END:STANDARD
BEGIN:DAYLIGHT
TZOFFSETFROM:-0800
TZOFFSETTO:-0700
TZNAME:PDT
DTSTART:20240310T100000
END:DAYLIGHT
BEGIN:STANDARD
TZOFFSETFROM:-0700
TZOFFSETTO:-0800
TZNAME:PST
DTSTART:20241103T090000
END:STANDARD
BEGIN:DAYLIGHT
TZOFFSETFROM:-0800
TZOFFSETTO:-0700
TZNAME:PDT
DTSTART:20250309T100000
END:DAYLIGHT
BEGIN:STANDARD
TZOFFSETFROM:-0700
TZOFFSETTO:-0800
TZNAME:PST
DTSTART:20251102T090000
END:STANDARD
END:VTIMEZONE
BEGIN:VEVENT
DTSTART;TZID=America/Chicago:20240912T210000
DTEND;TZID=America/Chicago:20240912T223000
DTSTAMP:20260421T042051
CREATED:20240908T031534Z
LAST-MODIFIED:20240908T042750Z
UID:42412-1726174800-1726180200@notoriousjazz.com
SUMMARY:CLIFF RICHMOND & THE CLIFFNOTES
DESCRIPTION:Cliff Richmond & the CliffNotes serve up a unique blend of soulful\, swinging & funky jazz\, They incorporate a wide range of styles from mainstream jazz\, to rhythm & blues\, Latin to reggae. Founded by the guitarist & vocalist\, the CliffNotes always features some of Nashville’s most accomplished and versatile musicians and vocalists.
URL:https://notoriousjazz.com/event/cliff-richmond-the-cliffnotes
LOCATION:Rudy’s Jazz Room\, 809 Gleaves Street\, Nashville\, TN\, 37203\, United States
CATEGORIES:Club
END:VEVENT
BEGIN:VEVENT
DTSTART;TZID=America/New_York:20240914T190000
DTEND;TZID=America/New_York:20240914T210000
DTSTAMP:20260421T042051
CREATED:20240826T011601Z
LAST-MODIFIED:20240826T012745Z
UID:42260-1726340400-1726347600@notoriousjazz.com
SUMMARY:RONI BEN-HUR QUARTET
DESCRIPTION:While many of the compositions on Love Letters were written by giants such as Leonard Bernstein (“Lonely Town”)\, Benny Golson (“Fair Weather”)\, and Ben-Hur’s long-time mentor\, the late\, great Barry Harris (“To Dizzy with Love”)\, Ben-Hur once again showcases his formidable composing chops with four original compositions. With the Quartet on Love Letters\, Ben-Hur creates an irresistible atmosphere of musical harmony and loving connection. Each of Ben-Hur’s compositions reflect an aspect of the love that has propelled the guitarist to ever greater heights in the life and in jazz. With “To Dizzy with Love\,” he shares a memory of his friend Barry Harris with a buoyant rendition of a song they once played together at Birdland. In this interpretation we are treated to a joyous dance of swing and Caribbean rhythms. On “Seul `a Paris” (alone in Paris)\, Ben-Hur’s wistful strings and muted trumpet speak of what it is like to fly solo in the “City of Love.” With the composition\, “Waiting for JH”\, co-written with the late American pianist Chris Anderson\, \nBen-Hur sends a “love letter” to the late Jim Harrison\, one of the genre’s most indomitable advocates and promoters\, who worked tirelessly for a “who’s who” in jazz. The voice of the unspeakable is heard in “The House that Yosef Built\,” a love letter to Ben-Hur’s father. The tune evokes a rush of memories about the hardships his parents faced in their escape from Tunisia in the aftermath of World War II.  Guitar\, bass and drum deftly lay a rhythmic foundation\, and Jensen’s triumphant trumpet celebrates the family’s resilience and the sturdy house and home that Yosef Ben-Hur was determined to build for his family.
URL:https://notoriousjazz.com/event/roni-ben-hur-quartet
LOCATION:The 222\, 222 Healdsburg Avenue\, Healdsburg\, CA\, 95448\, United States
CATEGORIES:Club
ATTACH;FMTTYPE=image/png:https://notoriousjazz.com/wp-content/uploads/2024/08/RONI-BEN-HUR.png
END:VEVENT
BEGIN:VEVENT
DTSTART;TZID=America/Denver:20240922T163000
DTEND;TZID=America/Denver:20240922T203000
DTSTAMP:20260421T042051
CREATED:20240915T224838Z
LAST-MODIFIED:20240916T005024Z
UID:42536-1727022600-1727037000@notoriousjazz.com
SUMMARY:BOBBY BROOM: TRIBUTE TO RUSSELL MALONE
DESCRIPTION:Born in Harlem and raised on the Upper West Side of NYC\, Bobby Broom took up guitar at 12 and five years later\, in 1977\, made his first appearance with Sonny Rollins at Carnegie Hall. Even prior to that auspicious start\, he had dedicated himself to the art\, culture\, and life of jazz\, with the goals of learning to express himself within the idiom\, while honoring its historical traditions and spirit. \nNearly 50 years later\, Bobby has amassed a formidable jazz pedigree\, working closely with historic figures such as Rollins\, Miles Davis\, Art Blakey\, Stanley Turrentine and Kenny Burrell\, as well as many of his contemporaries. To date he has made fifteen leader recordings and has traveled to perform\, as an accompanying musician and with his own ensembles\, in countries on five continents. \nBroom is a tenured Associate Professor at Northern Illinois University and has devoted much of his career to jazz education. He began teaching at the tertiary level under the direction of NEA Jazz Fellow and saxophone great Jackie McLean at University of Hartford. Bobby has also worked with high school students through the Herbie Hancock (formerly Thelonious Monk) Institute and currently\, with the Ravinia Jazz Mentor Program.
URL:https://notoriousjazz.com/event/bobby-broom-tribute-to-russell-malone
LOCATION:Dazzle\, 1080 14th Street\, Denver\, CO\, 80202\, United States
CATEGORIES:Club
ATTACH;FMTTYPE=image/jpeg:https://notoriousjazz.com/wp-content/uploads/2024/09/BOBBY-BROOM.jpg
END:VEVENT
BEGIN:VEVENT
DTSTART;TZID=America/Los_Angeles:20240922T190000
DTEND;TZID=America/Los_Angeles:20240922T210000
DTSTAMP:20260421T042051
CREATED:20240915T191438Z
LAST-MODIFIED:20240915T192932Z
UID:42515-1727031600-1727038800@notoriousjazz.com
SUMMARY:MARC RIBOT 70TH BIRTHDAY CELEBRATION
DESCRIPTION:with special guests James Brandon Lewis & Mary Halvorson & more… \nGuitarist extraordinaire Marc Ribot follows his muse wherever it leads\, resulting in a career path that has ranged across free jazz and no wave\, rock and Cuban rumba. In some circles he’s best known as a key collaborator with singular artists such as Tom Waits\, Elvis Costello\, John Zorn\, Diana Krall\, and Robert Plant and Alison Krauss\, contributing to their 2007 hit album Raising Sand. \nThe last time the mind-bogglingly eclectic checked into the SFJAZZ Center he played eight solo shows in the JHL\, alternating between freely improvised sets\, extended medleys of Haitian-American composer Frantz Casseus\, Cuban maestro Arsenio Rodríguez and John Coltrane\, and his gorgeous score for the 1924 Soviet silent film Aelita: Queen of Mars. \nCelebrating his 70th birthday\, Ribot joins forces with two of the most celebrated and searching jazz artists on the contemporary scene\, guitarist Mary Halvorson and saxophonist James Brandon Lewis\, along with bassist Hilliard Greene and longtime collaborator Chad Tayloron drums.
URL:https://notoriousjazz.com/event/marc-ribot-70th-birthday-celebration
LOCATION:SFJazz Center | Miner Auditorium\, 201 Franklin Street\, San Francisco\, CA\, 94102\, United States
CATEGORIES:Concert
ATTACH;FMTTYPE=image/jpeg:https://notoriousjazz.com/wp-content/uploads/2024/09/MARC-RIBOT.jpg
END:VEVENT
BEGIN:VEVENT
DTSTART;TZID=America/Los_Angeles:20240928T180000
DTEND;TZID=America/Los_Angeles:20240929T220000
DTSTAMP:20260421T042051
CREATED:20240915T200157Z
LAST-MODIFIED:20240915T200157Z
UID:42524-1727546400-1727647200@notoriousjazz.com
SUMMARY:OLATUJA
DESCRIPTION:Acclaimed vocalist Alicia Olatuja and bassist Michael Olatuja come together for this groove-heavy mix of Afro-Beat\, jazz\, funk\, and soul\, as heard on their new self-titled album. “A singer with a strong\, lustrous tone and an amiably regal presence onstage” (The New York Times)\, Alicia Olatuja has been held up by no less than Dianne Reeves as one of the finest singers on the scene today. \n\n\nThe St. Louis native first gained national attention as a featured soloist with the Brooklyn Tabernacle Choir at Barack Obama’s 2013 presidential inauguration ceremony. \nBut in the past few years she’s created a powerful buzz in jazz circles through her work with GRAMMY Award-winning pianist/arranger Billy Childs and the late legendary Hammond B-3 organist Dr. Lonnie Smith. Increasingly visible as a bandleader\, Olatuja led three increasingly accomplished sessions including her most recent project celebrating women composers\, Intuition: Songs From the Minds of Women. \nBorn in London and raised in Lagos\, Nigeria\, Michael Olatuja is a first-call bassist on the New York scene who has lent his inventive musicianship to Stevie Wonder\, Terence Blanchard\, José James\, Kurt Elling\, and Shakira. His newest solo release\, Lagos Pepper Soup\, features guests Angelique Kidjo\, Brandee Younger\, Joe Lovano\, and Dianne Reeves\, among others.
URL:https://notoriousjazz.com/event/olatuja
LOCATION:SFJazz Center | Miner Auditorium\, 201 Franklin Street\, San Francisco\, CA\, 94102\, United States
CATEGORIES:Concert
ATTACH;FMTTYPE=image/jpeg:https://notoriousjazz.com/wp-content/uploads/2024/09/OLATUJA.jpg
END:VEVENT
END:VCALENDAR