BEGIN:VCALENDAR
VERSION:2.0
PRODID:-//Notorious Jazz - ECPv6.15.17//NONSGML v1.0//EN
CALSCALE:GREGORIAN
METHOD:PUBLISH
X-WR-CALNAME:Notorious Jazz
X-ORIGINAL-URL:https://notoriousjazz.com
X-WR-CALDESC:Events for Notorious Jazz
REFRESH-INTERVAL;VALUE=DURATION:PT1H
X-Robots-Tag:noindex
X-PUBLISHED-TTL:PT1H
BEGIN:VTIMEZONE
TZID:America/New_York
BEGIN:DAYLIGHT
TZOFFSETFROM:-0500
TZOFFSETTO:-0400
TZNAME:EDT
DTSTART:20240310T070000
END:DAYLIGHT
BEGIN:STANDARD
TZOFFSETFROM:-0400
TZOFFSETTO:-0500
TZNAME:EST
DTSTART:20241103T060000
END:STANDARD
BEGIN:DAYLIGHT
TZOFFSETFROM:-0500
TZOFFSETTO:-0400
TZNAME:EDT
DTSTART:20250309T070000
END:DAYLIGHT
BEGIN:STANDARD
TZOFFSETFROM:-0400
TZOFFSETTO:-0500
TZNAME:EST
DTSTART:20251102T060000
END:STANDARD
BEGIN:DAYLIGHT
TZOFFSETFROM:-0500
TZOFFSETTO:-0400
TZNAME:EDT
DTSTART:20260308T070000
END:DAYLIGHT
BEGIN:STANDARD
TZOFFSETFROM:-0400
TZOFFSETTO:-0500
TZNAME:EST
DTSTART:20261101T060000
END:STANDARD
END:VTIMEZONE
BEGIN:VEVENT
DTSTART;TZID=America/New_York:20250917T200000
DTEND;TZID=America/New_York:20250917T230000
DTSTAMP:20260420T035305
CREATED:20250915T052730Z
LAST-MODIFIED:20250915T052730Z
UID:47261-1758139200-1758150000@notoriousjazz.com
SUMMARY:JACQUES LESURE TRIO
DESCRIPTION:The guitarist takes to the stage bringing special friends with him for an evening of great jazz. Coming out of Detroit the jazz guitarist is a recording artist is signed to WJ3 Records. \nHe has performed with several jazz artists\, such as Jimmy Smith and Stanley Turrentine as well as Wynton Marsalis\, Eric Reed\, Warren Wolf and Gregory Porter.His performances can be heard in La La Land\, the Academy Award winning movie.
URL:https://notoriousjazz.com/event/jacques-lesure-trio
LOCATION:Hyperion Social\, 2611 Hyperion Ave\, \, CA\, Los Angeles\, CA\, 90027\, United States
CATEGORIES:Restaurant
ATTACH;FMTTYPE=image/png:https://notoriousjazz.com/wp-content/uploads/2025/09/JACQUES-LESURE-@-HYPERION-SOCIAL.png
END:VEVENT
END:VCALENDAR