BEGIN:VCALENDAR
VERSION:2.0
PRODID:-//Notorious Jazz - ECPv6.15.17//NONSGML v1.0//EN
CALSCALE:GREGORIAN
METHOD:PUBLISH
X-WR-CALNAME:Notorious Jazz
X-ORIGINAL-URL:https://notoriousjazz.com
X-WR-CALDESC:Events for Notorious Jazz
REFRESH-INTERVAL;VALUE=DURATION:PT1H
X-Robots-Tag:noindex
X-PUBLISHED-TTL:PT1H
BEGIN:VTIMEZONE
TZID:America/New_York
BEGIN:DAYLIGHT
TZOFFSETFROM:-0500
TZOFFSETTO:-0400
TZNAME:EDT
DTSTART:20210314T070000
END:DAYLIGHT
BEGIN:STANDARD
TZOFFSETFROM:-0400
TZOFFSETTO:-0500
TZNAME:EST
DTSTART:20211107T060000
END:STANDARD
BEGIN:DAYLIGHT
TZOFFSETFROM:-0500
TZOFFSETTO:-0400
TZNAME:EDT
DTSTART:20220313T070000
END:DAYLIGHT
BEGIN:STANDARD
TZOFFSETFROM:-0400
TZOFFSETTO:-0500
TZNAME:EST
DTSTART:20221106T060000
END:STANDARD
BEGIN:DAYLIGHT
TZOFFSETFROM:-0500
TZOFFSETTO:-0400
TZNAME:EDT
DTSTART:20230312T070000
END:DAYLIGHT
BEGIN:STANDARD
TZOFFSETFROM:-0400
TZOFFSETTO:-0500
TZNAME:EST
DTSTART:20231105T060000
END:STANDARD
END:VTIMEZONE
BEGIN:VEVENT
DTSTART;TZID=America/New_York:20220708T150000
DTEND;TZID=America/New_York:20220709T190000
DTSTAMP:20260423T063641
CREATED:20220703T180151Z
LAST-MODIFIED:20220703T203802Z
UID:30768-1657292400-1657393200@notoriousjazz.com
SUMMARY:DJANGO FESTIVAL ALL~STARS
DESCRIPTION:Hot Gypsy Jazz \nThe Django Festival Allstars\, from France\, tour the US 2x a year\, playing  at America’s top halls and clubs including Carnegie Hall  and  Rose Hall. The Allstars have performed at SF Jazz\, Newport Jazz Festival\, Montreal Festival\, Kennedy Center\, Aspen\, Taos\, Vale\, and Moody Festivals\, and Birdland for 22 years\, all to great acclaim! \nDjango’s unmistakable cool and jumpin’ jole de vivre have made him an icon for an unlikely range of luminaries from Carlos Santana to Eric Clapton\, guitar greats! Jimi Hendrix named his “big band of gypsies” in tribute\, and Willie Nelson adopted his influence in “country-swing.” \nThe Django Festival Allstars\, have grown into a brilliantly cohesive group of star musicians who’ve taken America by storm\, performing at top concert halls and festivals to standing ovations. The Django Festival Allstars bring this music to ‘today’ combining known standards and original music… intoxicating! \nShow Times: 7:00 pm & 9:30 pm
URL:https://notoriousjazz.com/event/django-festival-allstars
LOCATION:Jazz Forum Arts\, 1 Dixon Lane\, Tarrytown\, NY\, 10591\, United States
CATEGORIES:Club
ATTACH;FMTTYPE=image/png:https://notoriousjazz.com/wp-content/uploads/2022/07/DJANGO-FESTIVAL-ALLSTARS.png
END:VEVENT
END:VCALENDAR