BEGIN:VCALENDAR
VERSION:2.0
PRODID:-//Notorious Jazz - ECPv6.15.17//NONSGML v1.0//EN
CALSCALE:GREGORIAN
METHOD:PUBLISH
X-ORIGINAL-URL:https://notoriousjazz.com
X-WR-CALDESC:Events for Notorious Jazz
REFRESH-INTERVAL;VALUE=DURATION:PT1H
X-Robots-Tag:noindex
X-PUBLISHED-TTL:PT1H
BEGIN:VTIMEZONE
TZID:America/Denver
BEGIN:DAYLIGHT
TZOFFSETFROM:-0700
TZOFFSETTO:-0600
TZNAME:MDT
DTSTART:20210314T090000
END:DAYLIGHT
BEGIN:STANDARD
TZOFFSETFROM:-0600
TZOFFSETTO:-0700
TZNAME:MST
DTSTART:20211107T080000
END:STANDARD
BEGIN:DAYLIGHT
TZOFFSETFROM:-0700
TZOFFSETTO:-0600
TZNAME:MDT
DTSTART:20220313T090000
END:DAYLIGHT
BEGIN:STANDARD
TZOFFSETFROM:-0600
TZOFFSETTO:-0700
TZNAME:MST
DTSTART:20221106T080000
END:STANDARD
BEGIN:DAYLIGHT
TZOFFSETFROM:-0700
TZOFFSETTO:-0600
TZNAME:MDT
DTSTART:20230312T090000
END:DAYLIGHT
BEGIN:STANDARD
TZOFFSETFROM:-0600
TZOFFSETTO:-0700
TZNAME:MST
DTSTART:20231105T080000
END:STANDARD
END:VTIMEZONE
BEGIN:VEVENT
DTSTART;TZID=America/Denver:20221004T190000
DTEND;TZID=America/Denver:20221004T230000
DTSTAMP:20260422T235726
CREATED:20220704T193940Z
LAST-MODIFIED:20221012T175933Z
UID:30887-1664910000-1664924400@notoriousjazz.com
SUMMARY:KURT ROSENWINKEL
DESCRIPTION:Kurt Rosenwinkel ~ Guitar\, Eric Revis ~ Bass\, Taylor Eigsti ~ Piano\, Gregory Hutchinson ~ Drums \nKurt Rosenwinkel has been a distinct and prominent creative voice at the forefront of modern music for nearly three decades. The American multi-instrumentalist\, composer\, and producer has gained international recognition for his deft artistry and unabated individualism since he first appeared on the New York music scene in 1991. His legacy as the pre-eminent jazz guitar voice of his generation is plainly evident on his eleven albums as a leader\, each one the inspiration for legions of musicians young and old across the globe.  \nKurt’s aesthetic vision and multi-genre facility has caught the ear of some of modern music’s most prominent stars; collaborations with Eric Clapton\, Q-tip\, Gary Burton\, Paul Motian\, Joe Henderson\, Brad Mehldau\, and Donald Fagen are but a few highlights from a remarkably diverse and extensive catalog of over 150 sideman recordings. In the winter of 2016\, Kurt formed the independent music label Heartcore Records with the focused intention of signing and promoting a new generation of musicians whose exacting standards match his own.  \nActual Showtimes ~ 7:00 pm & 9:30 pm | Friday \nFront Stage Table ~ $40.00/$20 minimum purchase required \nGeneral Admission ~ $30.00/$20 minimum purchase required \nStudents 17 & under ~ $20.00/$10 minimum purchase required
URL:https://notoriousjazz.com/event/kurt-rosenwinkel
LOCATION:Dazzle\, 1080 14th Street\, Denver\, CO\, 80202\, United States
CATEGORIES:Club
ATTACH;FMTTYPE=image/jpeg:https://notoriousjazz.com/wp-content/uploads/2022/07/KURT-ROSENWINKEL.jpg
END:VEVENT
END:VCALENDAR