BEGIN:VCALENDAR
VERSION:2.0
PRODID:-//Notorious Jazz - ECPv6.15.17//NONSGML v1.0//EN
CALSCALE:GREGORIAN
METHOD:PUBLISH
X-ORIGINAL-URL:https://notoriousjazz.com
X-WR-CALDESC:Events for Notorious Jazz
REFRESH-INTERVAL;VALUE=DURATION:PT1H
X-Robots-Tag:noindex
X-PUBLISHED-TTL:PT1H
BEGIN:VTIMEZONE
TZID:America/New_York
BEGIN:DAYLIGHT
TZOFFSETFROM:-0500
TZOFFSETTO:-0400
TZNAME:EDT
DTSTART:20210314T070000
END:DAYLIGHT
BEGIN:STANDARD
TZOFFSETFROM:-0400
TZOFFSETTO:-0500
TZNAME:EST
DTSTART:20211107T060000
END:STANDARD
BEGIN:DAYLIGHT
TZOFFSETFROM:-0500
TZOFFSETTO:-0400
TZNAME:EDT
DTSTART:20220313T070000
END:DAYLIGHT
BEGIN:STANDARD
TZOFFSETFROM:-0400
TZOFFSETTO:-0500
TZNAME:EST
DTSTART:20221106T060000
END:STANDARD
BEGIN:DAYLIGHT
TZOFFSETFROM:-0500
TZOFFSETTO:-0400
TZNAME:EDT
DTSTART:20230312T070000
END:DAYLIGHT
BEGIN:STANDARD
TZOFFSETFROM:-0400
TZOFFSETTO:-0500
TZNAME:EST
DTSTART:20231105T060000
END:STANDARD
END:VTIMEZONE
BEGIN:VEVENT
DTSTART;TZID=America/New_York:20221111T203000
DTEND;TZID=America/New_York:20221111T220000
DTSTAMP:20260422T222107
CREATED:20221014T040722Z
LAST-MODIFIED:20221016T002728Z
UID:32164-1668198600-1668204000@notoriousjazz.com
SUMMARY:RUSSELL MALONE
DESCRIPTION:Russell Malone is one of the signature guitar players of his generation. The leader of ten albums since 1992\, Malone is as well-known on the international circuit for helming a world-class quartet and trio as he is for his long-standing participation in Ron Carter’s Golden Striker Trio\, and his recent consequential contribution to the musical production of the likes of Sonny Rollins and Dianne Reeves\, who recruited Malone for his singular tone\, refined listening skills\, limitless chops\, and efflorescent imagination. In all these circumstances\, Malone addresses the tradition on its own terms\, refracting the vocabularies and syntax of such heroes as Charlie Christian\, Chet Atkins\, George Van Eps\, Johnny Smith\, Wes Montgomery\, Grant Green\, Kenny Burrell\, Pat Martino\, and George Benson into an argot entirely his own. A master of all tempos\, a relentless swinger\, he spins his stories —in idioms ranging from the urban and downhome blues\, country\, gospel\, various corners of the American Songbook\, and hardcore jazz—with a soulful\, instantly recognizable instrumental voice\, and seasons them with sophisticated harmonies that are never “too hip for the room.” “I take pride on being open enough to play with anybody\,” says Malone\, citing encounters with such diverse artists as B.B. King\, Aretha Franklin\, Gladys Knight\, Andy Williams\, James “Blood” Ulmer\, and Ornette Coleman. “I love to swing\, but I don’t look down my nose at other styles of music\, or other musicians. I’ll play with anybody\, if the music is good.” \nRussell Malone: Guitar \nRick Germanson: Piano \nVincent DuPont: Bass \nNeal Smith: Drums
URL:https://notoriousjazz.com/event/russell-malone
LOCATION:The Side Door\, Old Lyme Inn\, 85 Lyme Street\, Old Lyme\, CT\, 06371\, United States
CATEGORIES:Club
ATTACH;FMTTYPE=image/jpeg:https://notoriousjazz.com/wp-content/uploads/2022/10/RUSSELL-MALONE.jpg
END:VEVENT
END:VCALENDAR