BEGIN:VCALENDAR
VERSION:2.0
PRODID:-//Notorious Jazz - ECPv6.15.17//NONSGML v1.0//EN
CALSCALE:GREGORIAN
METHOD:PUBLISH
X-WR-CALNAME:Notorious Jazz
X-ORIGINAL-URL:https://notoriousjazz.com
X-WR-CALDESC:Events for Notorious Jazz
REFRESH-INTERVAL;VALUE=DURATION:PT1H
X-Robots-Tag:noindex
X-PUBLISHED-TTL:PT1H
BEGIN:VTIMEZONE
TZID:America/New_York
BEGIN:DAYLIGHT
TZOFFSETFROM:-0500
TZOFFSETTO:-0400
TZNAME:EDT
DTSTART:20220313T070000
END:DAYLIGHT
BEGIN:STANDARD
TZOFFSETFROM:-0400
TZOFFSETTO:-0500
TZNAME:EST
DTSTART:20221106T060000
END:STANDARD
BEGIN:DAYLIGHT
TZOFFSETFROM:-0500
TZOFFSETTO:-0400
TZNAME:EDT
DTSTART:20230312T070000
END:DAYLIGHT
BEGIN:STANDARD
TZOFFSETFROM:-0400
TZOFFSETTO:-0500
TZNAME:EST
DTSTART:20231105T060000
END:STANDARD
BEGIN:DAYLIGHT
TZOFFSETFROM:-0500
TZOFFSETTO:-0400
TZNAME:EDT
DTSTART:20240310T070000
END:DAYLIGHT
BEGIN:STANDARD
TZOFFSETFROM:-0400
TZOFFSETTO:-0500
TZNAME:EST
DTSTART:20241103T060000
END:STANDARD
END:VTIMEZONE
BEGIN:VEVENT
DTSTART;TZID=America/New_York:20230223T193000
DTEND;TZID=America/New_York:20230223T230000
DTSTAMP:20260422T184950
CREATED:20230103T211131Z
LAST-MODIFIED:20230104T190022Z
UID:33567-1677180600-1677193200@notoriousjazz.com
SUMMARY:THE BAD PLUS
DESCRIPTION:Reid Anderson – bass\nDave King – drums\nBen Monder – guitar\nChris Speed – tenor saxophone \nThe Bad Plus are the ultimate originals. A democratic unit with a clear vision and a refusal to conform to convention. For the past two decades they have played with spirit and adventure\, made their own rules and done so with a bold sense of creativity and intent. Avoiding easy categorization\, The Bad Plus has won critical acclaim and a legion of fans worldwide with their unique sound and flair for live performance. \nNow in their 21st year\, The Bad Plus continues to push boundaries as founding members Reid Anderson (bass) and Dave King (drums) embark on a new piano-less incarnation of the band with Ben Monder (guitar) and Chris Speed (tenor saxophone) – instigating a new wave of excitement and anticipation within the band that is re-energizing their sound and inspiration. The Bad Plus have constantly searched to bridge genres and techniques while exploring the infinite possibilities of exceptional musicians working in perfect sync. \nThe Bad Plus released their 15th studio recording and debut self-titled album as a dynamic new quartet via Edition Records on Friday\, September 30th. “Evolution is necessary for life and creativity\,” say Dave King and Reid Anderson. “We’ve evolved\, but we’re still The Bad Plus.”
URL:https://notoriousjazz.com/event/the-bad-plus
LOCATION:Keystone Korner Baltimore\, 1350 Lancaster Street\, Baltimore\, MD\, 21231\, United States
CATEGORIES:Club
ATTACH;FMTTYPE=image/jpeg:https://notoriousjazz.com/wp-content/uploads/2023/01/THE-BAD-PLUS.jpg
END:VEVENT
END:VCALENDAR