BEGIN:VCALENDAR
VERSION:2.0
PRODID:-//Notorious Jazz - ECPv6.15.17//NONSGML v1.0//EN
CALSCALE:GREGORIAN
METHOD:PUBLISH
X-ORIGINAL-URL:https://notoriousjazz.com
X-WR-CALDESC:Events for Notorious Jazz
REFRESH-INTERVAL;VALUE=DURATION:PT1H
X-Robots-Tag:noindex
X-PUBLISHED-TTL:PT1H
BEGIN:VTIMEZONE
TZID:America/New_York
BEGIN:DAYLIGHT
TZOFFSETFROM:-0500
TZOFFSETTO:-0400
TZNAME:EDT
DTSTART:20220313T070000
END:DAYLIGHT
BEGIN:STANDARD
TZOFFSETFROM:-0400
TZOFFSETTO:-0500
TZNAME:EST
DTSTART:20221106T060000
END:STANDARD
BEGIN:DAYLIGHT
TZOFFSETFROM:-0500
TZOFFSETTO:-0400
TZNAME:EDT
DTSTART:20230312T070000
END:DAYLIGHT
BEGIN:STANDARD
TZOFFSETFROM:-0400
TZOFFSETTO:-0500
TZNAME:EST
DTSTART:20231105T060000
END:STANDARD
BEGIN:DAYLIGHT
TZOFFSETFROM:-0500
TZOFFSETTO:-0400
TZNAME:EDT
DTSTART:20240310T070000
END:DAYLIGHT
BEGIN:STANDARD
TZOFFSETFROM:-0400
TZOFFSETTO:-0500
TZNAME:EST
DTSTART:20241103T060000
END:STANDARD
END:VTIMEZONE
BEGIN:VEVENT
DTSTART;TZID=America/New_York:20230304T190000
DTEND;TZID=America/New_York:20230304T230000
DTSTAMP:20260422T152053
CREATED:20221230T054920Z
LAST-MODIFIED:20221230T054920Z
UID:33475-1677956400-1677970800@notoriousjazz.com
SUMMARY:DAVE STRYKER
DESCRIPTION:Dave Stryker-guitar\, Jared Gold-B3\, Walter Smith III tenor\, McClenty Hunter-drums \nWhether you’ve heard guitarist Dave Stryker leading his own group (with 34 CD’s as a leader to date)\,  or as a featured sideman with Stanley Turrentine\, Jack McDuff\, and many others\, you know why the Village Voice calls him “one of the most distinctive guitarists to come along in recent years.” \nHot House magazine awarded him Best Guitarist Fans Decision for 2017.  He was recently voted once again as one of the top Jazz Guitarists in the 2022 Downbeat Critics and Readers Polls for the 15th time. \nDave’s last 5 CD’s have all gone to #1 on the JazzWeek Radio chart. His most recent “As We Are” features John Patitucci\, Brian Blade\, Julian Shore and a string quartet led by violinist Sara Caswell. Critics are calling it one of Dave’s greatest works yet. “Eight Track III” stayed at #1 on JazzWeek Radio chart for 6 straight weeks.  “Messin’ with Mister T”\, is a celebration of the man he worked with for over a decade — Stanley Turrentine\, “Mister T” — with ten of the greatest tenor sax players on the scene today. It went to #1 on JazzWeek Radio and stayed in the Top 50 for 20 weeks and has received great reviews including 4 1/2 stars in Downbeat magazine. \nShowtimes ~ 7:00pm | 9:00pm
URL:https://notoriousjazz.com/event/dave-stryker
LOCATION:Scullers Jazz Club\, 400 Soldiers Field Road\, Boston\, MA\, 02134\, United States
CATEGORIES:Club
ATTACH;FMTTYPE=image/jpeg:https://notoriousjazz.com/wp-content/uploads/2022/12/DAVE-STRYKER.jpg
END:VEVENT
END:VCALENDAR