BEGIN:VCALENDAR
VERSION:2.0
PRODID:-//Notorious Jazz - ECPv6.15.17//NONSGML v1.0//EN
CALSCALE:GREGORIAN
METHOD:PUBLISH
X-WR-CALNAME:Notorious Jazz
X-ORIGINAL-URL:https://notoriousjazz.com
X-WR-CALDESC:Events for Notorious Jazz
REFRESH-INTERVAL;VALUE=DURATION:PT1H
X-Robots-Tag:noindex
X-PUBLISHED-TTL:PT1H
BEGIN:VTIMEZONE
TZID:America/New_York
BEGIN:DAYLIGHT
TZOFFSETFROM:-0500
TZOFFSETTO:-0400
TZNAME:EDT
DTSTART:20220313T070000
END:DAYLIGHT
BEGIN:STANDARD
TZOFFSETFROM:-0400
TZOFFSETTO:-0500
TZNAME:EST
DTSTART:20221106T060000
END:STANDARD
BEGIN:DAYLIGHT
TZOFFSETFROM:-0500
TZOFFSETTO:-0400
TZNAME:EDT
DTSTART:20230312T070000
END:DAYLIGHT
BEGIN:STANDARD
TZOFFSETFROM:-0400
TZOFFSETTO:-0500
TZNAME:EST
DTSTART:20231105T060000
END:STANDARD
BEGIN:DAYLIGHT
TZOFFSETFROM:-0500
TZOFFSETTO:-0400
TZNAME:EDT
DTSTART:20240310T070000
END:DAYLIGHT
BEGIN:STANDARD
TZOFFSETFROM:-0400
TZOFFSETTO:-0500
TZNAME:EST
DTSTART:20241103T060000
END:STANDARD
END:VTIMEZONE
BEGIN:VTIMEZONE
TZID:America/Vancouver
BEGIN:DAYLIGHT
TZOFFSETFROM:-0800
TZOFFSETTO:-0700
TZNAME:PDT
DTSTART:20220313T100000
END:DAYLIGHT
BEGIN:STANDARD
TZOFFSETFROM:-0700
TZOFFSETTO:-0800
TZNAME:PST
DTSTART:20221106T090000
END:STANDARD
BEGIN:DAYLIGHT
TZOFFSETFROM:-0800
TZOFFSETTO:-0700
TZNAME:PDT
DTSTART:20230312T100000
END:DAYLIGHT
BEGIN:STANDARD
TZOFFSETFROM:-0700
TZOFFSETTO:-0800
TZNAME:PST
DTSTART:20231105T090000
END:STANDARD
BEGIN:DAYLIGHT
TZOFFSETFROM:-0800
TZOFFSETTO:-0700
TZNAME:PDT
DTSTART:20240310T100000
END:DAYLIGHT
BEGIN:STANDARD
TZOFFSETFROM:-0700
TZOFFSETTO:-0800
TZNAME:PST
DTSTART:20241103T090000
END:STANDARD
END:VTIMEZONE
BEGIN:VEVENT
DTSTART;TZID=America/New_York:20230309T190000
DTEND;TZID=America/New_York:20230311T230000
DTSTAMP:20260422T151926
CREATED:20230305T142204Z
LAST-MODIFIED:20230305T142204Z
UID:34361-1678388400-1678575600@notoriousjazz.com
SUMMARY:CAROL RIDDICK & GERALD VEASLEY
DESCRIPTION:The groundbreaking collaboration between Gerald Veasley and Carol Riddick pairs two legends of jazz and soul music to celebrate an iconic artist. The act\, consisting of vocals and three instrumentalists\, has performed in many festivals\, jazz clubs and churches to a sold-out crowds pays homage to “The High Priestess of Soul”\, singer\, song writer and activist\, Nina Simone. \nSimone was one of the most extraordinary artists of the twentieth century; an icon of American music. She was the consummate musical storyteller\, a griot as she would come to learn\, who used her remarkable talent to create a legacy of liberation\, empowerment\, passion\, and love through a magnificent body of works. She earned the moniker “High Priestess of Soul” for she could weave a spell so seductive and hypnotic that the listener lost track of time and space as they became absorbed in the moment. \nAll Shows ~ SOLD OUT!
URL:https://notoriousjazz.com/event/carol-riddick-gerald-veasley
LOCATION:South\, 600 N. Broad Street\, Philadelphia\, PA\, 19130\, United States
CATEGORIES:Club
ATTACH;FMTTYPE=image/png:https://notoriousjazz.com/wp-content/uploads/2023/03/RIDDICK-VEASLEY.png
END:VEVENT
BEGIN:VEVENT
DTSTART;TZID=America/New_York:20230311T190000
DTEND;TZID=America/New_York:20230311T230000
DTSTAMP:20260422T151926
CREATED:20230307T233730Z
LAST-MODIFIED:20230308T034343Z
UID:34410-1678561200-1678575600@notoriousjazz.com
SUMMARY:MIMI FOX ~ WES AT 100
DESCRIPTION:Presented by The Indianapolis Jazz Foundation and in celebration of Wes Montgomery’s 100th birthday \nThere is no better way to celebrate great jazz than with the Indianapolis Jazz Collective featuring Rob Dixon\, Steve Allee\, Greg Artry + Nick Tucker with featured guest artist guitarist Mimi Fox. Join The Jazz Kitchen and these supreme\, creative musicians for a night that explores what jazz has to offer through standards\, jams and improvisation. \n 
URL:https://notoriousjazz.com/event/mimi-fox-wes-at-100
LOCATION:The Jazz Kitchen\, 5377 N College Avenue\, Indianapolis\, IN\, 46220\, United States
CATEGORIES:Club
ATTACH;FMTTYPE=image/png:https://notoriousjazz.com/wp-content/uploads/2023/03/MIMI-FOX.png
END:VEVENT
BEGIN:VEVENT
DTSTART;TZID=America/Vancouver:20230311T231500
DTEND;TZID=America/Vancouver:20230312T010000
DTSTAMP:20260422T151926
CREATED:20230301T034700Z
LAST-MODIFIED:20230301T034700Z
UID:34318-1678576500-1678582800@notoriousjazz.com
SUMMARY:ALVIN BRENDAN\, BEN MILLMAN & TRENT OTTER
DESCRIPTION:Guitarist Alvin Brendan has been crafting a strong identity for himself as a jazz musician and session musician in Vancouver over the last few years. Despite his youth\, Brendan has been fortunate enough to find himself in a variety of different recording sessions and live performances that has allowed him to hone his craft in a multitude of styles and genres. He is excited to merge many of his musical loves in this new format. Brendan has recruited long-time collaborators Benjamin Millman (keys) and Trent Otter (drums) to showcase their collective love of the improvisational aspect of jazz music\, and the modern aesthetic of contemporary R&B and neo-soul. \n\nNO RESERVATION REQUIRED – Walk-in only.
URL:https://notoriousjazz.com/event/alvin-brendan-ben-millman-trent-otter
LOCATION:Frankie’s Jazz Club\, 755 Beatty Street\, Vancouver\, British Columbia\, V6B 2M4\, Canada
CATEGORIES:Club
ATTACH;FMTTYPE=image/png:https://notoriousjazz.com/wp-content/uploads/2023/02/ALVIN-BRENDAN.png
END:VEVENT
END:VCALENDAR