BEGIN:VCALENDAR
VERSION:2.0
PRODID:-//Notorious Jazz - ECPv6.15.17//NONSGML v1.0//EN
CALSCALE:GREGORIAN
METHOD:PUBLISH
X-WR-CALNAME:Notorious Jazz
X-ORIGINAL-URL:https://notoriousjazz.com
X-WR-CALDESC:Events for Notorious Jazz
REFRESH-INTERVAL;VALUE=DURATION:PT1H
X-Robots-Tag:noindex
X-PUBLISHED-TTL:PT1H
BEGIN:VTIMEZONE
TZID:America/New_York
BEGIN:DAYLIGHT
TZOFFSETFROM:-0500
TZOFFSETTO:-0400
TZNAME:EDT
DTSTART:20220313T070000
END:DAYLIGHT
BEGIN:STANDARD
TZOFFSETFROM:-0400
TZOFFSETTO:-0500
TZNAME:EST
DTSTART:20221106T060000
END:STANDARD
BEGIN:DAYLIGHT
TZOFFSETFROM:-0500
TZOFFSETTO:-0400
TZNAME:EDT
DTSTART:20230312T070000
END:DAYLIGHT
BEGIN:STANDARD
TZOFFSETFROM:-0400
TZOFFSETTO:-0500
TZNAME:EST
DTSTART:20231105T060000
END:STANDARD
BEGIN:DAYLIGHT
TZOFFSETFROM:-0500
TZOFFSETTO:-0400
TZNAME:EDT
DTSTART:20240310T070000
END:DAYLIGHT
BEGIN:STANDARD
TZOFFSETFROM:-0400
TZOFFSETTO:-0500
TZNAME:EST
DTSTART:20241103T060000
END:STANDARD
END:VTIMEZONE
BEGIN:VEVENT
DTSTART;TZID=America/New_York:20230407T190000
DTEND;TZID=America/New_York:20230409T230000
DTSTAMP:20260422T120316
CREATED:20230128T204706Z
LAST-MODIFIED:20230128T204814Z
UID:33885-1680894000-1681081200@notoriousjazz.com
SUMMARY:DAVE STRYKER TRIO WITH WARREN WOLF
DESCRIPTION:Dave Stryker Trio with Warren Wolf \nDave Stryker~Guitar\, Warren Wolf~Vibraphone\, Jared Gold~Organ\, McClenty Hunter ~Drums \nThe Dave Stryker Trio will be featuring new material from their latest CD “PRIME!” \nWhether you’ve heard guitarist Dave Stryker leading his own group (with 30 CD’s as a leader to date)\, or as a featured sideman with Stanley Turrentine\, Jack McDuff\, and many others\, you know why the Village Voice calls him “one of the most distinctive guitarists to come along in recent years.” Hot House magazine awarded Dave Best Guitarist Fans Decision for 2017.  He was recently voted once again as one of the top Jazz Guitarists in the 2019 Downbeat Critics and Readers Polls for the 10th time. \nFresh off their summer tour opening for Steely Dan\, Stryker releases Prime—the first recording featuring his working trio. Along with Jared Gold on organ and McClenty Hunter on drums\, Stryker offers eight new compositions and the beautiful standard “I Should Care.” From the burning title track “Prime” to songs penned for his first boss Jack McDuff (“Captain Jack” and “Dude’s Lounge”) as well as “Mac” for his drummer and the original trio versions of “Hope” and “As We Were” from Stryker’s last album As We Are\, Prime grooves from start to finish with the precision of a trio that has been road-tested for the last 12 years. \nWarren Wolf is a multi-instrumentalist from Baltimore\, MD. From the young age of three years old\, Warren has been trained on the Vibraphone/Marimba\, Drums\, and Piano. Under the guidance of his father Warren Wolf Sr.\, Warren has a deep background in all genres of music. Vibraphonist Warren Wolf is one of the hardest swinging virtuosos in all of modern music. \nFriday 4/7 ~ 7:00 pm  & 9:30 pm | $35~$45 + fee \nSaturday 4/8 ~ 7:00 pm  & 9:30 pm | $35~$45 + fee \nSunday 4/9 5:00 pm & 7:30 pm  | $35~$45 + fee \nStreaming Pass: 5:00pm & 7:00pm only | $10.00 + fee
URL:https://notoriousjazz.com/event/dave-stryker-trio
LOCATION:Keystone Korner Baltimore\, 1350 Lancaster Street\, Baltimore\, MD\, 21231\, United States
CATEGORIES:Club
ATTACH;FMTTYPE=image/png:https://notoriousjazz.com/wp-content/uploads/2023/01/DAVE-STRYKER.png
END:VEVENT
END:VCALENDAR