BEGIN:VCALENDAR
VERSION:2.0
PRODID:-//Notorious Jazz - ECPv6.15.17//NONSGML v1.0//EN
CALSCALE:GREGORIAN
METHOD:PUBLISH
X-WR-CALNAME:Notorious Jazz
X-ORIGINAL-URL:https://notoriousjazz.com
X-WR-CALDESC:Events for Notorious Jazz
REFRESH-INTERVAL;VALUE=DURATION:PT1H
X-Robots-Tag:noindex
X-PUBLISHED-TTL:PT1H
BEGIN:VTIMEZONE
TZID:America/New_York
BEGIN:DAYLIGHT
TZOFFSETFROM:-0500
TZOFFSETTO:-0400
TZNAME:EDT
DTSTART:20220313T070000
END:DAYLIGHT
BEGIN:STANDARD
TZOFFSETFROM:-0400
TZOFFSETTO:-0500
TZNAME:EST
DTSTART:20221106T060000
END:STANDARD
BEGIN:DAYLIGHT
TZOFFSETFROM:-0500
TZOFFSETTO:-0400
TZNAME:EDT
DTSTART:20230312T070000
END:DAYLIGHT
BEGIN:STANDARD
TZOFFSETFROM:-0400
TZOFFSETTO:-0500
TZNAME:EST
DTSTART:20231105T060000
END:STANDARD
BEGIN:DAYLIGHT
TZOFFSETFROM:-0500
TZOFFSETTO:-0400
TZNAME:EDT
DTSTART:20240310T070000
END:DAYLIGHT
BEGIN:STANDARD
TZOFFSETFROM:-0400
TZOFFSETTO:-0500
TZNAME:EST
DTSTART:20241103T060000
END:STANDARD
END:VTIMEZONE
BEGIN:VEVENT
DTSTART;TZID=America/New_York:20230714T200000
DTEND;TZID=America/New_York:20230714T230000
DTSTAMP:20260422T070551
CREATED:20230630T192448Z
LAST-MODIFIED:20230630T192708Z
UID:35989-1689364800-1689375600@notoriousjazz.com
SUMMARY:ADAM HAWLEY
DESCRIPTION:Ten #1 hits. 65+ dates per year. smooth jazz guitarist Adam Hawley has burst on to the scene as a celebrated and innovative artist\, composer and band leader. Originally signed to Maurice White’s (founder of Earth\, Wind\, & Fire) label Kalimba Music\, Adam’s first two albums “Double Vision” and “Just the Beginning” spawned an incredible Six #1 Hits\, an unprecedented feat for a new artist. \nHe followed that up with “Escape” which included the 2020 Billboard Song Of The Year “To The Top.” In 2021 Adam set out with the exciting fourth album “Risin’ Up” which features Steve Cole\, Vincent Ingala\, Julian Vaughn\, Riley Richard & Kat Hawley anchored by the thrilling first single “Risin’ Up.”
URL:https://notoriousjazz.com/event/adam-hawley
LOCATION:Blu Jazz+\, 47 E Market Street\, Akron\, OH\, 44308\, United States
CATEGORIES:Club
ATTACH;FMTTYPE=image/png:https://notoriousjazz.com/wp-content/uploads/2023/06/ADAM-HAWLEY.png
END:VEVENT
END:VCALENDAR