BEGIN:VCALENDAR
VERSION:2.0
PRODID:-//Notorious Jazz - ECPv6.15.17//NONSGML v1.0//EN
CALSCALE:GREGORIAN
METHOD:PUBLISH
X-WR-CALNAME:Notorious Jazz
X-ORIGINAL-URL:https://notoriousjazz.com
X-WR-CALDESC:Events for Notorious Jazz
REFRESH-INTERVAL;VALUE=DURATION:PT1H
X-Robots-Tag:noindex
X-PUBLISHED-TTL:PT1H
BEGIN:VTIMEZONE
TZID:America/New_York
BEGIN:DAYLIGHT
TZOFFSETFROM:-0500
TZOFFSETTO:-0400
TZNAME:EDT
DTSTART:20220313T070000
END:DAYLIGHT
BEGIN:STANDARD
TZOFFSETFROM:-0400
TZOFFSETTO:-0500
TZNAME:EST
DTSTART:20221106T060000
END:STANDARD
BEGIN:DAYLIGHT
TZOFFSETFROM:-0500
TZOFFSETTO:-0400
TZNAME:EDT
DTSTART:20230312T070000
END:DAYLIGHT
BEGIN:STANDARD
TZOFFSETFROM:-0400
TZOFFSETTO:-0500
TZNAME:EST
DTSTART:20231105T060000
END:STANDARD
BEGIN:DAYLIGHT
TZOFFSETFROM:-0500
TZOFFSETTO:-0400
TZNAME:EDT
DTSTART:20240310T070000
END:DAYLIGHT
BEGIN:STANDARD
TZOFFSETFROM:-0400
TZOFFSETTO:-0500
TZNAME:EST
DTSTART:20241103T060000
END:STANDARD
END:VTIMEZONE
BEGIN:VEVENT
DTSTART;TZID=America/New_York:20230721T200000
DTEND;TZID=America/New_York:20230721T213000
DTSTAMP:20260422T070556
CREATED:20230714T113810Z
LAST-MODIFIED:20230714T113810Z
UID:36172-1689969600-1689975000@notoriousjazz.com
SUMMARY:RONI BEN~HUR TRIO
DESCRIPTION:Israeli jazz guitarist who immigrated to the United States in 1985. His parents were Tunisian-Jewish from Tunisia. \nRoni Bohobza grew up in Dimona\, Israel. He is the youngest of seven children and one of two born after the family emigrated from Tunisia in 1955. His surname was legally changed to Ben-Hur via ritual at age 10. \nWhen he was eleven\, he started playing guitar. He learned about jazz from a high school’s friend’s record collection. In Israel he performed in clubs and at weddings and bar mitzvahs until he had enough money to move to the U.S. He arrived in New York City in 1985\, spending time at Barry Harris’s Jazz Cultural Theater. He took lessons from Harris\, then became a member of his band.[3] \nBen-Hur’s experience as an educator dates back to 1981 in Israel. In the U.S. he started jazz music programs at Professional Performing Arts School\, the Coalition School for Social Change\, and at the Lucy Moses School. At the request of Bette Midler\, he started a jazz program for New York City high schools. Ben-Hur began a jazz camp in Saint-Cézaire-sur-Siagne\, France\, with Santi Debriano. With Nilson Matta\, he began a jazz and Brazilian music camp in Bar Harbor\, Maine\, both intended for adult jazz amateurs. He is the founding director of the jazz program at the Lucy Moses School at Kaufman Center in Manhattan where he teaches. \nRoni Ben~Hur ~ guitar | Jason Tiemann ~ drums | Harvie S ~ bass
URL:https://notoriousjazz.com/event/roni-benhur-trio
LOCATION:Maureen’s Jazz Cellar\, 2 N Broadway\, Nyack\, NY\, 10960\, United States
CATEGORIES:Club
ATTACH;FMTTYPE=image/jpeg:https://notoriousjazz.com/wp-content/uploads/2023/07/RONI-BENHUR.jpg
END:VEVENT
END:VCALENDAR