BEGIN:VCALENDAR
VERSION:2.0
PRODID:-//Notorious Jazz - ECPv6.15.17//NONSGML v1.0//EN
CALSCALE:GREGORIAN
METHOD:PUBLISH
X-WR-CALNAME:Notorious Jazz
X-ORIGINAL-URL:https://notoriousjazz.com
X-WR-CALDESC:Events for Notorious Jazz
REFRESH-INTERVAL;VALUE=DURATION:PT1H
X-Robots-Tag:noindex
X-PUBLISHED-TTL:PT1H
BEGIN:VTIMEZONE
TZID:America/New_York
BEGIN:DAYLIGHT
TZOFFSETFROM:-0500
TZOFFSETTO:-0400
TZNAME:EDT
DTSTART:20220313T070000
END:DAYLIGHT
BEGIN:STANDARD
TZOFFSETFROM:-0400
TZOFFSETTO:-0500
TZNAME:EST
DTSTART:20221106T060000
END:STANDARD
BEGIN:DAYLIGHT
TZOFFSETFROM:-0500
TZOFFSETTO:-0400
TZNAME:EDT
DTSTART:20230312T070000
END:DAYLIGHT
BEGIN:STANDARD
TZOFFSETFROM:-0400
TZOFFSETTO:-0500
TZNAME:EST
DTSTART:20231105T060000
END:STANDARD
BEGIN:DAYLIGHT
TZOFFSETFROM:-0500
TZOFFSETTO:-0400
TZNAME:EDT
DTSTART:20240310T070000
END:DAYLIGHT
BEGIN:STANDARD
TZOFFSETFROM:-0400
TZOFFSETTO:-0500
TZNAME:EST
DTSTART:20241103T060000
END:STANDARD
END:VTIMEZONE
BEGIN:VEVENT
DTSTART;TZID=America/New_York:20230811T190000
DTEND;TZID=America/New_York:20230812T230000
DTSTAMP:20260422T055453
CREATED:20230701T191325Z
LAST-MODIFIED:20230701T191548Z
UID:36013-1691780400-1691881200@notoriousjazz.com
SUMMARY:RODNEY JONES QUARTET
DESCRIPTION:Guitarist Rodney Jones has worked with Jaki Byard\, Chico Hamilton\, Dizzy Gillespie\, and Lena Horne and as a bandleader. He is cited as a jazz guitarist who uses modern quartal harmony. Jones is a faculty member at Juilliard. \nThe Quartet features Ron Blake\, Lonnie Plaxico and Carl Allen \nShowtimes: 7:00pm | 9:30pm
URL:https://notoriousjazz.com/event/rodney-jordan-quartet
LOCATION:Jazz Forum Arts\, 1 Dixon Lane\, Tarrytown\, NY\, 10591\, United States
CATEGORIES:Club
ATTACH;FMTTYPE=image/png:https://notoriousjazz.com/wp-content/uploads/2023/07/RODNEY-JORDAN.png
END:VEVENT
BEGIN:VEVENT
DTSTART;TZID=America/New_York:20230811T190000
DTEND;TZID=America/New_York:20230812T230000
DTSTAMP:20260422T055453
CREATED:20230808T212805Z
LAST-MODIFIED:20230808T212805Z
UID:36612-1691780400-1691881200@notoriousjazz.com
SUMMARY:RODNEY JONES
DESCRIPTION:A foursome of world-class musicians who have worked with countless top talents (like Herbie Hancock\, Dizzy Gillespie\, James Brown\, Stevie Wonder) Rodney Jones Quartet thrills audiences worldwide by not just playing straight ahead jazz at its highest level\, but performing for the audience\, sharing stories about the music and its meaning. \nBandleader Jones was also the Apollo Theater house guitarist and staff guitarist on Rosie O’Donnell’s TV show. Jazz Times called him a “consummate guitarist.” \nFeaturing Rodney Jones\, guitar | Ron Blake\, saxophone | Lonnie Plaxico\, bass | Ronnie Burrage\, drums
URL:https://notoriousjazz.com/event/rodney-jones
LOCATION:Jazz Forum Arts\, 1 Dixon Lane\, Tarrytown\, NY\, 10591\, United States
CATEGORIES:Club
ATTACH;FMTTYPE=image/jpeg:https://notoriousjazz.com/wp-content/uploads/2023/08/RODNEY-JONES-QUARTET.jpg
END:VEVENT
END:VCALENDAR