BEGIN:VCALENDAR
VERSION:2.0
PRODID:-//Notorious Jazz - ECPv6.15.17//NONSGML v1.0//EN
CALSCALE:GREGORIAN
METHOD:PUBLISH
X-ORIGINAL-URL:https://notoriousjazz.com
X-WR-CALDESC:Events for Notorious Jazz
REFRESH-INTERVAL;VALUE=DURATION:PT1H
X-Robots-Tag:noindex
X-PUBLISHED-TTL:PT1H
BEGIN:VTIMEZONE
TZID:America/Los_Angeles
BEGIN:DAYLIGHT
TZOFFSETFROM:-0800
TZOFFSETTO:-0700
TZNAME:PDT
DTSTART:20220313T100000
END:DAYLIGHT
BEGIN:STANDARD
TZOFFSETFROM:-0700
TZOFFSETTO:-0800
TZNAME:PST
DTSTART:20221106T090000
END:STANDARD
BEGIN:DAYLIGHT
TZOFFSETFROM:-0800
TZOFFSETTO:-0700
TZNAME:PDT
DTSTART:20230312T100000
END:DAYLIGHT
BEGIN:STANDARD
TZOFFSETFROM:-0700
TZOFFSETTO:-0800
TZNAME:PST
DTSTART:20231105T090000
END:STANDARD
BEGIN:DAYLIGHT
TZOFFSETFROM:-0800
TZOFFSETTO:-0700
TZNAME:PDT
DTSTART:20240310T100000
END:DAYLIGHT
BEGIN:STANDARD
TZOFFSETFROM:-0700
TZOFFSETTO:-0800
TZNAME:PST
DTSTART:20241103T090000
END:STANDARD
END:VTIMEZONE
BEGIN:VEVENT
DTSTART;TZID=America/Los_Angeles:20230813T200000
DTEND;TZID=America/Los_Angeles:20230813T213000
DTSTAMP:20260422T055808
CREATED:20230617T203220Z
LAST-MODIFIED:20230617T203909Z
UID:35736-1691956800-1691962200@notoriousjazz.com
SUMMARY:GEORGE BENSON
DESCRIPTION:Ten-Time GRAMMY-award-winning artist\, George Benson\, has the rare distinction of being in the pop consciousness while remaining in the pantheon of jazz greats. With 36 studio albums and 8 live albums\, Benson has emerged as a household name best known for the 1976 three-time GRAMMY-winning album\, Breezin’\, boasting the pop-jazz vocal smash “This Masquerade\,” which topped the jazz\, pop\, and R&B charts. The album remains one of the best-selling jazz albums of all time and has since been certified 3x platinum. His 1980 soul-pop gem\, “Give Me The Night\,” produced by Quincy Jones and written by Rod Temperton (Michael Jackson)\, summited to the top of the soul single charts. In 2009\, Benson was awarded the NEA Jazz Masters Fellowship— the highest honor that our nation bestows on jazz artists. \nBenson is a consummate performer and an adventurous instrumentalist who remains an annual must-see artist. He regularly packs and\, o_en sells out\, such hallowed venues as The Hollywood Bowl\, Royal Albert Hall\, Hampton Court Palace\, and Sydney Opera House. Benson is also a marquee artist at many U.S. Jazz and international festivals\, including Montreux Jazz Fest. \nBenson’s recent accomplishments are varied and aplenty. He collaborated with subversive art-pop band\, Gorillaz\, featuring Blur’s Damon Albarn\, to co-write and perform on the track “Humility\,” which has amassed over 100 million YouTube views and counting. In 2021\, DJ Steve Aoki remixed Benson’s hit “Give Me The Night\,” with a rugged house beat introducing the irresistible R&B-pop gem to a whole new audience. His recent albums have earned features and rave reviews in the New York Times\, the Wall Street Journal\, American Songwriter\, Forbes\, and Newsweek. In 2020\, Benson was inducted into jazz bible DownBeat Magazine’s Hall Of Fame. The following year he was inducted by music legend Quincy Jones into New Jersey’s Hall Of Fame— an honor from which he received a personal congratulatory note from President Obama. \nParking: $30.00 advanced purchase | $35.00 day of \nValet: $40.00 advanced purchase | $45.00 day of (if not sold out)
URL:https://notoriousjazz.com/event/george-benson
LOCATION:Hyatt Regency Newport Beach\, 1107 Jamboree Road\, Newport Beach\, CA\, 92660\, United States
CATEGORIES:Concert
ATTACH;FMTTYPE=image/png:https://notoriousjazz.com/wp-content/uploads/2023/06/GEORGE-BENSON.png
END:VEVENT
END:VCALENDAR