BEGIN:VCALENDAR
VERSION:2.0
PRODID:-//Notorious Jazz - ECPv6.15.17//NONSGML v1.0//EN
CALSCALE:GREGORIAN
METHOD:PUBLISH
X-WR-CALNAME:Notorious Jazz
X-ORIGINAL-URL:https://notoriousjazz.com
X-WR-CALDESC:Events for Notorious Jazz
REFRESH-INTERVAL;VALUE=DURATION:PT1H
X-Robots-Tag:noindex
X-PUBLISHED-TTL:PT1H
BEGIN:VTIMEZONE
TZID:America/New_York
BEGIN:DAYLIGHT
TZOFFSETFROM:-0500
TZOFFSETTO:-0400
TZNAME:EDT
DTSTART:20220313T070000
END:DAYLIGHT
BEGIN:STANDARD
TZOFFSETFROM:-0400
TZOFFSETTO:-0500
TZNAME:EST
DTSTART:20221106T060000
END:STANDARD
BEGIN:DAYLIGHT
TZOFFSETFROM:-0500
TZOFFSETTO:-0400
TZNAME:EDT
DTSTART:20230312T070000
END:DAYLIGHT
BEGIN:STANDARD
TZOFFSETFROM:-0400
TZOFFSETTO:-0500
TZNAME:EST
DTSTART:20231105T060000
END:STANDARD
BEGIN:DAYLIGHT
TZOFFSETFROM:-0500
TZOFFSETTO:-0400
TZNAME:EDT
DTSTART:20240310T070000
END:DAYLIGHT
BEGIN:STANDARD
TZOFFSETFROM:-0400
TZOFFSETTO:-0500
TZNAME:EST
DTSTART:20241103T060000
END:STANDARD
END:VTIMEZONE
BEGIN:VEVENT
DTSTART;TZID=America/New_York:20231101T193000
DTEND;TZID=America/New_York:20231105T230000
DTSTAMP:20260421T231702
CREATED:20231029T185932Z
LAST-MODIFIED:20240121T034331Z
UID:37648-1698867000-1699225200@notoriousjazz.com
SUMMARY:RENÉ MARIE
DESCRIPTION:In a span of two decades\, 11 recordings\, and countless stage performances\, vocalist René Marie has cemented her reputation as not only a singer but also a composer\, arranger\, theatrical performer and teacher. Guided and tempered by powerful life lessons and rooted in jazz traditions laid down by Ella Fitzgerald\, Dinah Washington and other leading ladies of past generations\, she borrows various elements of folk\, R&B\, classical\, and country to create a captivating hybrid style. Her body of work is musical\, but it’s more than just music. It’s an exploration of all corners of the human experience\, an affirmation of the power of the human spirit. \nWhile neither of her parents were formally trained musicians\, radio and records of all kinds – blues\, folk\, bluegrass and classical – made up the soundtrack to her childhood. René had just one year of formal piano training at age nine\, then another year of lessons at age 13. During her teenage years\, she sang in a few R&B bands at musical functions in her community. She composed and sang her first piece with a band when she was 15. \nBut René put her musical aspirations aside to make room for the obligations and responsibilities of adulthood. She married a former bandmate when she was 18\, and by the mid-1990s\, she was the mother of two and working in a bank. When she was 41\, her older son convinced her to start singing again\, and she took a few tenuous steps into her local music scene\, singing for tips one night a week in a hotel bar. It would be several months before she actually earned any real living as a singer. \nRené made a series of profound course corrections that steered her back toward a full-time career in music. René’s self-produced CD\, Renaissance\, was released in 1999 and soon after in 2000\, she signed onto the MaxJazz label and recorded four more over the next four years. \nPerhaps more than most artists\, René understands music’s capacity to heal and inspire. Not only has she herself been the beneficiary of it\, but she has made every effort along the way to extend those same benefits to others. \nPrepaid Parking: $15.00
URL:https://notoriousjazz.com/event/rene-marie-3
LOCATION:Harold & Dorothy Steward Center For Jazz\, 3536 Washington Avenue\, St. Louis\, MO\, 63103\, United States
CATEGORIES:Concert
ATTACH;FMTTYPE=image/jpeg:https://notoriousjazz.com/wp-content/uploads/2023/10/RENE-MARIE.jpg
END:VEVENT
BEGIN:VEVENT
DTSTART;TZID=America/New_York:20231103T183000
DTEND;TZID=America/New_York:20231103T200000
DTSTAMP:20260421T231702
CREATED:20230820T205329Z
LAST-MODIFIED:20230820T205935Z
UID:36724-1699036200-1699041600@notoriousjazz.com
SUMMARY:JEAN CHAUMONT
DESCRIPTION:French jazz guitarist and composer who started playing guitar at fourteen years old\, after eight years of piano training. Two years later\, he began formally studying jazz music. He received a degree in jazz musical studies from the Conservatory of Orsay in 2004\, later rounding out this academic training by playing extensively in France with musicians such as Fiona Monbet\, Ibrahim Maalouf\, Armel Dupas\, and Karl Jannuska in venues such as Festival Jazz à Saint-Germain-des-Prés\, Charlie Jazz Festival\, Salle Pleyel\, and Sunset/Sunside. Alongside his performance work\, Chaumont was commissioned for various compositions and arrangements including the scoring of “Le Bonheur en Suspens\,” a full-length French documentary for France 3. \nChaumont moved to Princeton\, New Jersey in 2014. He began composing for his debut album\, The Beauty of Differences\, which was released on 15 June 2018. It received critical acclaim including a four-star review from Down Beat magazine and remained in the top 100 in jazz radio airplay for ten weeks in the United States\, according to JazzWeek. The Beauty of Differences features a core band with bassist Ike Sturm\, saxophonist Sam Sadigursky\, pianist Michael Bond\, and drummer Rudy Royston as well as Tierney Sutton\, Vinod Gnanaraj\, John Hadfield\, and Enoch Smith Jr. as guests. Its proceeds will finance the excavation of wells in the Sakata region of Malawi\, Africa through the Villages in Partnership organization. \nAdmission: $5.00 Donation ~ Cash Only | 25 and Younger: Free | Youth Arrive At 6:00pm For A Free Dinner
URL:https://notoriousjazz.com/event/jean-chaumont
LOCATION:Coffee Oasis\, 822 Burwell Street\, Bremerton\, WA\, 98337\, United States
CATEGORIES:Club
ATTACH;FMTTYPE=image/jpeg:https://notoriousjazz.com/wp-content/uploads/2023/08/JEAN-CHAUMONT.jpg
END:VEVENT
BEGIN:VEVENT
DTSTART;TZID=America/New_York:20231103T190000
DTEND;TZID=America/New_York:20231103T230000
DTSTAMP:20260421T231702
CREATED:20231024T005739Z
LAST-MODIFIED:20231029T172925Z
UID:37607-1699038000-1699052400@notoriousjazz.com
SUMMARY:EBBAN & EPHRAIM DORSEY: HOMECOMING
DESCRIPTION:The multi-talented siblings have been playing together since they were 10 and 11. They continue to strive with their gifts as they travel\, playing with some of the best local\, national and international recording artists. Their performances can be described as two different voices coming together to create a healing\, ethereal\, and emotional experience for the listeners\, as well as themselves. \nEbban Dorsey\, 19-year-old alto saxophonist\, composer\, and bandleader\, is from Baltimore\, Maryland and has studied with Blake Meister\, Carl Grubbs\, Tim Green\, and Gary Thomas. Ebban has gained a lot of experience playing Jazz and has even performed with Carl Grubbs\, Gary Bartz (Performed on a live recording for the documentary titled\, “Blues Chronicles”)\, Kamasi Washington\, John Lamkin\, Warren Wolf\, Benito Gonzales\, Kenny Garett\, Tia Fuller\, Sean Jones\, Wycliffe Gordon\, Tanya Darby\, Erica Von Kleist\, Mimi Jones\, Shamie Royston\, Reginald Thomas\, Allison Miller\, José James\, Matthew Stevens\, The Chuck Redd Band\, Christian Scott\, and many more. She was a member of NYO Jazz 2020 as well as NYO Jazz 2021 and recorded an album with the 2021 Jazz band. She has also performed a jazz rendition of “This Land is Your Land” at the Baltimore Orioles stadium as part of the “Women of Music” concert series\, and later performed the national anthem alongside Ephraim Dorsey for the 2020 season opener. Ebban Dorsey is an extraordinary musician with a bright future ahead of her. \nEphraim Dorsey\, 20-year-old tenor saxophonist\, composer\, and bandleader\, is from Baltimore\, Maryland and has studied with Blake Meister\, Carl Grubbs\, Tim Green\, and Gary Thomas. Ephraim has gained a lot of experience playing Jazz and has performed with Carl Grubbs\, Gary Bartz (Performed on a live recording for the documentary titled\, “Blues Chronicles”)\, Kamasi Washington (participated in a film project entitled\, “As told to G/D thyself”’\, which is available for viewing on iTunes and the Apple Store)\, Kenny Garett\, John Lamkin\, Warren Wolf\, Benito Gonzales (Performed with at the twins Jazz Club)\, Kris Funn\, Sean Jones\, Wycliffe Gordon\, Erica Von Kleist\, Reginald Thomas\, The Chuck Redd Band\, Christian Scott\, and many more. He was a member of NYO Jazz 2021 and recorded an album with the 2021 Jazz Band. Ephraim is a passionate Jazz musician and aims to share his gift with the rest of the world. \nTicket Fees: $1.70~$3.46
URL:https://notoriousjazz.com/event/ebban-ephraim-dorsey-homecoming
LOCATION:Keystone Korner Baltimore\, 1350 Lancaster Street\, Baltimore\, MD\, 21231\, United States
CATEGORIES:Club
ATTACH;FMTTYPE=image/png:https://notoriousjazz.com/wp-content/uploads/2023/10/EBBAN-EPHRAIM-DORSEY.png
END:VEVENT
BEGIN:VEVENT
DTSTART;TZID=America/New_York:20231103T193000
DTEND;TZID=America/New_York:20231104T230000
DTSTAMP:20260421T231702
CREATED:20231103T033451Z
LAST-MODIFIED:20231105T022505Z
UID:37730-1699039800-1699138800@notoriousjazz.com
SUMMARY:RUSSELL MALONE
DESCRIPTION:Russell Malone is one of the signature guitar players of his generation. The several recordings since 1992\, Malone is as well-known on the international circuit for helming a world-class quartet and trio as he is for his long-standing participation in Ron Carter’s Golden Striker Trio\, and his recent consequential contribution to the musical production of the likes of Sonny Rollins and Dianne Reeves\, who recruited Malone for his singular tone\, refined listening skills\, limitless chops\, and efflorescent imagination. \nIn all these circumstances\, Malone addresses the tradition on its own terms\, refracting the vocabularies and syntax of such heroes as Charlie Christian\, Chet Atkins\, George Van Eps\, Johnny Smith\, Wes Montgomery\, Grant Green\, Kenny Burrell\, Pat Martino\, and George Benson into an argot entirely his own. A master of all tempos\, a relentless swinger\, he spins his stories —in idioms ranging from the urban and down-home blues\, country\, gospel\, various corners of the American Songbook\, and hardcore jazz—with a soulful\, instantly recognizable instrumental voice\, and seasons them with sophisticated harmonies that are never “too hip for the room.”
URL:https://notoriousjazz.com/event/russell-malone-3
LOCATION:The Velvet Note\, 4075 Old Milton Parkway\, Alpharetta\, GA\, 30005\, United States
CATEGORIES:Club
ATTACH;FMTTYPE=image/png:https://notoriousjazz.com/wp-content/uploads/2023/11/RUSSELL-MALONE.png
END:VEVENT
END:VCALENDAR