BEGIN:VCALENDAR
VERSION:2.0
PRODID:-//Notorious Jazz - ECPv6.15.17//NONSGML v1.0//EN
CALSCALE:GREGORIAN
METHOD:PUBLISH
X-ORIGINAL-URL:https://notoriousjazz.com
X-WR-CALDESC:Events for Notorious Jazz
REFRESH-INTERVAL;VALUE=DURATION:PT1H
X-Robots-Tag:noindex
X-PUBLISHED-TTL:PT1H
BEGIN:VTIMEZONE
TZID:America/New_York
BEGIN:DAYLIGHT
TZOFFSETFROM:-0500
TZOFFSETTO:-0400
TZNAME:EDT
DTSTART:20220313T070000
END:DAYLIGHT
BEGIN:STANDARD
TZOFFSETFROM:-0400
TZOFFSETTO:-0500
TZNAME:EST
DTSTART:20221106T060000
END:STANDARD
BEGIN:DAYLIGHT
TZOFFSETFROM:-0500
TZOFFSETTO:-0400
TZNAME:EDT
DTSTART:20230312T070000
END:DAYLIGHT
BEGIN:STANDARD
TZOFFSETFROM:-0400
TZOFFSETTO:-0500
TZNAME:EST
DTSTART:20231105T060000
END:STANDARD
BEGIN:DAYLIGHT
TZOFFSETFROM:-0500
TZOFFSETTO:-0400
TZNAME:EDT
DTSTART:20240310T070000
END:DAYLIGHT
BEGIN:STANDARD
TZOFFSETFROM:-0400
TZOFFSETTO:-0500
TZNAME:EST
DTSTART:20241103T060000
END:STANDARD
END:VTIMEZONE
BEGIN:VEVENT
DTSTART;TZID=America/New_York:20231119T080000
DTEND;TZID=America/New_York:20231119T170000
DTSTAMP:20260421T231905
CREATED:20231105T165354Z
LAST-MODIFIED:20231105T165354Z
UID:37746-1700380800-1700413200@notoriousjazz.com
SUMMARY:KATE BAKER
DESCRIPTION:Kate Baker is a critically acclaimed jazz singer hailing from\, and currently residing in\, New Jersey. Her debut album\, 2022’s Return to Shore\, is a luminous guitar-and-voice duet with her late husband\, Vic Juris\, who passed away in 2019. \nThe throughline is Baker’s inimitable voice\, which resonates with her love of diverse musical inspirations — whether jazz\, Brazilian\, Latin\, or the blues. Be it English or Portuguese\, a Cole Porter standard or an Antônio Carlos Jobim composition\, Baker effortlessly makes herself right at home. \nFor two decades\, she frequently performed with Juris\, but that\, too\, isn’t the long and short of it. Across the years and decades\, the list of luminaries the native New Jerseyan has performed with is a cross-section of the global jazz landscape.
URL:https://notoriousjazz.com/event/kate-baker
LOCATION:Jazz Forum Arts\, 1 Dixon Lane\, Tarrytown\, NY\, 10591\, United States
CATEGORIES:Club
ATTACH;FMTTYPE=image/png:https://notoriousjazz.com/wp-content/uploads/2023/11/KATE-BAKER.png
END:VEVENT
END:VCALENDAR