BEGIN:VCALENDAR
VERSION:2.0
PRODID:-//Notorious Jazz - ECPv6.15.17//NONSGML v1.0//EN
CALSCALE:GREGORIAN
METHOD:PUBLISH
X-WR-CALNAME:Notorious Jazz
X-ORIGINAL-URL:https://notoriousjazz.com
X-WR-CALDESC:Events for Notorious Jazz
REFRESH-INTERVAL;VALUE=DURATION:PT1H
X-Robots-Tag:noindex
X-PUBLISHED-TTL:PT1H
BEGIN:VTIMEZONE
TZID:America/New_York
BEGIN:DAYLIGHT
TZOFFSETFROM:-0500
TZOFFSETTO:-0400
TZNAME:EDT
DTSTART:20220313T070000
END:DAYLIGHT
BEGIN:STANDARD
TZOFFSETFROM:-0400
TZOFFSETTO:-0500
TZNAME:EST
DTSTART:20221106T060000
END:STANDARD
BEGIN:DAYLIGHT
TZOFFSETFROM:-0500
TZOFFSETTO:-0400
TZNAME:EDT
DTSTART:20230312T070000
END:DAYLIGHT
BEGIN:STANDARD
TZOFFSETFROM:-0400
TZOFFSETTO:-0500
TZNAME:EST
DTSTART:20231105T060000
END:STANDARD
BEGIN:DAYLIGHT
TZOFFSETFROM:-0500
TZOFFSETTO:-0400
TZNAME:EDT
DTSTART:20240310T070000
END:DAYLIGHT
BEGIN:STANDARD
TZOFFSETFROM:-0400
TZOFFSETTO:-0500
TZNAME:EST
DTSTART:20241103T060000
END:STANDARD
END:VTIMEZONE
BEGIN:VEVENT
DTSTART;TZID=America/New_York:20231129T080000
DTEND;TZID=America/New_York:20231203T170000
DTSTAMP:20260421T213742
CREATED:20231029T212027Z
LAST-MODIFIED:20231029T212027Z
UID:37663-1701244800-1701622800@notoriousjazz.com
SUMMARY:WYCLIFFE GORDON
DESCRIPTION:American jazz trombonist\, arranger\, composer\, band leader\, and music educator Wycliffe Gordon will light up the bistro stage this November and December! \nWycliffe took an interest in jazz in 1980 when he was thirteen\, while listening to jazz records inherited from his great-aunt. The collection included a five-LP anthology produced by Sony-Columbia. In particular\, he was drawn to musicians like Louis Armstrong and the Hot Fives and Hot Sevens. His early works as a professional were with Wynton Marsalis and he later conducted the Jazz at Lincoln Center Orchestra in the premiere of his new\, original score for the 1925 silent film Body and Soul\, directed by Oscar Micheaux. \nKnown affectionately as “Pinecone\,” the Georgia-born trombonist also sings and plays didgeridoo\, trumpet\, soprano trombone\, tuba\, and piano. In 1995\, Gordon arranged and orchestrated the theme song for NPR’s All Things Considered. Make sure to catch these spirited performances that are sure to be bad to the bone! \nPrepaid Parking; $15.00
URL:https://notoriousjazz.com/event/wycliffe-gordon
LOCATION:Harold & Dorothy Steward Center For Jazz\, 3536 Washington Avenue\, St. Louis\, MO\, 63103\, United States
CATEGORIES:Concert
ATTACH;FMTTYPE=image/png:https://notoriousjazz.com/wp-content/uploads/2023/10/WYCLIFFE-GORDON.png
END:VEVENT
BEGIN:VEVENT
DTSTART;TZID=America/New_York:20231130T080000
DTEND;TZID=America/New_York:20231202T170000
DTSTAMP:20260421T213742
CREATED:20231029T202252Z
LAST-MODIFIED:20231029T210857Z
UID:37660-1701331200-1701536400@notoriousjazz.com
SUMMARY:NATE SMITH QUARTET
DESCRIPTION:Nate Smith [drums]\nChristian McBride [bass]\nMarquis Hill [trumpet]\nGeoffrey Keezer [piano] \nNate Smith is a drummer\, composer\, & producer from Chesapeake\, Virginia. His visceral\, instinctive\, and deep-rooted style of drumming has led to three GRAMMY® nominations and work with esteemed artists\, including: Pat Metheny\, Dave Holland\, Brittany Howard\, Van Hunt\, The Fearless Flyers\, Norah Jones\, and Somi. Smith fuses his original compositions with an eclectic mix of music\, including everything from jazz to R&B to hip-hop to pop. In recent years\, Smith’s viral videos have been viewed by millions of people\, underscoring his popularity as one of the most influential drummers of his generation. \nSmith will be joined by GRAMMY®-winning artists such as one of the foremost jazz bassists of his generation\, Christian McBride\, genre-spanning Chicago trumpeter Marquis Hill\, and virtuosic pianist Geoffrey Keezer! \n  \n 
URL:https://notoriousjazz.com/event/nate-smith-quartet
LOCATION:Keystone Korner Baltimore\, 1350 Lancaster Street\, Baltimore\, MD\, 21231\, United States
CATEGORIES:Club
ATTACH;FMTTYPE=image/jpeg:https://notoriousjazz.com/wp-content/uploads/2023/10/NATE-SMITH.jpg
END:VEVENT
BEGIN:VEVENT
DTSTART;TZID=America/New_York:20231130T200000
DTEND;TZID=America/New_York:20231130T220000
DTSTAMP:20260421T213742
CREATED:20231030T011938Z
LAST-MODIFIED:20231030T121220Z
UID:37672-1701374400-1701381600@notoriousjazz.com
SUMMARY:COWBOY BEBOP LIVE
DESCRIPTION:Cowboy Bebop LIVE is a complete multimedia experience highlighting the story of critically acclaimed anime\, COWBOY BEBOP\, on the big screen accompanied by live music from the soundtrack performed by the Bebop Bounty Big Band. \nThis 14-piece jazz ensemble features world-class musicians with members from the world famous Glenn Miller Orchestra\, the Jazz Orchestra at Dr. Phillips Center\, and the Walt Disney Company. This show is a completely one-of-a-kind production specifically designed to deliver an experience anime fans have never had before. Travel the solar system with anime’s most iconic soundtrack at Cowboy Bebop LIVE!
URL:https://notoriousjazz.com/event/cowboy-bebop-live
LOCATION:Variety Playhouse\, 1099 Euclid Ave NE\, Atlanta\, GA\, 30307\, United States
CATEGORIES:Concert
ATTACH;FMTTYPE=image/jpeg:https://notoriousjazz.com/wp-content/uploads/2023/10/COWBOY-BEBOP-LIVE.jpg
END:VEVENT
END:VCALENDAR