BEGIN:VCALENDAR
VERSION:2.0
PRODID:-//Notorious Jazz - ECPv6.15.17//NONSGML v1.0//EN
CALSCALE:GREGORIAN
METHOD:PUBLISH
X-WR-CALNAME:Notorious Jazz
X-ORIGINAL-URL:https://notoriousjazz.com
X-WR-CALDESC:Events for Notorious Jazz
REFRESH-INTERVAL;VALUE=DURATION:PT1H
X-Robots-Tag:noindex
X-PUBLISHED-TTL:PT1H
BEGIN:VTIMEZONE
TZID:America/New_York
BEGIN:DAYLIGHT
TZOFFSETFROM:-0500
TZOFFSETTO:-0400
TZNAME:EDT
DTSTART:20230312T070000
END:DAYLIGHT
BEGIN:STANDARD
TZOFFSETFROM:-0400
TZOFFSETTO:-0500
TZNAME:EST
DTSTART:20231105T060000
END:STANDARD
BEGIN:DAYLIGHT
TZOFFSETFROM:-0500
TZOFFSETTO:-0400
TZNAME:EDT
DTSTART:20240310T070000
END:DAYLIGHT
BEGIN:STANDARD
TZOFFSETFROM:-0400
TZOFFSETTO:-0500
TZNAME:EST
DTSTART:20241103T060000
END:STANDARD
BEGIN:DAYLIGHT
TZOFFSETFROM:-0500
TZOFFSETTO:-0400
TZNAME:EDT
DTSTART:20250309T070000
END:DAYLIGHT
BEGIN:STANDARD
TZOFFSETFROM:-0400
TZOFFSETTO:-0500
TZNAME:EST
DTSTART:20251102T060000
END:STANDARD
END:VTIMEZONE
BEGIN:VEVENT
DTSTART;TZID=America/New_York:20240108T200000
DTEND;TZID=America/New_York:20240108T230000
DTSTAMP:20260421T214313
CREATED:20240104T174513Z
LAST-MODIFIED:20240107T165833Z
UID:38552-1704744000-1704754800@notoriousjazz.com
SUMMARY:JACQUES LESURE
DESCRIPTION:The Detroit\, Michigan native  currently resides in Inglewood\, California. His style is classic and his innovative yet sincere approach to music are integral parts of his signature sound. \nHis sound is teeped in the rich tradition of mentors like George Benson\, Kenny Burrell and a host of others\, but expressed through his own voice. His music is steeped in Gospel\, Blues and improvised Black American Music. Jacques is proudly associated with the prestigious WJ3 Records imprint with three albums under his name\, lauded by DownBeat magazine.
URL:https://notoriousjazz.com/event/jacques-lesure
LOCATION:The Lighthouse Cafe\, 30 Pier Avenue\, Hermosa Beach\, CA\, 90254\, United States
CATEGORIES:Club
ATTACH;FMTTYPE=image/jpeg:https://notoriousjazz.com/wp-content/uploads/2024/01/JACQUES-LESURE.jpeg
END:VEVENT
END:VCALENDAR