BEGIN:VCALENDAR
VERSION:2.0
PRODID:-//Notorious Jazz - ECPv6.15.17//NONSGML v1.0//EN
CALSCALE:GREGORIAN
METHOD:PUBLISH
X-ORIGINAL-URL:https://notoriousjazz.com
X-WR-CALDESC:Events for Notorious Jazz
REFRESH-INTERVAL;VALUE=DURATION:PT1H
X-Robots-Tag:noindex
X-PUBLISHED-TTL:PT1H
BEGIN:VTIMEZONE
TZID:Europe/Warsaw
BEGIN:DAYLIGHT
TZOFFSETFROM:+0100
TZOFFSETTO:+0200
TZNAME:CEST
DTSTART:20230326T010000
END:DAYLIGHT
BEGIN:STANDARD
TZOFFSETFROM:+0200
TZOFFSETTO:+0100
TZNAME:CET
DTSTART:20231029T010000
END:STANDARD
BEGIN:DAYLIGHT
TZOFFSETFROM:+0100
TZOFFSETTO:+0200
TZNAME:CEST
DTSTART:20240331T010000
END:DAYLIGHT
BEGIN:STANDARD
TZOFFSETFROM:+0200
TZOFFSETTO:+0100
TZNAME:CET
DTSTART:20241027T010000
END:STANDARD
BEGIN:DAYLIGHT
TZOFFSETFROM:+0100
TZOFFSETTO:+0200
TZNAME:CEST
DTSTART:20250330T010000
END:DAYLIGHT
BEGIN:STANDARD
TZOFFSETFROM:+0200
TZOFFSETTO:+0100
TZNAME:CET
DTSTART:20251026T010000
END:STANDARD
END:VTIMEZONE
BEGIN:VEVENT
DTSTART;TZID=Europe/Warsaw:20240303T203000
DTEND;TZID=Europe/Warsaw:20240303T220000
DTSTAMP:20260421T163317
CREATED:20240128T070651Z
LAST-MODIFIED:20240128T072920Z
UID:39024-1709497800-1709503200@notoriousjazz.com
SUMMARY:CHRISTIAN SANDS
DESCRIPTION:Pianist Christian Sands brought a fresh perspective to the entire language of jazz. On his stunning album Be Water\, the pianist draws inspiration from the calm and power of water and meditates on the possibilities offered by echoing in its fluidity and malleability. \nOnly in his thirties\, Sands had already had a remarkable career trajectory\, touring and recording for many years with Inside Straight and the Christian McBride Trio\, as well as collaborating with musicians such as Gregory Porter\, Geri Allen\, Esperanza Spaulding and many others. The artist also serves as a creative ambassador for the Erroll Garner Foundation and is a resident of the Monterey Jazz Festival. \nTickets In Dollars: $49.02
URL:https://notoriousjazz.com/event/christian-sands-2
LOCATION:Jassmine\, Wilcza 73\, 00-670 Warsaw\, Poland
CATEGORIES:Club
ATTACH;FMTTYPE=image/jpeg:https://notoriousjazz.com/wp-content/uploads/2024/01/CHRISTIAN-SANDS-1.jpg
END:VEVENT
END:VCALENDAR