BEGIN:VCALENDAR
VERSION:2.0
PRODID:-//Notorious Jazz - ECPv6.15.17//NONSGML v1.0//EN
CALSCALE:GREGORIAN
METHOD:PUBLISH
X-WR-CALNAME:Notorious Jazz
X-ORIGINAL-URL:https://notoriousjazz.com
X-WR-CALDESC:Events for Notorious Jazz
REFRESH-INTERVAL;VALUE=DURATION:PT1H
X-Robots-Tag:noindex
X-PUBLISHED-TTL:PT1H
BEGIN:VTIMEZONE
TZID:America/New_York
BEGIN:DAYLIGHT
TZOFFSETFROM:-0500
TZOFFSETTO:-0400
TZNAME:EDT
DTSTART:20230312T070000
END:DAYLIGHT
BEGIN:STANDARD
TZOFFSETFROM:-0400
TZOFFSETTO:-0500
TZNAME:EST
DTSTART:20231105T060000
END:STANDARD
BEGIN:DAYLIGHT
TZOFFSETFROM:-0500
TZOFFSETTO:-0400
TZNAME:EDT
DTSTART:20240310T070000
END:DAYLIGHT
BEGIN:STANDARD
TZOFFSETFROM:-0400
TZOFFSETTO:-0500
TZNAME:EST
DTSTART:20241103T060000
END:STANDARD
BEGIN:DAYLIGHT
TZOFFSETFROM:-0500
TZOFFSETTO:-0400
TZNAME:EDT
DTSTART:20250309T070000
END:DAYLIGHT
BEGIN:STANDARD
TZOFFSETFROM:-0400
TZOFFSETTO:-0500
TZNAME:EST
DTSTART:20251102T060000
END:STANDARD
END:VTIMEZONE
BEGIN:VEVENT
DTSTART;TZID=America/New_York:20240313T200000
DTEND;TZID=America/New_York:20240313T213000
DTSTAMP:20260421T162304
CREATED:20240127T033409Z
LAST-MODIFIED:20240127T033525Z
UID:38985-1710360000-1710365400@notoriousjazz.com
SUMMARY:RICHARD BONA & ASANTE TRIO
DESCRIPTION:Experience the magic of Grammy-winning Cameroonian multi-instrumentalist Richard Bona\, known for his unique bass sound and captivating vocals! Bona beautifully blends African musical traditions with global jazz influences. \nHis collaborations with music legends and his role as an educator and mentor highlight his diverse talents. \nThe Asante Trio\, his latest ensemble\, showcases a fusion of Cuban\, Haitian\, and African sounds\, offering a truly unique musical experience!
URL:https://notoriousjazz.com/event/richard-bona-asante-trio
LOCATION:Faena Hotel Theater\, 3201 Collins Avenue\, Miami Beach\, FL\, 33140\, United States
CATEGORIES:Concert
ATTACH;FMTTYPE=image/jpeg:https://notoriousjazz.com/wp-content/uploads/2024/01/RICHARD-BONA.jpg
END:VEVENT
END:VCALENDAR