BEGIN:VCALENDAR
VERSION:2.0
PRODID:-//Notorious Jazz - ECPv6.15.17//NONSGML v1.0//EN
CALSCALE:GREGORIAN
METHOD:PUBLISH
X-ORIGINAL-URL:https://notoriousjazz.com
X-WR-CALDESC:Events for Notorious Jazz
REFRESH-INTERVAL;VALUE=DURATION:PT1H
X-Robots-Tag:noindex
X-PUBLISHED-TTL:PT1H
BEGIN:VTIMEZONE
TZID:America/New_York
BEGIN:DAYLIGHT
TZOFFSETFROM:-0500
TZOFFSETTO:-0400
TZNAME:EDT
DTSTART:20230312T070000
END:DAYLIGHT
BEGIN:STANDARD
TZOFFSETFROM:-0400
TZOFFSETTO:-0500
TZNAME:EST
DTSTART:20231105T060000
END:STANDARD
BEGIN:DAYLIGHT
TZOFFSETFROM:-0500
TZOFFSETTO:-0400
TZNAME:EDT
DTSTART:20240310T070000
END:DAYLIGHT
BEGIN:STANDARD
TZOFFSETFROM:-0400
TZOFFSETTO:-0500
TZNAME:EST
DTSTART:20241103T060000
END:STANDARD
BEGIN:DAYLIGHT
TZOFFSETFROM:-0500
TZOFFSETTO:-0400
TZNAME:EDT
DTSTART:20250309T070000
END:DAYLIGHT
BEGIN:STANDARD
TZOFFSETFROM:-0400
TZOFFSETTO:-0500
TZNAME:EST
DTSTART:20251102T060000
END:STANDARD
END:VTIMEZONE
BEGIN:VEVENT
DTSTART;TZID=America/New_York:20240407T193000
DTEND;TZID=America/New_York:20240407T210000
DTSTAMP:20260421T151351
CREATED:20230820T231139Z
LAST-MODIFIED:20230820T231156Z
UID:36733-1712518200-1712523600@notoriousjazz.com
SUMMARY:PAT METHENY
DESCRIPTION:Dream Box Tour | Kaufmann Concert Hall \nGuitar god Pat Metheny – one of the most revered and influential artists in jazz and beyond – joins us for an exclusive NYC appearance on his new Dream Box solo tour. \nAn unprecedented performance setting for the 20-time Grammy Award winner\, the concert features personal and fan favorites from Metheny’s remarkable nearly 50-year career\, with an emphasis on the “quiet electric guitar” aspects of his artistry in music Downbeat has hailed for its “unadorned\, heartfelt beauty.” \nMetheny says\, “[This] is something different for me – focused on the various ways of playing solo I have explored across all these decades\, in an evening that I think will be very special.” Performing on 12 guitars from his ever-growing collection\, this is a rare chance to hear the most personal side of this trailblazing artist.
URL:https://notoriousjazz.com/event/pat-metheny
LOCATION:92NY150\, 1395 Lexington Avenue\, New York\, NY\, 10128\, United States
CATEGORIES:Club
ATTACH;FMTTYPE=image/jpeg:https://notoriousjazz.com/wp-content/uploads/2023/08/PAT-METHENY.jpg
END:VEVENT
END:VCALENDAR