BEGIN:VCALENDAR
VERSION:2.0
PRODID:-//Notorious Jazz - ECPv6.15.17//NONSGML v1.0//EN
CALSCALE:GREGORIAN
METHOD:PUBLISH
X-ORIGINAL-URL:https://notoriousjazz.com
X-WR-CALDESC:Events for Notorious Jazz
REFRESH-INTERVAL;VALUE=DURATION:PT1H
X-Robots-Tag:noindex
X-PUBLISHED-TTL:PT1H
BEGIN:VTIMEZONE
TZID:America/New_York
BEGIN:DAYLIGHT
TZOFFSETFROM:-0500
TZOFFSETTO:-0400
TZNAME:EDT
DTSTART:20230312T070000
END:DAYLIGHT
BEGIN:STANDARD
TZOFFSETFROM:-0400
TZOFFSETTO:-0500
TZNAME:EST
DTSTART:20231105T060000
END:STANDARD
BEGIN:DAYLIGHT
TZOFFSETFROM:-0500
TZOFFSETTO:-0400
TZNAME:EDT
DTSTART:20240310T070000
END:DAYLIGHT
BEGIN:STANDARD
TZOFFSETFROM:-0400
TZOFFSETTO:-0500
TZNAME:EST
DTSTART:20241103T060000
END:STANDARD
BEGIN:DAYLIGHT
TZOFFSETFROM:-0500
TZOFFSETTO:-0400
TZNAME:EDT
DTSTART:20250309T070000
END:DAYLIGHT
BEGIN:STANDARD
TZOFFSETFROM:-0400
TZOFFSETTO:-0500
TZNAME:EST
DTSTART:20251102T060000
END:STANDARD
END:VTIMEZONE
BEGIN:VEVENT
DTSTART;TZID=America/New_York:20241122T200000
DTEND;TZID=America/New_York:20241122T220000
DTSTAMP:20260421T024743
CREATED:20241103T220230Z
LAST-MODIFIED:20241103T220230Z
UID:43283-1732305600-1732312800@notoriousjazz.com
SUMMARY:SHERYL BAILEY QUARTET
DESCRIPTION:Her own trio\, The Sheryl Bailey 3\, is a modernized version of the organ trio-“the ultimate organ trio” according to JazzInside Magazine. In addition to their 15-year plus residency at NYC’s 55 Bar\, they have toured China\, Canada\, Europe and the US. She also tours the world as a member of David Krakauer’s “Ancestral Groove”. A partial list of others with whom she has performed and recorded with includes Richard Bona\, George Garzone\, Lincoln Goines\, Kim Plainfield\, Bill O’Connell\, Mike LeDonne\, Irene Cara\, Lea Delaria\, Jack Wilkins\, Howard Alden\, Shingo Okudaira\, Ingrid Jensen\, Dwayne Burno\, Tommy Campbell\, Simon Woolf\, Alex Garnett and Ken Peplowski. \nSheryl is a Professor at Berklee College of Music\, and at the Collective in New York. In keeping with Sheryl’s philosophy of “giving back”\, her 2011 quartet release\, “For All Those Living” donates 20% of sales to the Ronald McDonald House of NYC. She has been an Artist in Residence at countless other programs\, including NYU\, Bates College\, the Stanford Jazz Workshop\, Towson University\, the LA Music Academy and GIT. In 2009\, Mel Bay published her book Moveable Shapes: Concepts for Re-Harmonizing II-V-I’s. She has also developed a complete curriculum in jazz improvisation for interactive cyber study via Truefire’s Guitar Sherpa program\, The Bebop Dojo. In addition she has top selling courses available from Mike’s Masterclasses\, Jazz Guitar Society\, JamPlay\, and Truefire. \nFeaturing Ian Froman\, Ron Owanski\, Mike Fahn \nCover: $25.00
URL:https://notoriousjazz.com/event/sheryl-bailey-quartet
LOCATION:Maureen’s Jazz Cellar\, 2 N Broadway\, Nyack\, NY\, 10960\, United States
CATEGORIES:Club
ATTACH;FMTTYPE=image/jpeg:https://notoriousjazz.com/wp-content/uploads/2024/11/SHERYL-BAILEY.jpg
END:VEVENT
END:VCALENDAR