BEGIN:VCALENDAR
VERSION:2.0
PRODID:-//Notorious Jazz - ECPv6.15.17//NONSGML v1.0//EN
CALSCALE:GREGORIAN
METHOD:PUBLISH
X-WR-CALNAME:Notorious Jazz
X-ORIGINAL-URL:https://notoriousjazz.com
X-WR-CALDESC:Events for Notorious Jazz
REFRESH-INTERVAL;VALUE=DURATION:PT1H
X-Robots-Tag:noindex
X-PUBLISHED-TTL:PT1H
BEGIN:VTIMEZONE
TZID:America/New_York
BEGIN:DAYLIGHT
TZOFFSETFROM:-0500
TZOFFSETTO:-0400
TZNAME:EDT
DTSTART:20240310T070000
END:DAYLIGHT
BEGIN:STANDARD
TZOFFSETFROM:-0400
TZOFFSETTO:-0500
TZNAME:EST
DTSTART:20241103T060000
END:STANDARD
BEGIN:DAYLIGHT
TZOFFSETFROM:-0500
TZOFFSETTO:-0400
TZNAME:EDT
DTSTART:20250309T070000
END:DAYLIGHT
BEGIN:STANDARD
TZOFFSETFROM:-0400
TZOFFSETTO:-0500
TZNAME:EST
DTSTART:20251102T060000
END:STANDARD
BEGIN:DAYLIGHT
TZOFFSETFROM:-0500
TZOFFSETTO:-0400
TZNAME:EDT
DTSTART:20260308T070000
END:DAYLIGHT
BEGIN:STANDARD
TZOFFSETFROM:-0400
TZOFFSETTO:-0500
TZNAME:EST
DTSTART:20261101T060000
END:STANDARD
END:VTIMEZONE
BEGIN:VEVENT
DTSTART;TZID=America/New_York:20250111T235900
DTEND;TZID=America/New_York:20250112T020000
DTSTAMP:20260420T214111
CREATED:20250105T212758Z
LAST-MODIFIED:20250105T213241Z
UID:44079-1736639940-1736647200@notoriousjazz.com
SUMMARY:BILL BANFIELD
DESCRIPTION:Jazz guitarist Bill Banfield’s father just turned 100 years old. At a recent celebration\, family and friends gathered virtually and in person to celebrate his life and ask his advice. Bill had been learning his father’s lessons for years\, but a recent phone conversation led his dad to give him the title for his new Mesa/Bluemoon Recordings album. As Bill tells it\, he was speaking with his dad when he suddenly realized that he had something else that he needed to do. His father said\, “Bill\, I will talk to you\, but you must TAKE TIME TO LISTEN.” The words hit Bill like a thunderbolt\, as his album was designed as encouragement to concentrate on the stories found deep in his music. \nBorn and raised in Detroit\, Banfield attended the prestigious arts magnet school\, Cass Tech. He was mentored by two of the city’s finest jazz guitarists\, Kenny Burrell and Earl Klugh. He also learned from the examples of masters George Benson\, John Scofield\, Emily Remler\, Pat Martino\, and Jack Wilkins. Banfield calls his approach “solo-voiced guitar\,” reflecting his belief that imagination and emotion are essential ingredients in all great music\, and that his playing comes directly from his heart. Banfield dedicates Take Time To Listen  to Burrell and Klugh “to lift up these jazz guitar icons who greatly inspired and coached me as an early teen as I aspired to be like my heroes.” \nCover: $20.00
URL:https://notoriousjazz.com/event/bill-banfield
LOCATION:Blue Note ~ New York\, 131 W. 3rd Street\, New York City\, NY\, 10012\, United States
CATEGORIES:Club
ATTACH;FMTTYPE=image/png:https://notoriousjazz.com/wp-content/uploads/2025/01/BILL-BANFIELD-BLUE-NOTE-NY.png
END:VEVENT
END:VCALENDAR