BEGIN:VCALENDAR
VERSION:2.0
PRODID:-//Notorious Jazz - ECPv6.15.17//NONSGML v1.0//EN
CALSCALE:GREGORIAN
METHOD:PUBLISH
X-ORIGINAL-URL:https://notoriousjazz.com
X-WR-CALDESC:Events for Notorious Jazz
REFRESH-INTERVAL;VALUE=DURATION:PT1H
X-Robots-Tag:noindex
X-PUBLISHED-TTL:PT1H
BEGIN:VTIMEZONE
TZID:America/Chicago
BEGIN:DAYLIGHT
TZOFFSETFROM:-0600
TZOFFSETTO:-0500
TZNAME:CDT
DTSTART:20240310T080000
END:DAYLIGHT
BEGIN:STANDARD
TZOFFSETFROM:-0500
TZOFFSETTO:-0600
TZNAME:CST
DTSTART:20241103T070000
END:STANDARD
BEGIN:DAYLIGHT
TZOFFSETFROM:-0600
TZOFFSETTO:-0500
TZNAME:CDT
DTSTART:20250309T080000
END:DAYLIGHT
BEGIN:STANDARD
TZOFFSETFROM:-0500
TZOFFSETTO:-0600
TZNAME:CST
DTSTART:20251102T070000
END:STANDARD
BEGIN:DAYLIGHT
TZOFFSETFROM:-0600
TZOFFSETTO:-0500
TZNAME:CDT
DTSTART:20260308T080000
END:DAYLIGHT
BEGIN:STANDARD
TZOFFSETFROM:-0500
TZOFFSETTO:-0600
TZNAME:CST
DTSTART:20261101T070000
END:STANDARD
END:VTIMEZONE
BEGIN:VEVENT
DTSTART;TZID=America/Chicago:20250503T080000
DTEND;TZID=America/Chicago:20250503T170000
DTSTAMP:20260420T144528
CREATED:20250503T231237Z
LAST-MODIFIED:20250503T231504Z
UID:45642-1746259200-1746291600@notoriousjazz.com
SUMMARY:JEROME DEGEY
DESCRIPTION:Jerome Degey is a platinum and gold producer\, orchestrator\, arranger\, and guitarist based in Nashville. He is originally from Paris\, France. With his French and Afro-Caribbean family heritage and Parisian upbringing\, Jerome has developed a deep appreciation and talent for seamlessly blending global influences into his work\, making him one of his generation’s most sought-after musicians and producers. \nMost recently\, Jerome produced\, orchestrated\, arranged\, and mixed Max Abrams’ new album\, Samba Americana. This expansive project features sophisticated philharmonic orchestrations and intricate rhythms\, highlighting his ability to fuse jazz with Latin and world music. \nIn addition to his production and arranging work\, Jerome is a passionate performer. He fronts the world jazz band Caravan Tales\, a project that blends jazz with world music. He also leads his own Jazz Quartet\, where his virtuosity as a guitarist and composer shines. He performs regularly in Nashville with prominent players such as Marcus Finnie and Teymur Phell or legends like Danny Gottlieb\, Duffy Jackson\, and Chester Thompson. \nCover: $14.00
URL:https://notoriousjazz.com/event/jerome-degey
LOCATION:Rudy’s Jazz Room\, 809 Gleaves Street\, Nashville\, TN\, 37203\, United States
CATEGORIES:Club
ATTACH;FMTTYPE=image/png:https://notoriousjazz.com/wp-content/uploads/2025/05/JEROME-DEGEY-@-RUDYS-JAZZ-ROOM.png
END:VEVENT
END:VCALENDAR