BEGIN:VCALENDAR
VERSION:2.0
PRODID:-//Notorious Jazz - ECPv6.15.17//NONSGML v1.0//EN
CALSCALE:GREGORIAN
METHOD:PUBLISH
X-ORIGINAL-URL:https://notoriousjazz.com
X-WR-CALDESC:Events for Notorious Jazz
REFRESH-INTERVAL;VALUE=DURATION:PT1H
X-Robots-Tag:noindex
X-PUBLISHED-TTL:PT1H
BEGIN:VTIMEZONE
TZID:America/New_York
BEGIN:DAYLIGHT
TZOFFSETFROM:-0500
TZOFFSETTO:-0400
TZNAME:EDT
DTSTART:20240310T070000
END:DAYLIGHT
BEGIN:STANDARD
TZOFFSETFROM:-0400
TZOFFSETTO:-0500
TZNAME:EST
DTSTART:20241103T060000
END:STANDARD
BEGIN:DAYLIGHT
TZOFFSETFROM:-0500
TZOFFSETTO:-0400
TZNAME:EDT
DTSTART:20250309T070000
END:DAYLIGHT
BEGIN:STANDARD
TZOFFSETFROM:-0400
TZOFFSETTO:-0500
TZNAME:EST
DTSTART:20251102T060000
END:STANDARD
BEGIN:DAYLIGHT
TZOFFSETFROM:-0500
TZOFFSETTO:-0400
TZNAME:EDT
DTSTART:20260308T070000
END:DAYLIGHT
BEGIN:STANDARD
TZOFFSETFROM:-0400
TZOFFSETTO:-0500
TZNAME:EST
DTSTART:20261101T060000
END:STANDARD
END:VTIMEZONE
BEGIN:VEVENT
DTSTART;TZID=America/New_York:20251219T190000
DTEND;TZID=America/New_York:20251219T210000
DTSTAMP:20260420T004159
CREATED:20251216T011425Z
LAST-MODIFIED:20251216T011425Z
UID:48396-1766170800-1766178000@notoriousjazz.com
SUMMARY:JOHN PIZZARELLI
DESCRIPTION:World-renowned guitarist and vocalist John Pizzarelli has dedicated many of his albums to the great songwriters and performers who have helped to establish the Great American Songbook and the pop music canon: Nat King Cole\, Frank Sinatra\, Paul McCartney\, Richard Rodgers\, and Duke Ellington\, to name a few. With his new album\, Pizzarelli and his remarkable new trio cast a wider net to explore other sources for the most immortal songs of the past century: the Broadway stage and the silver screen. \nCover: $48.05
URL:https://notoriousjazz.com/event/john-pizzarelli-4
LOCATION:Scullers Jazz Club\, 400 Soldiers Field Road\, Boston\, MA\, 02134\, United States
CATEGORIES:Club
ATTACH;FMTTYPE=image/png:https://notoriousjazz.com/wp-content/uploads/2025/12/JOHN-PIZZARELLI-@-SCULLERS.png
END:VEVENT
END:VCALENDAR