BEGIN:VCALENDAR
VERSION:2.0
PRODID:-//Notorious Jazz - ECPv6.15.17//NONSGML v1.0//EN
CALSCALE:GREGORIAN
METHOD:PUBLISH
X-ORIGINAL-URL:https://notoriousjazz.com
X-WR-CALDESC:Events for Notorious Jazz
REFRESH-INTERVAL;VALUE=DURATION:PT1H
X-Robots-Tag:noindex
X-PUBLISHED-TTL:PT1H
BEGIN:VTIMEZONE
TZID:America/New_York
BEGIN:DAYLIGHT
TZOFFSETFROM:-0500
TZOFFSETTO:-0400
TZNAME:EDT
DTSTART:20250309T070000
END:DAYLIGHT
BEGIN:STANDARD
TZOFFSETFROM:-0400
TZOFFSETTO:-0500
TZNAME:EST
DTSTART:20251102T060000
END:STANDARD
BEGIN:DAYLIGHT
TZOFFSETFROM:-0500
TZOFFSETTO:-0400
TZNAME:EDT
DTSTART:20260308T070000
END:DAYLIGHT
BEGIN:STANDARD
TZOFFSETFROM:-0400
TZOFFSETTO:-0500
TZNAME:EST
DTSTART:20261101T060000
END:STANDARD
BEGIN:DAYLIGHT
TZOFFSETFROM:-0500
TZOFFSETTO:-0400
TZNAME:EDT
DTSTART:20270314T070000
END:DAYLIGHT
BEGIN:STANDARD
TZOFFSETFROM:-0400
TZOFFSETTO:-0500
TZNAME:EST
DTSTART:20271107T060000
END:STANDARD
END:VTIMEZONE
BEGIN:VEVENT
DTSTART;TZID=America/New_York:20260613T170000
DTEND;TZID=America/New_York:20260614T220000
DTSTAMP:20260419T182440
CREATED:20260226T211154Z
LAST-MODIFIED:20260226T213213Z
UID:49019-1781370000-1781474400@notoriousjazz.com
SUMMARY:JOHN PIZZARELLI
DESCRIPTION:Grammy winning producer\, guitarist and vocalist John Pizzarelli celebrates the centennial of iconic singer Tony Bennett with a pair of heartfelt tributes Dear Mr. Bennett\, to be released March 3\, 2026\, which features Pizzarelli’s trio performing timeless songs made famous by Bennett. \nFor world-renowned guitarist and vocalist John Pizzarelli\, Tony Bennett was more than simply an influence. Pizzarelli’s late father\, the revered guitarist Bucky Pizzarelli\, was a frequent sideman for the legendary singer\, appearing on albums including 1960’s To My Wonderful One and 1969’s I’ve Gotta Be Me. John got his own opportunity to accompany Bennett for a radio broadcast that also featured pianist Ralph Sharon and bassist Jay Leonhart. The admiration was mutual – Bennett could be found in the audience for a number of Pizzarelli’s performances\, and sketched his likeness on two occasions. The charming artwork that graces the cover of Pizzarelli’s heartfelt new tribute album\, Dear Mr. Bennett\, was rendered during an engagement at Feinstein’s nightclub at New York’s Loews Regency hotel. \nJohn Pizzarelli ~ guitar and vocals\nIsaiah J. Thompson ~ piano\nMike Karn ~ double bass \nTickets: Streaming $15.00 +fee | GA $45.00 ~ $55.00 +fee
URL:https://notoriousjazz.com/event/john-pizzarelli-5
LOCATION:Keystone Korner Baltimore\, 1350 Lancaster Street\, Baltimore\, MD\, 21231\, United States
CATEGORIES:Club
ATTACH;FMTTYPE=image/png:https://notoriousjazz.com/wp-content/uploads/2026/02/JOHN-PIZZARELLI-@-KEYSTONE-KORNER.png
END:VEVENT
END:VCALENDAR