BEGIN:VCALENDAR
VERSION:2.0
PRODID:-//Notorious Jazz - ECPv6.15.17//NONSGML v1.0//EN
CALSCALE:GREGORIAN
METHOD:PUBLISH
X-WR-CALNAME:Notorious Jazz
X-ORIGINAL-URL:https://notoriousjazz.com
X-WR-CALDESC:Events for Notorious Jazz
REFRESH-INTERVAL;VALUE=DURATION:PT1H
X-Robots-Tag:noindex
X-PUBLISHED-TTL:PT1H
BEGIN:VTIMEZONE
TZID:America/New_York
BEGIN:DAYLIGHT
TZOFFSETFROM:-0500
TZOFFSETTO:-0400
TZNAME:EDT
DTSTART:20230312T070000
END:DAYLIGHT
BEGIN:STANDARD
TZOFFSETFROM:-0400
TZOFFSETTO:-0500
TZNAME:EST
DTSTART:20231105T060000
END:STANDARD
BEGIN:DAYLIGHT
TZOFFSETFROM:-0500
TZOFFSETTO:-0400
TZNAME:EDT
DTSTART:20240310T070000
END:DAYLIGHT
BEGIN:STANDARD
TZOFFSETFROM:-0400
TZOFFSETTO:-0500
TZNAME:EST
DTSTART:20241103T060000
END:STANDARD
BEGIN:DAYLIGHT
TZOFFSETFROM:-0500
TZOFFSETTO:-0400
TZNAME:EDT
DTSTART:20250309T070000
END:DAYLIGHT
BEGIN:STANDARD
TZOFFSETFROM:-0400
TZOFFSETTO:-0500
TZNAME:EST
DTSTART:20251102T060000
END:STANDARD
END:VTIMEZONE
BEGIN:VEVENT
DTSTART;TZID=America/New_York:20240206T193000
DTEND;TZID=America/New_York:20240206T223000
DTSTAMP:20260421T160937
CREATED:20240203T204157Z
LAST-MODIFIED:20240203T204157Z
UID:39194-1707247800-1707258600@notoriousjazz.com
SUMMARY:HENDRIK MEURKENS QUINTET
DESCRIPTION:Hendrik Meurkens\, a virtuoso on both the chromatic harmonica and the vibraphone\, is the most important jazz harmonica player since Toots Thielemans. German-born but now based in New York\, Meurkens’ recordings and performances garner worldwide acclaim because the transcendent beauty of his music has universal appeal. \nA two-mallet player in the tradition of Milt Jackson and Bobby Hutcherson\, Hendrik Meurkens was en-route to being an instantly recognizable vibraphonist when he heard Toots Thielemans. Inspired by the sound of Thielemans’ harmonica\, he taught himself the difficult-to-master instrument. \nHendrik Meurkens’ other life-changing musical experience was his introduction to samba and bossa nova. He was so moved by Brazilian music that after perfecting his unique musical voice at Berklee\, as a vibraphone major\, he moved to Rio in the early 80s to totally immerse himself in music and culture of Brazil. \n\n\n\n\nSets: 7:30pm & 9:00pm
URL:https://notoriousjazz.com/event/hendrik-meurkens-quintet
LOCATION:Smalls\, 183 West 10th Street - Basement\, New York City\, NY\, 10014\, United States
CATEGORIES:Club
ATTACH;FMTTYPE=image/jpeg:https://notoriousjazz.com/wp-content/uploads/2024/02/HENDRIK-MEURKENS.jpg
END:VEVENT
END:VCALENDAR