BEGIN:VCALENDAR
VERSION:2.0
PRODID:-//Notorious Jazz - ECPv6.15.17//NONSGML v1.0//EN
CALSCALE:GREGORIAN
METHOD:PUBLISH
X-ORIGINAL-URL:https://notoriousjazz.com
X-WR-CALDESC:Events for Notorious Jazz
REFRESH-INTERVAL;VALUE=DURATION:PT1H
X-Robots-Tag:noindex
X-PUBLISHED-TTL:PT1H
BEGIN:VTIMEZONE
TZID:America/New_York
BEGIN:DAYLIGHT
TZOFFSETFROM:-0500
TZOFFSETTO:-0400
TZNAME:EDT
DTSTART:20220313T070000
END:DAYLIGHT
BEGIN:STANDARD
TZOFFSETFROM:-0400
TZOFFSETTO:-0500
TZNAME:EST
DTSTART:20221106T060000
END:STANDARD
BEGIN:DAYLIGHT
TZOFFSETFROM:-0500
TZOFFSETTO:-0400
TZNAME:EDT
DTSTART:20230312T070000
END:DAYLIGHT
BEGIN:STANDARD
TZOFFSETFROM:-0400
TZOFFSETTO:-0500
TZNAME:EST
DTSTART:20231105T060000
END:STANDARD
BEGIN:DAYLIGHT
TZOFFSETFROM:-0500
TZOFFSETTO:-0400
TZNAME:EDT
DTSTART:20240310T070000
END:DAYLIGHT
BEGIN:STANDARD
TZOFFSETFROM:-0400
TZOFFSETTO:-0500
TZNAME:EST
DTSTART:20241103T060000
END:STANDARD
END:VTIMEZONE
BEGIN:VEVENT
DTSTART;TZID=America/New_York:20230123T223000
DTEND;TZID=America/New_York:20230124T010000
DTSTAMP:20260422T152653
CREATED:20230103T195514Z
LAST-MODIFIED:20230104T185023Z
UID:33553-1674513000-1674522000@notoriousjazz.com
SUMMARY:YVONNICK PRENÉ QUINTET
DESCRIPTION:Yvonnick Prené was already playing the harmonica professionally by the age of 17 in Parisian jazz clubs. He later earned a master’s degree in music at the Sorbonne University in Paris\, in 2011 and while still enrolled\, he moved to New York City\, receiving multiple scholarships at the City College of New York\, Columbia University and at The New School for Jazz and Contemporary Music. \nPrené has worked with top artists like Pasquale Grasso\, Peter Bernstein\, Kevin Hays\, Bill Stewart\, and many others.
URL:https://notoriousjazz.com/event/yvonnick-prene-quintet
LOCATION:The Django\, 2 6th Avenue | The Roxy Hotel\, New York City\, NY\, 10013\, United States
CATEGORIES:Club
ATTACH;FMTTYPE=image/jpeg:https://notoriousjazz.com/wp-content/uploads/2023/01/YVONNICK-PRENE.jpg
END:VEVENT
END:VCALENDAR